BEGIN:VCALENDAR
VERSION:2.0
PRODID:-//jEvents 2.0 for Joomla//EN
CALSCALE:GREGORIAN
METHOD:PUBLISH
BEGIN:VTIMEZONE
TZID:Europe/Paris
BEGIN:STANDARD
DTSTART:20240118T000000
RDATE:20240331T030000
TZOFFSETFROM:+0200
TZOFFSETTO:+0100
TZNAME:Europe/Paris CET
END:STANDARD
BEGIN:STANDARD
DTSTART:20241027T020000
RDATE:20250330T030000
TZOFFSETFROM:+0200
TZOFFSETTO:+0100
TZNAME:Europe/Paris CET
END:STANDARD
BEGIN:STANDARD
DTSTART:20251026T020000
RDATE:20260329T030000
TZOFFSETFROM:+0200
TZOFFSETTO:+0100
TZNAME:Europe/Paris CET
END:STANDARD
BEGIN:STANDARD
DTSTART:20261025T020000
RDATE:20270328T030000
TZOFFSETFROM:+0200
TZOFFSETTO:+0100
TZNAME:Europe/Paris CET
END:STANDARD
BEGIN:DAYLIGHT
DTSTART:20240331T030000
RDATE:20241027T020000
TZOFFSETFROM:+0100
TZOFFSETTO:+0200
TZNAME:Europe/Paris CEST
END:DAYLIGHT
BEGIN:DAYLIGHT
DTSTART:20250330T030000
RDATE:20251026T020000
TZOFFSETFROM:+0100
TZOFFSETTO:+0200
TZNAME:Europe/Paris CEST
END:DAYLIGHT
BEGIN:DAYLIGHT
DTSTART:20260329T030000
RDATE:20261025T020000
TZOFFSETFROM:+0100
TZOFFSETTO:+0200
TZNAME:Europe/Paris CEST
END:DAYLIGHT
END:VTIMEZONE
BEGIN:VEVENT
UID:90ceba2c8ea9ecb8d8585761ed59f96f
CATEGORIES:Compétition Ski Alpin
CREATED:20250113T101926
SUMMARY:MICRO COUPE MEMORIAL GILLES LEMAIRE **REPORTE**
URL;VALUE=URI:https://skivosges.net/agenda/a-venir/detailevenement/2415/-/micro-coupe-mem
 orial-gilles-lemaire-reporte?tmpl=component
DESCRIPTION:<!-- #gskiepreuve code généré par le plugin jevents pour GskiEpreuves. Ne p
 as modifier cette ligne, ni tout le contenu suivant  #gskiepreuve --><div c
 lass="gski-evenement_infos"><div class="gski-evenement-nom">MICRO COUPE MEM
 ORIAL GILLES LEMAIRE</div><div class="gski-evenement-report"> <font class="
 gskiattention">(Epreuve reportée, date à determiner)</font></div><ul class=
 "gski-evenement-liste-infos"><li>Codex évenement AMVT0080</li><li>Lieu : LA
  BRESSE HOHNECK</li><li>Station : LA BRESSE</li><li>Piste : VOLOGNE</li><li
 >Organisateur : 14024 LA BRESSAUDE SECTION SKI</li><li>Courriel : <!-- Cett
 e adresse électronique est protégée contre les robots spammeurs. --><span c
 lass="cloaked_email ep_c387bc57"><span data-ep-a="o&#100;&#105;le" data-ep-
 b="&#102;r"><span data-ep-a="&#46;&#109;&#117;&#110;&#115;" data-ep-b="a&#1
 10;&#103;&#101;&#46;"><span data-ep-a="&#99;&#104;&#46;&#115;&#99;" data-ep
 -b="&#108;&#98;&#64;&#111;&#114;"></span></span></span></span><script>Regul
 arLabs.EmailProtector.unCloak("ep_c387bc57");</script></li><li><span class=
 "gski-evenement-obs">Délégué Technique : LEPAGE REMI</span></li></ul><div c
 lass="gski-evenement-infos-2"><div class="gski-evenement-info-inscriptions"
 ><div class="gski-evenement-inscriptions-periodes">Période d'inscription à 
 l'evènement du Samedi 11 Janvier 2025 à 00:00 au Vendredi 17 Janvier 2025 à
  17:00<div class="gski-evenement-inscriptions-types-titres">Inscriptions ou
 vertes aux detenteurs des titres Fédéraux valides suivants : Licenciés Comp
 étiteurs</div></div></div><div class="gskiepreuves-links"><ul><li><a href="
 /index.php?option=com_jevents&task=icalevent.detail&evid=2410&Itemid=6289">
 Voir les informations dans l'agenda...</a></li><li>Publications concernant 
 cet évènement :<ul><li><a href="/index.php?option=com_content&view=article&
 id=8516&Itemid=6289">Vendredi 3 Janvier 2025 à 20:25 : Le 04/01/2025 LA BRE
 SSE/Alpin Informations</a></li></ul></li></ul></div><div class="gski-evenem
 ent-epreuves"><div class="gski-evenement-epreuves-titres">Epreuves :</div><
 ul class="gski-evenement-epreuves-list"><li><div class="gski-epreuve-date">
 Le Samedi 18 Janvier 2025 à 09:30</div><ul class="gski-epreuve-liste-infos"
 ><li>Codex épreuve AMVM0081</li><li>Catégorie(s) : U8/U10 (Garçons)</li><li
 >Slalom Geant</li></ul></li><li><div class="gski-epreuve-date">Le Samedi 18
  Janvier 2025 à 09:30</div><ul class="gski-epreuve-liste-infos"><li>Codex é
 preuve AMVF0081</li><li>Catégorie(s) : U8/U10 (Filles)</li><li>Slalom Geant
 </li></ul></li></ul></div><div class="gskiepreuves-links"><ul><li><a href="
 /index.php?option=com_jevents&task=icalevent.detail&evid=2410&Itemid=6289">
 Voir les informations dans l'agenda...</a></li><li>Publications concernant 
 cet évènement :<ul><li><a href="/index.php?option=com_content&view=article&
 id=8516&Itemid=6289">Vendredi 3 Janvier 2025 à 20:25 : Le 04/01/2025 LA BRE
 SSE/Alpin Informations</a></li></ul></li></ul></div></div"><!-- #/gskiepreu
 ve fin du dode généré par le plugin jevents pour GskiEpreuves. . Ne pas mod
 ifier cette ligne, ni tout le contenu précedant.  #/gskiepreuve --> <a href
 ="https://skivosges.net/agenda/a-venir/detailevenement/2415/-/micro-coupe-m
 emorial-gilles-lemaire-reporte?tmpl=component">Cet évènement a été importé 
 depuis :https://skivosges.net/agenda/a-venir/detailevenement/2415/-/micro-c
 oupe-memorial-gilles-lemaire-reporte?tmpl=component</a>
X-ALT-DESC;FMTTYPE=text/html:<!-- #gskiepreuve code généré par le plugin jevents pour GskiEpreuves. Ne p
 as modifier cette ligne, ni tout le contenu suivant  #gskiepreuve --><div c
 lass="gski-evenement_infos"><div class="gski-evenement-nom">MICRO COUPE MEM
 ORIAL GILLES LEMAIRE</div><div class="gski-evenement-report"> <font class="
 gskiattention">(Epreuve reportée, date à determiner)</font></div><ul class=
 "gski-evenement-liste-infos"><li>Codex évenement AMVT0080</li><li>Lieu : LA
  BRESSE HOHNECK</li><li>Station : LA BRESSE</li><li>Piste : VOLOGNE</li><li
 >Organisateur : 14024 LA BRESSAUDE SECTION SKI</li><li>Courriel : <!-- Cett
 e adresse électronique est protégée contre les robots spammeurs. --><span c
 lass="cloaked_email ep_c387bc57"><span data-ep-a="o&#100;&#105;le" data-ep-
 b="&#102;r"><span data-ep-a="&#46;&#109;&#117;&#110;&#115;" data-ep-b="a&#1
 10;&#103;&#101;&#46;"><span data-ep-a="&#99;&#104;&#46;&#115;&#99;" data-ep
 -b="&#108;&#98;&#64;&#111;&#114;"></span></span></span></span><script>Regul
 arLabs.EmailProtector.unCloak("ep_c387bc57");</script></li><li><span class=
 "gski-evenement-obs">Délégué Technique : LEPAGE REMI</span></li></ul><div c
 lass="gski-evenement-infos-2"><div class="gski-evenement-info-inscriptions"
 ><div class="gski-evenement-inscriptions-periodes">Période d'inscription à 
 l'evènement du Samedi 11 Janvier 2025 à 00:00 au Vendredi 17 Janvier 2025 à
  17:00<div class="gski-evenement-inscriptions-types-titres">Inscriptions ou
 vertes aux detenteurs des titres Fédéraux valides suivants : Licenciés Comp
 étiteurs</div></div></div><div class="gskiepreuves-links"><ul><li><a href="
 https://skivosges.net/index.php?option=com_jevents&task=icalevent.detail&ev
 id=2410&Itemid=6289">Voir les informations dans l'agenda...</a></li><li>Pub
 lications concernant cet évènement :<ul><li><a href="https://skivosges.net/
 index.php?option=com_content&view=article&id=8516&Itemid=6289">Vendredi 3 J
 anvier 2025 à 20:25 : Le 04/01/2025 LA BRESSE/Alpin Informations</a></li></
 ul></li></ul></div><div class="gski-evenement-epreuves"><div class="gski-ev
 enement-epreuves-titres">Epreuves :</div><ul class="gski-evenement-epreuves
 -list"><li><div class="gski-epreuve-date">Le Samedi 18 Janvier 2025 à 09:30
 </div><ul class="gski-epreuve-liste-infos"><li>Codex épreuve AMVM0081</li><
 li>Catégorie(s) : U8/U10 (Garçons)</li><li>Slalom Geant</li></ul></li><li><
 div class="gski-epreuve-date">Le Samedi 18 Janvier 2025 à 09:30</div><ul cl
 ass="gski-epreuve-liste-infos"><li>Codex épreuve AMVF0081</li><li>Catégorie
 (s) : U8/U10 (Filles)</li><li>Slalom Geant</li></ul></li></ul></div><div cl
 ass="gskiepreuves-links"><ul><li><a href="https://skivosges.net/index.php?o
 ption=com_jevents&task=icalevent.detail&evid=2410&Itemid=6289">Voir les inf
 ormations dans l'agenda...</a></li><li>Publications concernant cet évènemen
 t :<ul><li><a href="https://skivosges.net/index.php?option=com_content&view
 =article&id=8516&Itemid=6289">Vendredi 3 Janvier 2025 à 20:25 : Le 04/01/20
 25 LA BRESSE/Alpin Informations</a></li></ul></li></ul></div></div"><!-- #/
 gskiepreuve fin du dode généré par le plugin jevents pour GskiEpreuves. . N
 e pas modifier cette ligne, ni tout le contenu précedant.  #/gskiepreuve --
 > <a href="https://skivosges.net/agenda/a-venir/detailevenement/2415/-/micr
 o-coupe-memorial-gilles-lemaire-reporte?tmpl=component">Cet évènement a été
  importé depuis :https://skivosges.net/agenda/a-venir/detailevenement/2415/
 -/micro-coupe-memorial-gilles-lemaire-reporte?tmpl=component</a>DTSTAMP:20260420T233009
DTSTART;TZID=Europe/Paris;VALUE=DATE:20250118
DTEND;TZID=Europe/Paris;VALUE=DATE:20250119
SEQUENCE:0
TRANSP:OPAQUE
END:VEVENT
END:VCALENDAR