BEGIN:VCALENDAR
VERSION:2.0
PRODID:-//jEvents 2.0 for Joomla//EN
CALSCALE:GREGORIAN
METHOD:PUBLISH
BEGIN:VTIMEZONE
TZID:Europe/Paris
BEGIN:STANDARD
DTSTART:20240229T000000
RDATE:20240331T030000
TZOFFSETFROM:+0200
TZOFFSETTO:+0100
TZNAME:Europe/Paris CET
END:STANDARD
BEGIN:STANDARD
DTSTART:20241027T020000
RDATE:20250330T030000
TZOFFSETFROM:+0200
TZOFFSETTO:+0100
TZNAME:Europe/Paris CET
END:STANDARD
BEGIN:STANDARD
DTSTART:20251026T020000
RDATE:20260329T030000
TZOFFSETFROM:+0200
TZOFFSETTO:+0100
TZNAME:Europe/Paris CET
END:STANDARD
BEGIN:STANDARD
DTSTART:20261025T020000
RDATE:20270328T030000
TZOFFSETFROM:+0200
TZOFFSETTO:+0100
TZNAME:Europe/Paris CET
END:STANDARD
BEGIN:DAYLIGHT
DTSTART:20240331T030000
RDATE:20241027T020000
TZOFFSETFROM:+0100
TZOFFSETTO:+0200
TZNAME:Europe/Paris CEST
END:DAYLIGHT
BEGIN:DAYLIGHT
DTSTART:20250330T030000
RDATE:20251026T020000
TZOFFSETFROM:+0100
TZOFFSETTO:+0200
TZNAME:Europe/Paris CEST
END:DAYLIGHT
BEGIN:DAYLIGHT
DTSTART:20260329T030000
RDATE:20261025T020000
TZOFFSETFROM:+0100
TZOFFSETTO:+0200
TZNAME:Europe/Paris CEST
END:DAYLIGHT
END:VTIMEZONE
BEGIN:VEVENT
UID:a05a1d5fb91d73db602e7a6407e6e7f4
CATEGORIES:Compétition Ski de Fond
CREATED:20250114T124843
SUMMARY:RELAIS DU LAC BLANC *** ANNULE(E) ***
URL;VALUE=URI:https://skivosges.net/agenda/a-venir/detailevenement/2416/-/relais-du-lac-b
 lanc-annule-e?tmpl=component
DESCRIPTION:<!-- #gskiepreuve code généré par le plugin jevents pour GskiEpreuves. Ne p
 as modifier cette ligne, ni tout le contenu suivant  #gskiepreuve --><div c
 lass="gski-evenement_infos"><div class="gski-evenement-nom">RELAIS DU LAC B
 LANC</div><div class="gski-evenement-report"> <font class="gskiattention">(
 Epreuve annulée)</font></div><ul class="gski-evenement-liste-infos"><li>Cod
 ex évenement FMVT0110</li><li>Lieu : Blancrupt</li><li>Station : LAC BLANC<
 /li><li>Piste : Balcon du Lac</li><li>Organisateur : 14379 LAC BLANC SKI NO
 RDIQUE CV ORBEY</li><li>Courriel : <!-- Cette adresse électronique est prot
 égée contre les robots spammeurs. --><span class="cloaked_email ep_d9b8f37d
 "><span data-ep-a="&#114;&#97;&#99;" data-ep-b="&#114;"><span data-ep-b="&#
 102;.f" data-ep-a="&#104;&#116;&#111;"><span data-ep-b="&#110;e&#117;" data
 -ep-a="&#110;&#121;&#64;"></span></span></span></span><script>RegularLabs.E
 mailProtector.unCloak("ep_d9b8f37d");</script></li><li>Téléphone : 06 19 82
  78 03</li></ul><div class="gski-evenement-infos-2"><div class="gski-evenem
 ent-info-inscriptions"><div class="gski-evenement-inscriptions-periodes">Pé
 riode d'inscription à l'evènement du Samedi 22 Février 2025 à 00:00 au Jeud
 i 27 Février 2025 à 12:00<div class="gski-evenement-inscriptions-types-titr
 es">Inscriptions ouvertes aux detenteurs des titres Fédéraux valides suivan
 ts : Licenciés Compétiteurs et Titres Loisirs et Dirigeants</div></div></di
 v><div class="gskiepreuves-links"><ul><li><a href="/index.php?option=com_je
 vents&task=icalevent.detail&evid=2411&Itemid=6289">Voir les informations da
 ns l'agenda...</a></li></ul></div><div class="gski-evenement-epreuves"><div
  class="gski-evenement-epreuves-titres">Epreuves :</div><ul class="gski-eve
 nement-epreuves-list"><li><div class="gski-epreuve-date">Le Samedi 01 Mars 
 2025</div><ul class="gski-epreuve-liste-infos"><li>Codex épreuve FMVF0111</
 li><li>Catégorie(s) : U15 (Filles)</li><li>Relais</li><li>Distance : 4 / St
 yle : L</li></ul></li><li><div class="gski-epreuve-date">Le Samedi 01 Mars 
 2025</div><ul class="gski-epreuve-liste-infos"><li>Codex épreuve FMVM0111</
 li><li>Catégorie(s) : U15 (Garçons)</li><li>Relais</li><li>Distance : 4 / S
 tyle : L</li></ul></li></ul></div><div class="gskiepreuves-links"><ul><li><
 a href="/index.php?option=com_jevents&task=icalevent.detail&evid=2411&Itemi
 d=6289">Voir les informations dans l'agenda...</a></li></ul></div></div"><!
 -- #/gskiepreuve fin du dode généré par le plugin jevents pour GskiEpreuves
 . . Ne pas modifier cette ligne, ni tout le contenu précedant.  #/gskiepreu
 ve --> <a href="https://skivosges.net/agenda/a-venir/detailevenement/2416/-
 /relais-du-lac-blanc-annule-e?tmpl=component">Cet évènement a été importé d
 epuis :https://skivosges.net/agenda/a-venir/detailevenement/2416/-/relais-d
 u-lac-blanc-annule-e?tmpl=component</a>
X-ALT-DESC;FMTTYPE=text/html:<!-- #gskiepreuve code généré par le plugin jevents pour GskiEpreuves. Ne p
 as modifier cette ligne, ni tout le contenu suivant  #gskiepreuve --><div c
 lass="gski-evenement_infos"><div class="gski-evenement-nom">RELAIS DU LAC B
 LANC</div><div class="gski-evenement-report"> <font class="gskiattention">(
 Epreuve annulée)</font></div><ul class="gski-evenement-liste-infos"><li>Cod
 ex évenement FMVT0110</li><li>Lieu : Blancrupt</li><li>Station : LAC BLANC<
 /li><li>Piste : Balcon du Lac</li><li>Organisateur : 14379 LAC BLANC SKI NO
 RDIQUE CV ORBEY</li><li>Courriel : <!-- Cette adresse électronique est prot
 égée contre les robots spammeurs. --><span class="cloaked_email ep_d9b8f37d
 "><span data-ep-a="&#114;&#97;&#99;" data-ep-b="&#114;"><span data-ep-b="&#
 102;.f" data-ep-a="&#104;&#116;&#111;"><span data-ep-b="&#110;e&#117;" data
 -ep-a="&#110;&#121;&#64;"></span></span></span></span><script>RegularLabs.E
 mailProtector.unCloak("ep_d9b8f37d");</script></li><li>Téléphone : 06 19 82
  78 03</li></ul><div class="gski-evenement-infos-2"><div class="gski-evenem
 ent-info-inscriptions"><div class="gski-evenement-inscriptions-periodes">Pé
 riode d'inscription à l'evènement du Samedi 22 Février 2025 à 00:00 au Jeud
 i 27 Février 2025 à 12:00<div class="gski-evenement-inscriptions-types-titr
 es">Inscriptions ouvertes aux detenteurs des titres Fédéraux valides suivan
 ts : Licenciés Compétiteurs et Titres Loisirs et Dirigeants</div></div></di
 v><div class="gskiepreuves-links"><ul><li><a href="https://skivosges.net/in
 dex.php?option=com_jevents&task=icalevent.detail&evid=2411&Itemid=6289">Voi
 r les informations dans l'agenda...</a></li></ul></div><div class="gski-eve
 nement-epreuves"><div class="gski-evenement-epreuves-titres">Epreuves :</di
 v><ul class="gski-evenement-epreuves-list"><li><div class="gski-epreuve-dat
 e">Le Samedi 01 Mars 2025</div><ul class="gski-epreuve-liste-infos"><li>Cod
 ex épreuve FMVF0111</li><li>Catégorie(s) : U15 (Filles)</li><li>Relais</li>
 <li>Distance : 4 / Style : L</li></ul></li><li><div class="gski-epreuve-dat
 e">Le Samedi 01 Mars 2025</div><ul class="gski-epreuve-liste-infos"><li>Cod
 ex épreuve FMVM0111</li><li>Catégorie(s) : U15 (Garçons)</li><li>Relais</li
 ><li>Distance : 4 / Style : L</li></ul></li></ul></div><div class="gskiepre
 uves-links"><ul><li><a href="https://skivosges.net/index.php?option=com_jev
 ents&task=icalevent.detail&evid=2411&Itemid=6289">Voir les informations dan
 s l'agenda...</a></li></ul></div></div"><!-- #/gskiepreuve fin du dode géné
 ré par le plugin jevents pour GskiEpreuves. . Ne pas modifier cette ligne, 
 ni tout le contenu précedant.  #/gskiepreuve --> <a href="https://skivosges
 .net/agenda/a-venir/detailevenement/2416/-/relais-du-lac-blanc-annule-e?tmp
 l=component">Cet évènement a été importé depuis :https://skivosges.net/agen
 da/a-venir/detailevenement/2416/-/relais-du-lac-blanc-annule-e?tmpl=compone
 nt</a>DTSTAMP:20260420T233009
DTSTART;TZID=Europe/Paris;VALUE=DATE:20250301
DTEND;TZID=Europe/Paris;VALUE=DATE:20250302
SEQUENCE:0
TRANSP:OPAQUE
END:VEVENT
END:VCALENDAR