BEGIN:VCALENDAR
VERSION:2.0
PRODID:-//jEvents 2.0 for Joomla//EN
CALSCALE:GREGORIAN
METHOD:PUBLISH
BEGIN:VTIMEZONE
TZID:Europe/Paris
BEGIN:STANDARD
DTSTART:20240229T000000
RDATE:20240331T030000
TZOFFSETFROM:+0200
TZOFFSETTO:+0100
TZNAME:Europe/Paris CET
END:STANDARD
BEGIN:STANDARD
DTSTART:20241027T020000
RDATE:20250330T030000
TZOFFSETFROM:+0200
TZOFFSETTO:+0100
TZNAME:Europe/Paris CET
END:STANDARD
BEGIN:STANDARD
DTSTART:20251026T020000
RDATE:20260329T030000
TZOFFSETFROM:+0200
TZOFFSETTO:+0100
TZNAME:Europe/Paris CET
END:STANDARD
BEGIN:STANDARD
DTSTART:20261025T020000
RDATE:20270328T030000
TZOFFSETFROM:+0200
TZOFFSETTO:+0100
TZNAME:Europe/Paris CET
END:STANDARD
BEGIN:DAYLIGHT
DTSTART:20240331T030000
RDATE:20241027T020000
TZOFFSETFROM:+0100
TZOFFSETTO:+0200
TZNAME:Europe/Paris CEST
END:DAYLIGHT
BEGIN:DAYLIGHT
DTSTART:20250330T030000
RDATE:20251026T020000
TZOFFSETFROM:+0100
TZOFFSETTO:+0200
TZNAME:Europe/Paris CEST
END:DAYLIGHT
BEGIN:DAYLIGHT
DTSTART:20260329T030000
RDATE:20261025T020000
TZOFFSETFROM:+0100
TZOFFSETTO:+0200
TZNAME:Europe/Paris CEST
END:DAYLIGHT
END:VTIMEZONE
BEGIN:VEVENT
UID:e4d0f48a72709491b451f4ceb043301a
CATEGORIES:Compétition Ski de Fond
CREATED:20250114T124844
SUMMARY:3 HEURES DU LAC BLANC *** ANNULE(E) ***
URL;VALUE=URI:https://skivosges.net/agenda/a-venir/detailevenement/2417/-/3-heures-du-lac
 -blanc-annule-e?tmpl=component
DESCRIPTION:<!-- #gskiepreuve code généré par le plugin jevents pour GskiEpreuves. Ne p
 as modifier cette ligne, ni tout le contenu suivant  #gskiepreuve --><div c
 lass="gski-evenement_infos"><div class="gski-evenement-nom">3 HEURES DU LAC
  BLANC</div><div class="gski-evenement-report"> <font class="gskiattention"
 >(Epreuve annulée)</font></div><ul class="gski-evenement-liste-infos"><li>C
 odex évenement FMVT0120</li><li>Lieu : Blancrupt</li><li>Station : LAC BLAN
 C</li><li>Piste : Balcon du Lac</li><li>Organisateur : 14379 LAC BLANC SKI 
 NORDIQUE CV ORBEY</li><li>Courriel : <!-- Cette adresse électronique est pr
 otégée contre les robots spammeurs. --><span class="cloaked_email ep_376f75
 cb"><span data-ep-a="r&#97;c" data-ep-b="&#114;"><span data-ep-b="&#102;&#4
 6;&#102;" data-ep-a="&#104;&#116;o"><span data-ep-a="n&#121;&#64;" data-ep-
 b="n&#101;&#117;"></span></span></span></span><script>RegularLabs.EmailProt
 ector.unCloak("ep_376f75cb");</script></li><li>Téléphone : 06 19 82 78 03</
 li></ul><div class="gski-evenement-infos-2"><div class="gski-evenement-info
 -inscriptions"><div class="gski-evenement-inscriptions-periodes">Période d'
 inscription à l'evènement du Samedi 22 Février 2025 à 00:00 au Jeudi 27 Fév
 rier 2025 à 12:00<div class="gski-evenement-inscriptions-types-titres">Insc
 riptions ouvertes aux detenteurs des titres Fédéraux valides suivants : Lic
 enciés Compétiteurs et Titres Loisirs et Dirigeants</div></div></div><div c
 lass="gskiepreuves-links"><ul><li><a href="/index.php?option=com_jevents&ta
 sk=icalevent.detail&evid=2412&Itemid=6289">Voir les informations dans l'age
 nda...</a></li></ul></div><div class="gski-evenement-epreuves"><div class="
 gski-evenement-epreuves-titres">Epreuves :</div><ul class="gski-evenement-e
 preuves-list"><li><div class="gski-epreuve-date">Le Samedi 01 Mars 2025 à 1
 4:00</div><ul class="gski-epreuve-liste-infos"><li>Codex épreuve FMVF0121</
 li><li>Catégorie(s) : U16 a M12 (Dames)</li><li>Relais</li></ul></li><li><d
 iv class="gski-epreuve-date">Le Samedi 01 Mars 2025 à 14:00</div><ul class=
 "gski-epreuve-liste-infos"><li>Codex épreuve FMVM0121</li><li>Catégorie(s) 
 : U16 a M12 (Hommes)</li><li>Relais</li></ul></li></ul></div><div class="gs
 kiepreuves-links"><ul><li><a href="/index.php?option=com_jevents&task=icale
 vent.detail&evid=2412&Itemid=6289">Voir les informations dans l'agenda...</
 a></li></ul></div></div"><!-- #/gskiepreuve fin du dode généré par le plugi
 n jevents pour GskiEpreuves. . Ne pas modifier cette ligne, ni tout le cont
 enu précedant.  #/gskiepreuve --> <a href="https://skivosges.net/agenda/a-v
 enir/detailevenement/2417/-/3-heures-du-lac-blanc-annule-e?tmpl=component">
 Cet évènement a été importé depuis :https://skivosges.net/agenda/a-venir/de
 tailevenement/2417/-/3-heures-du-lac-blanc-annule-e?tmpl=component</a>
X-ALT-DESC;FMTTYPE=text/html:<!-- #gskiepreuve code généré par le plugin jevents pour GskiEpreuves. Ne p
 as modifier cette ligne, ni tout le contenu suivant  #gskiepreuve --><div c
 lass="gski-evenement_infos"><div class="gski-evenement-nom">3 HEURES DU LAC
  BLANC</div><div class="gski-evenement-report"> <font class="gskiattention"
 >(Epreuve annulée)</font></div><ul class="gski-evenement-liste-infos"><li>C
 odex évenement FMVT0120</li><li>Lieu : Blancrupt</li><li>Station : LAC BLAN
 C</li><li>Piste : Balcon du Lac</li><li>Organisateur : 14379 LAC BLANC SKI 
 NORDIQUE CV ORBEY</li><li>Courriel : <!-- Cette adresse électronique est pr
 otégée contre les robots spammeurs. --><span class="cloaked_email ep_376f75
 cb"><span data-ep-a="r&#97;c" data-ep-b="&#114;"><span data-ep-b="&#102;&#4
 6;&#102;" data-ep-a="&#104;&#116;o"><span data-ep-a="n&#121;&#64;" data-ep-
 b="n&#101;&#117;"></span></span></span></span><script>RegularLabs.EmailProt
 ector.unCloak("ep_376f75cb");</script></li><li>Téléphone : 06 19 82 78 03</
 li></ul><div class="gski-evenement-infos-2"><div class="gski-evenement-info
 -inscriptions"><div class="gski-evenement-inscriptions-periodes">Période d'
 inscription à l'evènement du Samedi 22 Février 2025 à 00:00 au Jeudi 27 Fév
 rier 2025 à 12:00<div class="gski-evenement-inscriptions-types-titres">Insc
 riptions ouvertes aux detenteurs des titres Fédéraux valides suivants : Lic
 enciés Compétiteurs et Titres Loisirs et Dirigeants</div></div></div><div c
 lass="gskiepreuves-links"><ul><li><a href="https://skivosges.net/index.php?
 option=com_jevents&task=icalevent.detail&evid=2412&Itemid=6289">Voir les in
 formations dans l'agenda...</a></li></ul></div><div class="gski-evenement-e
 preuves"><div class="gski-evenement-epreuves-titres">Epreuves :</div><ul cl
 ass="gski-evenement-epreuves-list"><li><div class="gski-epreuve-date">Le Sa
 medi 01 Mars 2025 à 14:00</div><ul class="gski-epreuve-liste-infos"><li>Cod
 ex épreuve FMVF0121</li><li>Catégorie(s) : U16 a M12 (Dames)</li><li>Relais
 </li></ul></li><li><div class="gski-epreuve-date">Le Samedi 01 Mars 2025 à 
 14:00</div><ul class="gski-epreuve-liste-infos"><li>Codex épreuve FMVM0121<
 /li><li>Catégorie(s) : U16 a M12 (Hommes)</li><li>Relais</li></ul></li></ul
 ></div><div class="gskiepreuves-links"><ul><li><a href="https://skivosges.n
 et/index.php?option=com_jevents&task=icalevent.detail&evid=2412&Itemid=6289
 ">Voir les informations dans l'agenda...</a></li></ul></div></div"><!-- #/g
 skiepreuve fin du dode généré par le plugin jevents pour GskiEpreuves. . Ne
  pas modifier cette ligne, ni tout le contenu précedant.  #/gskiepreuve -->
  <a href="https://skivosges.net/agenda/a-venir/detailevenement/2417/-/3-heu
 res-du-lac-blanc-annule-e?tmpl=component">Cet évènement a été importé depui
 s :https://skivosges.net/agenda/a-venir/detailevenement/2417/-/3-heures-du-
 lac-blanc-annule-e?tmpl=component</a>DTSTAMP:20260420T233009
DTSTART;TZID=Europe/Paris;VALUE=DATE:20250301
DTEND;TZID=Europe/Paris;VALUE=DATE:20250302
SEQUENCE:0
TRANSP:OPAQUE
END:VEVENT
END:VCALENDAR