BEGIN:VCALENDAR
VERSION:2.0
PRODID:-//jEvents 2.0 for Joomla//EN
CALSCALE:GREGORIAN
METHOD:PUBLISH
BEGIN:VTIMEZONE
TZID:Europe/Paris
BEGIN:STANDARD
DTSTART:20240119T000000
RDATE:20240331T030000
TZOFFSETFROM:+0200
TZOFFSETTO:+0100
TZNAME:Europe/Paris CET
END:STANDARD
BEGIN:STANDARD
DTSTART:20241027T020000
RDATE:20250330T030000
TZOFFSETFROM:+0200
TZOFFSETTO:+0100
TZNAME:Europe/Paris CET
END:STANDARD
BEGIN:STANDARD
DTSTART:20251026T020000
RDATE:20260329T030000
TZOFFSETFROM:+0200
TZOFFSETTO:+0100
TZNAME:Europe/Paris CET
END:STANDARD
BEGIN:STANDARD
DTSTART:20261025T020000
RDATE:20270328T030000
TZOFFSETFROM:+0200
TZOFFSETTO:+0100
TZNAME:Europe/Paris CET
END:STANDARD
BEGIN:DAYLIGHT
DTSTART:20240331T030000
RDATE:20241027T020000
TZOFFSETFROM:+0100
TZOFFSETTO:+0200
TZNAME:Europe/Paris CEST
END:DAYLIGHT
BEGIN:DAYLIGHT
DTSTART:20250330T030000
RDATE:20251026T020000
TZOFFSETFROM:+0100
TZOFFSETTO:+0200
TZNAME:Europe/Paris CEST
END:DAYLIGHT
BEGIN:DAYLIGHT
DTSTART:20260329T030000
RDATE:20261025T020000
TZOFFSETFROM:+0100
TZOFFSETTO:+0200
TZNAME:Europe/Paris CEST
END:DAYLIGHT
END:VTIMEZONE
BEGIN:VEVENT
UID:9601feb17770e344b9e889a67ab48d53
CATEGORIES:Compétition Ski Alpin
CREATED:20250115T210117
SUMMARY:Micro-coupe (U8+U10) + PROMO (U8 à U14) Coupe S.A.S.A.
URL;VALUE=URI:https://skivosges.net/agenda/a-venir/detailevenement/2418/-/micro-coupe-u8-
 u10-promo-u8-a-u14-coupe-s-a-s-a?tmpl=component
DESCRIPTION:<!-- #gskiepreuve code généré par le plugin jevents pour GskiEpreuves. Ne p
 as modifier cette ligne, ni tout le contenu suivant  #gskiepreuve --><div c
 lass="gski-evenement_infos"><div class="gski-evenement-nom">Micro-coupe (U8
 +U10) + PROMO (U8 à U14) Coupe S.A.S.A.</div><div class="gski-evenement-rep
 ort"> <font class="gskiattention">(Report de l'épreuve initialement prévue 
 le 18/01/2025)</font></div><ul class="gski-evenement-liste-infos"><li>Codex
  évenement AMVT0170</li><li>Station : BALLON ALSACE</li><li>Piste : Grande 
 Gentiane</li><li>Organisateur : 14081 SKI CLUB ROSSBERG THANN</li><li>Courr
 iel : <!-- Cette adresse électronique est protégée contre les robots spamme
 urs. --><span class="cloaked_email ep_0bbb86f5"><span data-ep-b="" data-ep-
 a="&#99;&#111;&#117;&#114;"><span data-ep-a="ses&#64;" data-ep-b="&#46;&#99
 ;&#111;&#109;"><span data-ep-a="&#116;&#104;&#97;n" data-ep-b="&#110;&#115;
 &#107;&#105;"></span></span></span></span><script>RegularLabs.EmailProtecto
 r.unCloak("ep_0bbb86f5");</script></li><li><span class="gski-evenement-obs"
 >Délégué Technique : SPANNAGEL PASCAL</span></li></ul><div class="gski-even
 ement-infos-2"><div class="gski-evenement-info-inscriptions"><div class="gs
 ki-evenement-inscriptions-periodes">Période d'inscription à l'evènement du 
 Dimanche 12 Janvier 2025 à 00:00 au Samedi 18 Janvier 2025 à 09:00<div clas
 s="gski-evenement-inscriptions-types-titres">Inscriptions ouvertes aux dete
 nteurs des titres Fédéraux valides suivants : Licenciés Compétiteurs et Tit
 res Loisirs et Dirigeants</div></div></div><div class="gski-evenement-info-
 live">L'épreuve sera chronométrée en direct sur https://skivosges.net/live<
 /div><div class="gskiepreuves-links"><ul><li><a href="/index.php?option=com
 _jevents&task=icalevent.detail&evid=2413&Itemid=6289">Voir les informations
  dans l'agenda...</a></li><li><a href="/index.php?option=com_gskiepreuves&v
 iew=afficheresultats&format_option=tous&filter[search]=AMVT0170&filter[date
 _debut]=19-01-2025&filter[date_fin]=19-01-2025&code_activite=ALP&Itemid=628
 9">Vers les résultats...</a></li><li>Publications concernant cet évènement 
 :<ul><li><a href="/index.php?option=com_content&view=article&id=8560&Itemid
 =6289">Dimanche 19 Janvier 2025 à 14:41 : Le 19/01/2025 BALLON D'ALSACE/Alp
 in Résultats</a></li></ul></li></ul></div><div class="gski-evenement-epreuv
 es"><div class="gski-evenement-epreuves-titres">Epreuves :</div><ul class="
 gski-evenement-epreuves-list"><li><div class="gski-epreuve-date">Le Dimanch
 e 19 Janvier 2025</div><ul class="gski-epreuve-liste-infos"><li>Codex épreu
 ve AMVM0171</li><li>Catégorie(s) : U8/U10 (Garçons)</li><li>Slalom</li></ul
 ></li><li><div class="gski-epreuve-date">Le Dimanche 19 Janvier 2025</div><
 ul class="gski-epreuve-liste-infos"><li>Codex épreuve AMVF0171</li><li>Caté
 gorie(s) : U8/U10 (Filles)</li><li>Slalom</li></ul></li><li><div class="gsk
 i-epreuve-date">Le Dimanche 19 Janvier 2025</div><ul class="gski-epreuve-li
 ste-infos"><li>Codex épreuve AMVM0172</li><li>Catégorie(s) : U12/U14 (Garço
 ns)</li><li>Slalom</li></ul></li><li><div class="gski-epreuve-date">Le Dima
 nche 19 Janvier 2025</div><ul class="gski-epreuve-liste-infos"><li>Codex ép
 reuve AMVF0172</li><li>Catégorie(s) : U12/U14 (Filles)</li><li>Slalom</li><
 /ul></li></ul></div><div class="gskiepreuves-links"><ul><li><a href="/index
 .php?option=com_jevents&task=icalevent.detail&evid=2413&Itemid=6289">Voir l
 es informations dans l'agenda...</a></li><li><a href="/index.php?option=com
 _gskiepreuves&view=afficheresultats&format_option=tous&filter[search]=AMVT0
 170&filter[date_debut]=19-01-2025&filter[date_fin]=19-01-2025&code_activite
 =ALP&Itemid=6289">Vers les résultats...</a></li><li>Publications concernant
  cet évènement :<ul><li><a href="/index.php?option=com_content&view=article
 &id=8560&Itemid=6289">Dimanche 19 Janvier 2025 à 14:41 : Le 19/01/2025 BALL
 ON D'ALSACE/Alpin Résultats</a></li></ul></li></ul></div></div"><!-- #/gski
 epreuve fin du dode généré par le plugin jevents pour GskiEpreuves. . Ne pa
 s modifier cette ligne, ni tout le contenu précedant.  #/gskiepreuve --> <a
  href="https://skivosges.net/agenda/a-venir/detailevenement/2418/-/micro-co
 upe-u8-u10-promo-u8-a-u14-coupe-s-a-s-a?tmpl=component">Cet évènement a été
  importé depuis :https://skivosges.net/agenda/a-venir/detailevenement/2418/
 -/micro-coupe-u8-u10-promo-u8-a-u14-coupe-s-a-s-a?tmpl=component</a>
X-ALT-DESC;FMTTYPE=text/html:<!-- #gskiepreuve code généré par le plugin jevents pour GskiEpreuves. Ne p
 as modifier cette ligne, ni tout le contenu suivant  #gskiepreuve --><div c
 lass="gski-evenement_infos"><div class="gski-evenement-nom">Micro-coupe (U8
 +U10) + PROMO (U8 à U14) Coupe S.A.S.A.</div><div class="gski-evenement-rep
 ort"> <font class="gskiattention">(Report de l'épreuve initialement prévue 
 le 18/01/2025)</font></div><ul class="gski-evenement-liste-infos"><li>Codex
  évenement AMVT0170</li><li>Station : BALLON ALSACE</li><li>Piste : Grande 
 Gentiane</li><li>Organisateur : 14081 SKI CLUB ROSSBERG THANN</li><li>Courr
 iel : <!-- Cette adresse électronique est protégée contre les robots spamme
 urs. --><span class="cloaked_email ep_0bbb86f5"><span data-ep-b="" data-ep-
 a="&#99;&#111;&#117;&#114;"><span data-ep-a="ses&#64;" data-ep-b="&#46;&#99
 ;&#111;&#109;"><span data-ep-a="&#116;&#104;&#97;n" data-ep-b="&#110;&#115;
 &#107;&#105;"></span></span></span></span><script>RegularLabs.EmailProtecto
 r.unCloak("ep_0bbb86f5");</script></li><li><span class="gski-evenement-obs"
 >Délégué Technique : SPANNAGEL PASCAL</span></li></ul><div class="gski-even
 ement-infos-2"><div class="gski-evenement-info-inscriptions"><div class="gs
 ki-evenement-inscriptions-periodes">Période d'inscription à l'evènement du 
 Dimanche 12 Janvier 2025 à 00:00 au Samedi 18 Janvier 2025 à 09:00<div clas
 s="gski-evenement-inscriptions-types-titres">Inscriptions ouvertes aux dete
 nteurs des titres Fédéraux valides suivants : Licenciés Compétiteurs et Tit
 res Loisirs et Dirigeants</div></div></div><div class="gski-evenement-info-
 live">L'épreuve sera chronométrée en direct sur https://skivosges.net/live<
 /div><div class="gskiepreuves-links"><ul><li><a href="https://skivosges.net
 /index.php?option=com_jevents&task=icalevent.detail&evid=2413&Itemid=6289">
 Voir les informations dans l'agenda...</a></li><li><a href="https://skivosg
 es.net/index.php?option=com_gskiepreuves&view=afficheresultats&format_optio
 n=tous&filter[search]=AMVT0170&filter[date_debut]=19-01-2025&filter[date_fi
 n]=19-01-2025&code_activite=ALP&Itemid=6289">Vers les résultats...</a></li>
 <li>Publications concernant cet évènement :<ul><li><a href="https://skivosg
 es.net/index.php?option=com_content&view=article&id=8560&Itemid=6289">Diman
 che 19 Janvier 2025 à 14:41 : Le 19/01/2025 BALLON D'ALSACE/Alpin Résultats
 </a></li></ul></li></ul></div><div class="gski-evenement-epreuves"><div cla
 ss="gski-evenement-epreuves-titres">Epreuves :</div><ul class="gski-eveneme
 nt-epreuves-list"><li><div class="gski-epreuve-date">Le Dimanche 19 Janvier
  2025</div><ul class="gski-epreuve-liste-infos"><li>Codex épreuve AMVM0171<
 /li><li>Catégorie(s) : U8/U10 (Garçons)</li><li>Slalom</li></ul></li><li><d
 iv class="gski-epreuve-date">Le Dimanche 19 Janvier 2025</div><ul class="gs
 ki-epreuve-liste-infos"><li>Codex épreuve AMVF0171</li><li>Catégorie(s) : U
 8/U10 (Filles)</li><li>Slalom</li></ul></li><li><div class="gski-epreuve-da
 te">Le Dimanche 19 Janvier 2025</div><ul class="gski-epreuve-liste-infos"><
 li>Codex épreuve AMVM0172</li><li>Catégorie(s) : U12/U14 (Garçons)</li><li>
 Slalom</li></ul></li><li><div class="gski-epreuve-date">Le Dimanche 19 Janv
 ier 2025</div><ul class="gski-epreuve-liste-infos"><li>Codex épreuve AMVF01
 72</li><li>Catégorie(s) : U12/U14 (Filles)</li><li>Slalom</li></ul></li></u
 l></div><div class="gskiepreuves-links"><ul><li><a href="https://skivosges.
 net/index.php?option=com_jevents&task=icalevent.detail&evid=2413&Itemid=628
 9">Voir les informations dans l'agenda...</a></li><li><a href="https://skiv
 osges.net/index.php?option=com_gskiepreuves&view=afficheresultats&format_op
 tion=tous&filter[search]=AMVT0170&filter[date_debut]=19-01-2025&filter[date
 _fin]=19-01-2025&code_activite=ALP&Itemid=6289">Vers les résultats...</a></
 li><li>Publications concernant cet évènement :<ul><li><a href="https://skiv
 osges.net/index.php?option=com_content&view=article&id=8560&Itemid=6289">Di
 manche 19 Janvier 2025 à 14:41 : Le 19/01/2025 BALLON D'ALSACE/Alpin Résult
 ats</a></li></ul></li></ul></div></div"><!-- #/gskiepreuve fin du dode géné
 ré par le plugin jevents pour GskiEpreuves. . Ne pas modifier cette ligne, 
 ni tout le contenu précedant.  #/gskiepreuve --> <a href="https://skivosges
 .net/agenda/a-venir/detailevenement/2418/-/micro-coupe-u8-u10-promo-u8-a-u1
 4-coupe-s-a-s-a?tmpl=component">Cet évènement a été importé depuis :https:/
 /skivosges.net/agenda/a-venir/detailevenement/2418/-/micro-coupe-u8-u10-pro
 mo-u8-a-u14-coupe-s-a-s-a?tmpl=component</a>DTSTAMP:20260420T233009
DTSTART;TZID=Europe/Paris;VALUE=DATE:20250119
DTEND;TZID=Europe/Paris;VALUE=DATE:20250120
SEQUENCE:0
TRANSP:OPAQUE
END:VEVENT
END:VCALENDAR