BEGIN:VCALENDAR
VERSION:2.0
PRODID:-//jEvents 2.0 for Joomla//EN
CALSCALE:GREGORIAN
METHOD:PUBLISH
BEGIN:VTIMEZONE
TZID:Europe/Paris
BEGIN:STANDARD
DTSTART:20240208T000000
RDATE:20240331T030000
TZOFFSETFROM:+0200
TZOFFSETTO:+0100
TZNAME:Europe/Paris CET
END:STANDARD
BEGIN:STANDARD
DTSTART:20241027T020000
RDATE:20250330T030000
TZOFFSETFROM:+0200
TZOFFSETTO:+0100
TZNAME:Europe/Paris CET
END:STANDARD
BEGIN:STANDARD
DTSTART:20251026T020000
RDATE:20260329T030000
TZOFFSETFROM:+0200
TZOFFSETTO:+0100
TZNAME:Europe/Paris CET
END:STANDARD
BEGIN:STANDARD
DTSTART:20261025T020000
RDATE:20270328T030000
TZOFFSETFROM:+0200
TZOFFSETTO:+0100
TZNAME:Europe/Paris CET
END:STANDARD
BEGIN:DAYLIGHT
DTSTART:20240331T030000
RDATE:20241027T020000
TZOFFSETFROM:+0100
TZOFFSETTO:+0200
TZNAME:Europe/Paris CEST
END:DAYLIGHT
BEGIN:DAYLIGHT
DTSTART:20250330T030000
RDATE:20251026T020000
TZOFFSETFROM:+0100
TZOFFSETTO:+0200
TZNAME:Europe/Paris CEST
END:DAYLIGHT
BEGIN:DAYLIGHT
DTSTART:20260329T030000
RDATE:20261025T020000
TZOFFSETFROM:+0100
TZOFFSETTO:+0200
TZNAME:Europe/Paris CEST
END:DAYLIGHT
END:VTIMEZONE
BEGIN:VEVENT
UID:5df4aaff65a0bba885c5dfc0d26e7f92
CATEGORIES:Compétition Ski de Fond
CREATED:20250203T184508
SUMMARY:LA GEROMOISE BIG-MAT SALOMON N°10 U13(9) Crédit Mutuel n°8
URL;VALUE=URI:https://skivosges.net/agenda/a-venir/detailevenement/2421/-/la-geromoise-bi
 g-mat-salomon-n-10-u13-9-credit-mutuel-n-8?tmpl=component
DESCRIPTION:LA GEROMOISE BIG-MAT SALOMON N°10 U13(9) Crédit Mutuel n°8 (Report de l'épr
 euve initialement prévue le 02/03/2025)\n - Codex évenement FMVT0200\n - Li
 eu : LES TROIS FOURS\n - Station : STOSSWIHR\n - Organisateur : 14469 A.S G
 ERARDMER SKI NORDIQUE\n - Courriel : RegularLabs.EmailProtector.unCloak("ep
 _b6c685ce");\n - Délégué Technique : GERARD VINCENTPériode d'inscription à 
 l'evènement du Samedi 01 Février 2025 à 00:00 au Jeudi 06 Février 2025 à 18
 :00Inscriptions ouvertes aux detenteurs des titres Fédéraux valides suivant
 s : Licenciés Compétiteurs\n - Voir les informations dans l'agenda... (/ind
 ex.php?option=com_jevents&amp;task=icalevent.detail&amp;evid=2416&amp;Itemi
 d=6289)\n - Vers les résultats... (/index.php?option=com_gskiepreuves&amp;v
 iew=afficheresultats&amp;format_option=tous&amp;filter[search]=FMVT0200&amp
 ;filter[date_debut]=08-02-2025&amp;filter[date_fin]=08-02-2025&amp;code_act
 ivite=FOND&amp;Itemid=6289)\n - Publications concernant cet évènement :\n -
  Samedi 8 Février 2025 à 11:43 : Le 08/02/2025 STOSSWIHR - LES TROIS FOURS/
 Fond RésultatsEpreuves :\n - Le Samedi 08 Février 2025\n - Codex épreuve FM
 VF0201\n - Catégorie(s) : U13 (Filles)\n - Depart Individuel\n - Distance :
  4 / Style : C\n - Le Samedi 08 Février 2025\n - Codex épreuve FMVM0201\n -
  Catégorie(s) : U13 (Garçons)\n - Depart Individuel\n - Distance : 4 / Styl
 e : C\n - Le Samedi 08 Février 2025\n - Codex épreuve FMVF0202\n - Catégori
 e(s) : U15 (Filles)\n - Depart Individuel\n - Distance : 6 / Style : C\n - 
 Le Samedi 08 Février 2025\n - Codex épreuve FMVM0202\n - Catégorie(s) : U15
  (Garçons)\n - Depart Individuel\n - Distance : 6 / Style : C\n - Le Samedi
  08 Février 2025\n - Codex épreuve FMVF0203\n - Catégorie(s) : U16 (Dames)\
 n - Depart Individuel\n - Distance : 6 / Style : C\n - Le Samedi 08 Février
  2025\n - Codex épreuve FMVM0203\n - Catégorie(s) : U16 (Hommes)\n - Depart
  Individuel\n - Distance : 6 / Style : C\n - Le Samedi 08 Février 2025\n - 
 Codex épreuve FMVF0204\n - Catégorie(s) : U18 (Dames)\n - Depart Individuel
 \n - Distance : 6 / Style : C\n - Le Samedi 08 Février 2025\n - Codex épreu
 ve FMVM0204\n - Catégorie(s) : U18 (Hommes)\n - Depart Individuel\n - Dista
 nce : 12 / Style : C\n - Le Samedi 08 Février 2025\n - Codex épreuve FMVF02
 05\n - Catégorie(s) : U20/SEN (Dames)\n - Depart Individuel\n - Distance : 
 12 / Style : C\n - Le Samedi 08 Février 2025\n - Codex épreuve FMVM0205\n -
  Catégorie(s) : U20/SEN (Hommes)\n - Depart Individuel\n - Distance : 20 / 
 Style : C\n - Voir les informations dans l'agenda... (/index.php?option=com
 _jevents&amp;task=icalevent.detail&amp;evid=2416&amp;Itemid=6289)\n - Vers 
 les résultats... (/index.php?option=com_gskiepreuves&amp;view=afficheresult
 ats&amp;format_option=tous&amp;filter[search]=FMVT0200&amp;filter[date_debu
 t]=08-02-2025&amp;filter[date_fin]=08-02-2025&amp;code_activite=FOND&amp;It
 emid=6289)\n - Publications concernant cet évènement :\n - Samedi 8 Février
  2025 à 11:43 : Le 08/02/2025 STOSSWIHR - LES TROIS FOURS/Fond Résultats Ce
 t évènement a été importé depuis :https://skivosges.net/agenda/a-venir/deta
 ilevenement/2421/-/la-geromoise-big-mat-salomon-n-10-u13-9-credit-mutuel-n-
 8?tmpl=component
X-ALT-DESC;FMTTYPE=text/html:<!-- #gskiepreuve code généré par le plugin jevents pour GskiEpreuves. Ne p
 as modifier cette ligne, ni tout le contenu suivant  #gskiepreuve --><div c
 lass="gski-evenement_infos"><div class="gski-evenement-nom">LA GEROMOISE BI
 G-MAT SALOMON N°10 U13(9) Crédit Mutuel n°8</div><div class="gski-evenement
 -report"> <font class="gskiattention">(Report de l'épreuve initialement pré
 vue le 02/03/2025)</font></div><ul class="gski-evenement-liste-infos"><li>C
 odex évenement FMVT0200</li><li>Lieu : LES TROIS FOURS</li><li>Station : ST
 OSSWIHR</li><li>Organisateur : 14469 A.S GERARDMER SKI NORDIQUE</li><li>Cou
 rriel : <!-- Cette adresse électronique est protégée contre les robots spam
 meurs. --><span class="cloaked_email ep_b6c685ce"><span data-ep-b="&#46;fr"
  data-ep-a="fr&#97;&#110;"><span data-ep-a="&#99;is." data-ep-b="&#98;b&#11
 1;&#120;"><span data-ep-a="&#107;i&#101;&#110;" data-ep-b="&#116;&#122;&#12
 1;&#64;"></span></span></span></span><script>RegularLabs.EmailProtector.unC
 loak("ep_b6c685ce");</script></li><li><span class="gski-evenement-obs">Délé
 gué Technique : GERARD VINCENT</span></li></ul><div class="gski-evenement-i
 nfos-2"><div class="gski-evenement-info-inscriptions"><div class="gski-even
 ement-inscriptions-periodes">Période d'inscription à l'evènement du Samedi 
 01 Février 2025 à 00:00 au Jeudi 06 Février 2025 à 18:00<div class="gski-ev
 enement-inscriptions-types-titres">Inscriptions ouvertes aux detenteurs des
  titres Fédéraux valides suivants : Licenciés Compétiteurs</div></div></div
 ><div class="gskiepreuves-links"><ul><li><a href="https://skivosges.net/ind
 ex.php?option=com_jevents&task=icalevent.detail&evid=2416&Itemid=6289">Voir
  les informations dans l'agenda...</a></li><li><a href="https://skivosges.n
 et/index.php?option=com_gskiepreuves&view=afficheresultats&format_option=to
 us&filter[search]=FMVT0200&filter[date_debut]=08-02-2025&filter[date_fin]=0
 8-02-2025&code_activite=FOND&Itemid=6289">Vers les résultats...</a></li><li
 >Publications concernant cet évènement :<ul><li><a href="https://skivosges.
 net/index.php?option=com_content&view=article&id=8606&Itemid=6289">Samedi 8
  Février 2025 à 11:43 : Le 08/02/2025 STOSSWIHR - LES TROIS FOURS/Fond Résu
 ltats</a></li></ul></li></ul></div><div class="gski-evenement-epreuves"><di
 v class="gski-evenement-epreuves-titres">Epreuves :</div><ul class="gski-ev
 enement-epreuves-list"><li><div class="gski-epreuve-date">Le Samedi 08 Févr
 ier 2025</div><ul class="gski-epreuve-liste-infos"><li>Codex épreuve FMVF02
 01</li><li>Catégorie(s) : U13 (Filles)</li><li>Depart Individuel</li><li>Di
 stance : 4 / Style : C</li></ul></li><li><div class="gski-epreuve-date">Le 
 Samedi 08 Février 2025</div><ul class="gski-epreuve-liste-infos"><li>Codex 
 épreuve FMVM0201</li><li>Catégorie(s) : U13 (Garçons)</li><li>Depart Indivi
 duel</li><li>Distance : 4 / Style : C</li></ul></li><li><div class="gski-ep
 reuve-date">Le Samedi 08 Février 2025</div><ul class="gski-epreuve-liste-in
 fos"><li>Codex épreuve FMVF0202</li><li>Catégorie(s) : U15 (Filles)</li><li
 >Depart Individuel</li><li>Distance : 6 / Style : C</li></ul></li><li><div 
 class="gski-epreuve-date">Le Samedi 08 Février 2025</div><ul class="gski-ep
 reuve-liste-infos"><li>Codex épreuve FMVM0202</li><li>Catégorie(s) : U15 (G
 arçons)</li><li>Depart Individuel</li><li>Distance : 6 / Style : C</li></ul
 ></li><li><div class="gski-epreuve-date">Le Samedi 08 Février 2025</div><ul
  class="gski-epreuve-liste-infos"><li>Codex épreuve FMVF0203</li><li>Catégo
 rie(s) : U16 (Dames)</li><li>Depart Individuel</li><li>Distance : 6 / Style
  : C</li></ul></li><li><div class="gski-epreuve-date">Le Samedi 08 Février 
 2025</div><ul class="gski-epreuve-liste-infos"><li>Codex épreuve FMVM0203</
 li><li>Catégorie(s) : U16 (Hommes)</li><li>Depart Individuel</li><li>Distan
 ce : 6 / Style : C</li></ul></li><li><div class="gski-epreuve-date">Le Same
 di 08 Février 2025</div><ul class="gski-epreuve-liste-infos"><li>Codex épre
 uve FMVF0204</li><li>Catégorie(s) : U18 (Dames)</li><li>Depart Individuel</
 li><li>Distance : 6 / Style : C</li></ul></li><li><div class="gski-epreuve-
 date">Le Samedi 08 Février 2025</div><ul class="gski-epreuve-liste-infos"><
 li>Codex épreuve FMVM0204</li><li>Catégorie(s) : U18 (Hommes)</li><li>Depar
 t Individuel</li><li>Distance : 12 / Style : C</li></ul></li><li><div class
 ="gski-epreuve-date">Le Samedi 08 Février 2025</div><ul class="gski-epreuve
 -liste-infos"><li>Codex épreuve FMVF0205</li><li>Catégorie(s) : U20/SEN (Da
 mes)</li><li>Depart Individuel</li><li>Distance : 12 / Style : C</li></ul><
 /li><li><div class="gski-epreuve-date">Le Samedi 08 Février 2025</div><ul c
 lass="gski-epreuve-liste-infos"><li>Codex épreuve FMVM0205</li><li>Catégori
 e(s) : U20/SEN (Hommes)</li><li>Depart Individuel</li><li>Distance : 20 / S
 tyle : C</li></ul></li></ul></div><div class="gskiepreuves-links"><ul><li><
 a href="https://skivosges.net/index.php?option=com_jevents&task=icalevent.d
 etail&evid=2416&Itemid=6289">Voir les informations dans l'agenda...</a></li
 ><li><a href="https://skivosges.net/index.php?option=com_gskiepreuves&view=
 afficheresultats&format_option=tous&filter[search]=FMVT0200&filter[date_deb
 ut]=08-02-2025&filter[date_fin]=08-02-2025&code_activite=FOND&Itemid=6289">
 Vers les résultats...</a></li><li>Publications concernant cet évènement :<u
 l><li><a href="https://skivosges.net/index.php?option=com_content&view=arti
 cle&id=8606&Itemid=6289">Samedi 8 Février 2025 à 11:43 : Le 08/02/2025 STOS
 SWIHR - LES TROIS FOURS/Fond Résultats</a></li></ul></li></ul></div></div">
 <!-- #/gskiepreuve fin du dode généré par le plugin jevents pour GskiEpreuv
 es. . Ne pas modifier cette ligne, ni tout le contenu précedant.  #/gskiepr
 euve --> <a href="https://skivosges.net/agenda/a-venir/detailevenement/2421
 /-/la-geromoise-big-mat-salomon-n-10-u13-9-credit-mutuel-n-8?tmpl=component
 ">Cet évènement a été importé depuis :https://skivosges.net/agenda/a-venir/
 detailevenement/2421/-/la-geromoise-big-mat-salomon-n-10-u13-9-credit-mutue
 l-n-8?tmpl=component</a>DTSTAMP:20260420T233010
DTSTART;TZID=Europe/Paris;VALUE=DATE:20250208
DTEND;TZID=Europe/Paris;VALUE=DATE:20250209
SEQUENCE:0
TRANSP:OPAQUE
END:VEVENT
END:VCALENDAR