BEGIN:VCALENDAR
VERSION:2.0
PRODID:-//jEvents 2.0 for Joomla//EN
CALSCALE:GREGORIAN
METHOD:PUBLISH
BEGIN:VTIMEZONE
TZID:Europe/Paris
BEGIN:STANDARD
DTSTART:20240207T000000
RDATE:20240331T030000
TZOFFSETFROM:+0200
TZOFFSETTO:+0100
TZNAME:Europe/Paris CET
END:STANDARD
BEGIN:STANDARD
DTSTART:20241027T020000
RDATE:20250330T030000
TZOFFSETFROM:+0200
TZOFFSETTO:+0100
TZNAME:Europe/Paris CET
END:STANDARD
BEGIN:STANDARD
DTSTART:20251026T020000
RDATE:20260329T030000
TZOFFSETFROM:+0200
TZOFFSETTO:+0100
TZNAME:Europe/Paris CET
END:STANDARD
BEGIN:STANDARD
DTSTART:20261025T020000
RDATE:20270328T030000
TZOFFSETFROM:+0200
TZOFFSETTO:+0100
TZNAME:Europe/Paris CET
END:STANDARD
BEGIN:DAYLIGHT
DTSTART:20240331T030000
RDATE:20241027T020000
TZOFFSETFROM:+0100
TZOFFSETTO:+0200
TZNAME:Europe/Paris CEST
END:DAYLIGHT
BEGIN:DAYLIGHT
DTSTART:20250330T030000
RDATE:20251026T020000
TZOFFSETFROM:+0100
TZOFFSETTO:+0200
TZNAME:Europe/Paris CEST
END:DAYLIGHT
BEGIN:DAYLIGHT
DTSTART:20260329T030000
RDATE:20261025T020000
TZOFFSETFROM:+0100
TZOFFSETTO:+0200
TZNAME:Europe/Paris CEST
END:DAYLIGHT
END:VTIMEZONE
BEGIN:VEVENT
UID:443596ad84b2014e08fa2ab8bfc3aef1
CATEGORIES:Circuit Massif Jeunes (alpin)
CREATED:20250204T135715
SUMMARY:CJM PRIX DE L'AUBERGE DE SCHMARGULT
URL;VALUE=URI:https://skivosges.net/agenda/a-venir/detailevenement/2423/-/cjm-prix-de-lau
 berge-de-schmargult?tmpl=component
DESCRIPTION:<!-- #gskiepreuve code généré par le plugin jevents pour GskiEpreuves. Ne p
 as modifier cette ligne, ni tout le contenu suivant  #gskiepreuve --><div c
 lass="gski-evenement_infos"><div class="gski-evenement-nom">CJM PRIX DE L'A
 UBERGE DE SCHMARGULT</div><div class="gski-evenement-report"> <font class="
 gskiattention">(Report de l'épreuve initialement prévue le 18/01/2025)</fon
 t></div><ul class="gski-evenement-liste-infos"><li>Codex évenement AMVT0180
 </li><li>Station : LA BRESSE HOHNECK</li><li>Piste : STADE ARTIMONT</li><li
 >Organisateur : 14024 LA BRESSAUDE SECTION SKI</li><li>Courriel : <!-- Cett
 e adresse électronique est protégée contre les robots spammeurs. --><span c
 lass="cloaked_email ep_b517d4dd"><span data-ep-b="&#102;&#114;" data-ep-a="
 o&#100;&#105;&#108;&#101;"><span data-ep-b="a&#110;&#103;e." data-ep-a="&#4
 6;&#109;un&#115;"><span data-ep-b="&#108;&#98;&#64;&#111;&#114;" data-ep-a=
 "&#99;&#104;.&#115;c"></span></span></span></span><script>RegularLabs.Email
 Protector.unCloak("ep_b517d4dd");</script></li><li><span class="gski-evenem
 ent-obs">Délégué Technique : HOUILLON PHILIPPE</span></li></ul><div class="
 gski-evenement-infos-2"><div class="gski-evenement-info-inscriptions"><div 
 class="gski-evenement-inscriptions-periodes">Période d'inscription à l'evèn
 ement du Vendredi 31 Janvier 2025 à 00:00 au Jeudi 06 Février 2025 à 17:00<
 div class="gski-evenement-inscriptions-types-titres">Inscriptions ouvertes 
 aux detenteurs des titres Fédéraux valides suivants : Licenciés Compétiteur
 s</div></div></div><div class="gskiepreuves-links"><ul><li><a href="/index.
 php?option=com_jevents&task=icalevent.detail&evid=2418&Itemid=6289">Voir le
 s informations dans l'agenda...</a></li><li><a href="/index.php?option=com_
 gskiepreuves&view=afficheresultats&format_option=tous&filter[search]=AMVT01
 80&filter[date_debut]=07-02-2025&filter[date_fin]=07-02-2025&code_activite=
 ALP&Itemid=6289">Vers les résultats...</a></li></ul></div><div class="gski-
 evenement-epreuves"><div class="gski-evenement-epreuves-titres">Epreuves :<
 /div><ul class="gski-evenement-epreuves-list"><li><div class="gski-epreuve-
 date">Le Vendredi 07 Février 2025 à 18:00</div><ul class="gski-epreuve-list
 e-infos"><li>Codex épreuve AMVM0181</li><li>Catégorie(s) : U14 (Garçons)</l
 i><li>Slalom</li></ul></li><li><div class="gski-epreuve-date">Le Vendredi 0
 7 Février 2025 à 18:00</div><ul class="gski-epreuve-liste-infos"><li>Codex 
 épreuve AMVF0181</li><li>Catégorie(s) : U14 (Filles)</li><li>Slalom</li></u
 l></li></ul></div><div class="gskiepreuves-links"><ul><li><a href="/index.p
 hp?option=com_jevents&task=icalevent.detail&evid=2418&Itemid=6289">Voir les
  informations dans l'agenda...</a></li><li><a href="/index.php?option=com_g
 skiepreuves&view=afficheresultats&format_option=tous&filter[search]=AMVT018
 0&filter[date_debut]=07-02-2025&filter[date_fin]=07-02-2025&code_activite=A
 LP&Itemid=6289">Vers les résultats...</a></li></ul></div></div"><!-- #/gski
 epreuve fin du dode généré par le plugin jevents pour GskiEpreuves. . Ne pa
 s modifier cette ligne, ni tout le contenu précedant.  #/gskiepreuve --> <a
  href="https://skivosges.net/agenda/a-venir/detailevenement/2423/-/cjm-prix
 -de-lauberge-de-schmargult?tmpl=component">Cet évènement a été importé depu
 is :https://skivosges.net/agenda/a-venir/detailevenement/2423/-/cjm-prix-de
 -lauberge-de-schmargult?tmpl=component</a>
X-ALT-DESC;FMTTYPE=text/html:<!-- #gskiepreuve code généré par le plugin jevents pour GskiEpreuves. Ne p
 as modifier cette ligne, ni tout le contenu suivant  #gskiepreuve --><div c
 lass="gski-evenement_infos"><div class="gski-evenement-nom">CJM PRIX DE L'A
 UBERGE DE SCHMARGULT</div><div class="gski-evenement-report"> <font class="
 gskiattention">(Report de l'épreuve initialement prévue le 18/01/2025)</fon
 t></div><ul class="gski-evenement-liste-infos"><li>Codex évenement AMVT0180
 </li><li>Station : LA BRESSE HOHNECK</li><li>Piste : STADE ARTIMONT</li><li
 >Organisateur : 14024 LA BRESSAUDE SECTION SKI</li><li>Courriel : <!-- Cett
 e adresse électronique est protégée contre les robots spammeurs. --><span c
 lass="cloaked_email ep_b517d4dd"><span data-ep-b="&#102;&#114;" data-ep-a="
 o&#100;&#105;&#108;&#101;"><span data-ep-b="a&#110;&#103;e." data-ep-a="&#4
 6;&#109;un&#115;"><span data-ep-b="&#108;&#98;&#64;&#111;&#114;" data-ep-a=
 "&#99;&#104;.&#115;c"></span></span></span></span><script>RegularLabs.Email
 Protector.unCloak("ep_b517d4dd");</script></li><li><span class="gski-evenem
 ent-obs">Délégué Technique : HOUILLON PHILIPPE</span></li></ul><div class="
 gski-evenement-infos-2"><div class="gski-evenement-info-inscriptions"><div 
 class="gski-evenement-inscriptions-periodes">Période d'inscription à l'evèn
 ement du Vendredi 31 Janvier 2025 à 00:00 au Jeudi 06 Février 2025 à 17:00<
 div class="gski-evenement-inscriptions-types-titres">Inscriptions ouvertes 
 aux detenteurs des titres Fédéraux valides suivants : Licenciés Compétiteur
 s</div></div></div><div class="gskiepreuves-links"><ul><li><a href="https:/
 /skivosges.net/index.php?option=com_jevents&task=icalevent.detail&evid=2418
 &Itemid=6289">Voir les informations dans l'agenda...</a></li><li><a href="h
 ttps://skivosges.net/index.php?option=com_gskiepreuves&view=afficheresultat
 s&format_option=tous&filter[search]=AMVT0180&filter[date_debut]=07-02-2025&
 filter[date_fin]=07-02-2025&code_activite=ALP&Itemid=6289">Vers les résulta
 ts...</a></li></ul></div><div class="gski-evenement-epreuves"><div class="g
 ski-evenement-epreuves-titres">Epreuves :</div><ul class="gski-evenement-ep
 reuves-list"><li><div class="gski-epreuve-date">Le Vendredi 07 Février 2025
  à 18:00</div><ul class="gski-epreuve-liste-infos"><li>Codex épreuve AMVM01
 81</li><li>Catégorie(s) : U14 (Garçons)</li><li>Slalom</li></ul></li><li><d
 iv class="gski-epreuve-date">Le Vendredi 07 Février 2025 à 18:00</div><ul c
 lass="gski-epreuve-liste-infos"><li>Codex épreuve AMVF0181</li><li>Catégori
 e(s) : U14 (Filles)</li><li>Slalom</li></ul></li></ul></div><div class="gsk
 iepreuves-links"><ul><li><a href="https://skivosges.net/index.php?option=co
 m_jevents&task=icalevent.detail&evid=2418&Itemid=6289">Voir les information
 s dans l'agenda...</a></li><li><a href="https://skivosges.net/index.php?opt
 ion=com_gskiepreuves&view=afficheresultats&format_option=tous&filter[search
 ]=AMVT0180&filter[date_debut]=07-02-2025&filter[date_fin]=07-02-2025&code_a
 ctivite=ALP&Itemid=6289">Vers les résultats...</a></li></ul></div></div"><!
 -- #/gskiepreuve fin du dode généré par le plugin jevents pour GskiEpreuves
 . . Ne pas modifier cette ligne, ni tout le contenu précedant.  #/gskiepreu
 ve --> <a href="https://skivosges.net/agenda/a-venir/detailevenement/2423/-
 /cjm-prix-de-lauberge-de-schmargult?tmpl=component">Cet évènement a été imp
 orté depuis :https://skivosges.net/agenda/a-venir/detailevenement/2423/-/cj
 m-prix-de-lauberge-de-schmargult?tmpl=component</a>DTSTAMP:20260420T212353
DTSTART;TZID=Europe/Paris;VALUE=DATE:20250207
DTEND;TZID=Europe/Paris;VALUE=DATE:20250208
SEQUENCE:0
TRANSP:OPAQUE
END:VEVENT
END:VCALENDAR