BEGIN:VCALENDAR
VERSION:2.0
PRODID:-//jEvents 2.0 for Joomla//EN
CALSCALE:GREGORIAN
METHOD:PUBLISH
BEGIN:VTIMEZONE
TZID:Europe/Paris
BEGIN:STANDARD
DTSTART:20240301T000000
RDATE:20240331T030000
TZOFFSETFROM:+0200
TZOFFSETTO:+0100
TZNAME:Europe/Paris CET
END:STANDARD
BEGIN:STANDARD
DTSTART:20241027T020000
RDATE:20250330T030000
TZOFFSETFROM:+0200
TZOFFSETTO:+0100
TZNAME:Europe/Paris CET
END:STANDARD
BEGIN:STANDARD
DTSTART:20251026T020000
RDATE:20260329T030000
TZOFFSETFROM:+0200
TZOFFSETTO:+0100
TZNAME:Europe/Paris CET
END:STANDARD
BEGIN:STANDARD
DTSTART:20261025T020000
RDATE:20270328T030000
TZOFFSETFROM:+0200
TZOFFSETTO:+0100
TZNAME:Europe/Paris CET
END:STANDARD
BEGIN:DAYLIGHT
DTSTART:20240331T030000
RDATE:20241027T020000
TZOFFSETFROM:+0100
TZOFFSETTO:+0200
TZNAME:Europe/Paris CEST
END:DAYLIGHT
BEGIN:DAYLIGHT
DTSTART:20250330T030000
RDATE:20251026T020000
TZOFFSETFROM:+0100
TZOFFSETTO:+0200
TZNAME:Europe/Paris CEST
END:DAYLIGHT
BEGIN:DAYLIGHT
DTSTART:20260329T030000
RDATE:20261025T020000
TZOFFSETFROM:+0100
TZOFFSETTO:+0200
TZNAME:Europe/Paris CEST
END:DAYLIGHT
END:VTIMEZONE
BEGIN:VEVENT
UID:fa29df23468e37d728009954908c88af
CATEGORIES:Compétition Ski de Fond
CREATED:20250224T191645
SUMMARY:GP VAGNEY-ROCHESSON - Michel et Jean-Pierre Didierlaurent BG MAT SALOMON N°10 U13(9) CREDIT MUTUEL N°9
URL;VALUE=URI:https://skivosges.net/agenda/a-venir/detailevenement/2426/-/gp-vagney-roche
 sson-michel-et-jean-pierre-didierlaurent-bg-mat-salomon-n-10-u13-9-credit-m
 utuel-n-9?tmpl=component
DESCRIPTION:<!-- #gskiepreuve code généré par le plugin jevents pour GskiEpreuves. Ne p
 as modifier cette ligne, ni tout le contenu suivant  #gskiepreuve --><div c
 lass="gski-evenement_infos"><div class="gski-evenement-nom">GP VAGNEY-ROCHE
 SSON - Michel et Jean-Pierre Didierlaurent BG MAT SALOMON N°10 U13(9) CREDI
 T MUTUEL N°9</div><div class="gski-evenement-report"> <font class="gskiatte
 ntion">(Report de l'épreuve initialement prévue le 09/03/2025)</font></div>
 <ul class="gski-evenement-liste-infos"><li>Codex évenement FMVT0210</li><li
 >Lieu : lispach</li><li>Station : la bresse</li><li>Organisateur : 14329 SK
 I CLUB VAGNEY ROCHESSON</li><li>Courriel : <!-- Cette adresse électronique 
 est protégée contre les robots spammeurs. --><span class="cloaked_email ep_
 e8153444"><span data-ep-b="" data-ep-a="&#115;&#97;&#109;u&#101;"><span dat
 a-ep-b="o&#111;.&#102;r" data-ep-a="&#108;&#118;a&#108;d"><span data-ep-a="
 &#101;&#110;a&#105;&#114;" data-ep-b="&#101;&#64;ya&#104;"></span></span></
 span></span><script>RegularLabs.EmailProtector.unCloak("ep_e8153444");</scr
 ipt></li><li><span class="gski-evenement-obs">Délégué Technique : PHILIPPE 
 MICHEL-ALAIN</span></li></ul><div class="gski-evenement-infos-2"><div class
 ="gski-evenement-info-inscriptions"><div class="gski-evenement-inscriptions
 -periodes">Période d'inscription à l'evènement du Lundi 17 Février 2025 à 0
 0:00 au Vendredi 28 Février 2025 à 12:00<div class="gski-evenement-inscript
 ions-types-titres">Inscriptions ouvertes aux detenteurs des titres Fédéraux
  valides suivants : Licenciés Compétiteurs</div></div></div><div class="gsk
 iepreuves-links"><ul><li><a href="/index.php?option=com_jevents&task=icalev
 ent.detail&evid=2421&Itemid=6289">Voir les informations dans l'agenda...</a
 ></li><li><a href="/index.php?option=com_gskiepreuves&view=afficheresultats
 &format_option=tous&filter[search]=FMVT0210&filter[date_debut]=02-03-2025&f
 ilter[date_fin]=02-03-2025&code_activite=FOND&Itemid=6289">Vers les résulta
 ts...</a></li></ul></div><div class="gski-evenement-epreuves"><div class="g
 ski-evenement-epreuves-titres">Epreuves :</div><ul class="gski-evenement-ep
 reuves-list"><li><div class="gski-epreuve-date">Le Dimanche 02 Mars 2025 à 
 09:02</div><ul class="gski-epreuve-liste-infos"><li>Codex épreuve FMVF0211<
 /li><li>Catégorie(s) : U13 (Filles)</li><li>Mass Start (Depart ligne)</li><
 li>Distance : 3 / Style : C</li></ul></li><li><div class="gski-epreuve-date
 ">Le Dimanche 02 Mars 2025 à 09:00</div><ul class="gski-epreuve-liste-infos
 "><li>Codex épreuve FMVM0211</li><li>Catégorie(s) : U13 (Garçons)</li><li>M
 ass Start (Depart ligne)</li><li>Distance : 3 / Style : C</li></ul></li><li
 ><div class="gski-epreuve-date">Le Dimanche 02 Mars 2025 à 09:22</div><ul c
 lass="gski-epreuve-liste-infos"><li>Codex épreuve FMVF0212</li><li>Catégori
 e(s) : U15 (Filles)</li><li>Mass Start (Depart ligne)</li><li>Distance : 5 
 / Style : C</li></ul></li><li><div class="gski-epreuve-date">Le Dimanche 02
  Mars 2025 à 09:20</div><ul class="gski-epreuve-liste-infos"><li>Codex épre
 uve FMVM0212</li><li>Catégorie(s) : U15 (Garçons)</li><li>Mass Start (Depar
 t ligne)</li><li>Distance : 5 / Style : C</li></ul></li><li><div class="gsk
 i-epreuve-date">Le Dimanche 02 Mars 2025 à 09:50</div><ul class="gski-epreu
 ve-liste-infos"><li>Codex épreuve FMVM0213</li><li>Catégorie(s) : U16 (Homm
 es)</li><li>Mass Start (Depart ligne)</li><li>Distance : 7.5 / Style : C</l
 i></ul></li><li><div class="gski-epreuve-date">Le Dimanche 02 Mars 2025 à 0
 9:50</div><ul class="gski-epreuve-liste-infos"><li>Codex épreuve FMVF0214</
 li><li>Catégorie(s) : U16 a SEN (Dames)</li><li>Mass Start (Depart ligne)</
 li><li>Distance : 7.5 / Style : C</li></ul></li><li><div class="gski-epreuv
 e-date">Le Dimanche 02 Mars 2025 à 10:30</div><ul class="gski-epreuve-liste
 -infos"><li>Codex épreuve FMVM0214</li><li>Catégorie(s) : U18 a SEN (Hommes
 )</li><li>Mass Start (Depart ligne)</li><li>Distance : 10 / Style : C</li><
 /ul></li></ul></div><div class="gskiepreuves-links"><ul><li><a href="/index
 .php?option=com_jevents&task=icalevent.detail&evid=2421&Itemid=6289">Voir l
 es informations dans l'agenda...</a></li><li><a href="/index.php?option=com
 _gskiepreuves&view=afficheresultats&format_option=tous&filter[search]=FMVT0
 210&filter[date_debut]=02-03-2025&filter[date_fin]=02-03-2025&code_activite
 =FOND&Itemid=6289">Vers les résultats...</a></li></ul></div></div"><!-- #/g
 skiepreuve fin du dode généré par le plugin jevents pour GskiEpreuves. . Ne
  pas modifier cette ligne, ni tout le contenu précedant.  #/gskiepreuve -->
  <a href="https://skivosges.net/agenda/a-venir/detailevenement/2426/-/gp-va
 gney-rochesson-michel-et-jean-pierre-didierlaurent-bg-mat-salomon-n-10-u13-
 9-credit-mutuel-n-9?tmpl=component">Cet évènement a été importé depuis :htt
 ps://skivosges.net/agenda/a-venir/detailevenement/2426/-/gp-vagney-rochesso
 n-michel-et-jean-pierre-didierlaurent-bg-mat-salomon-n-10-u13-9-credit-mutu
 el-n-9?tmpl=component</a>
X-ALT-DESC;FMTTYPE=text/html:<!-- #gskiepreuve code généré par le plugin jevents pour GskiEpreuves. Ne p
 as modifier cette ligne, ni tout le contenu suivant  #gskiepreuve --><div c
 lass="gski-evenement_infos"><div class="gski-evenement-nom">GP VAGNEY-ROCHE
 SSON - Michel et Jean-Pierre Didierlaurent BG MAT SALOMON N°10 U13(9) CREDI
 T MUTUEL N°9</div><div class="gski-evenement-report"> <font class="gskiatte
 ntion">(Report de l'épreuve initialement prévue le 09/03/2025)</font></div>
 <ul class="gski-evenement-liste-infos"><li>Codex évenement FMVT0210</li><li
 >Lieu : lispach</li><li>Station : la bresse</li><li>Organisateur : 14329 SK
 I CLUB VAGNEY ROCHESSON</li><li>Courriel : <!-- Cette adresse électronique 
 est protégée contre les robots spammeurs. --><span class="cloaked_email ep_
 e8153444"><span data-ep-b="" data-ep-a="&#115;&#97;&#109;u&#101;"><span dat
 a-ep-b="o&#111;.&#102;r" data-ep-a="&#108;&#118;a&#108;d"><span data-ep-a="
 &#101;&#110;a&#105;&#114;" data-ep-b="&#101;&#64;ya&#104;"></span></span></
 span></span><script>RegularLabs.EmailProtector.unCloak("ep_e8153444");</scr
 ipt></li><li><span class="gski-evenement-obs">Délégué Technique : PHILIPPE 
 MICHEL-ALAIN</span></li></ul><div class="gski-evenement-infos-2"><div class
 ="gski-evenement-info-inscriptions"><div class="gski-evenement-inscriptions
 -periodes">Période d'inscription à l'evènement du Lundi 17 Février 2025 à 0
 0:00 au Vendredi 28 Février 2025 à 12:00<div class="gski-evenement-inscript
 ions-types-titres">Inscriptions ouvertes aux detenteurs des titres Fédéraux
  valides suivants : Licenciés Compétiteurs</div></div></div><div class="gsk
 iepreuves-links"><ul><li><a href="https://skivosges.net/index.php?option=co
 m_jevents&task=icalevent.detail&evid=2421&Itemid=6289">Voir les information
 s dans l'agenda...</a></li><li><a href="https://skivosges.net/index.php?opt
 ion=com_gskiepreuves&view=afficheresultats&format_option=tous&filter[search
 ]=FMVT0210&filter[date_debut]=02-03-2025&filter[date_fin]=02-03-2025&code_a
 ctivite=FOND&Itemid=6289">Vers les résultats...</a></li></ul></div><div cla
 ss="gski-evenement-epreuves"><div class="gski-evenement-epreuves-titres">Ep
 reuves :</div><ul class="gski-evenement-epreuves-list"><li><div class="gski
 -epreuve-date">Le Dimanche 02 Mars 2025 à 09:02</div><ul class="gski-epreuv
 e-liste-infos"><li>Codex épreuve FMVF0211</li><li>Catégorie(s) : U13 (Fille
 s)</li><li>Mass Start (Depart ligne)</li><li>Distance : 3 / Style : C</li><
 /ul></li><li><div class="gski-epreuve-date">Le Dimanche 02 Mars 2025 à 09:0
 0</div><ul class="gski-epreuve-liste-infos"><li>Codex épreuve FMVM0211</li>
 <li>Catégorie(s) : U13 (Garçons)</li><li>Mass Start (Depart ligne)</li><li>
 Distance : 3 / Style : C</li></ul></li><li><div class="gski-epreuve-date">L
 e Dimanche 02 Mars 2025 à 09:22</div><ul class="gski-epreuve-liste-infos"><
 li>Codex épreuve FMVF0212</li><li>Catégorie(s) : U15 (Filles)</li><li>Mass 
 Start (Depart ligne)</li><li>Distance : 5 / Style : C</li></ul></li><li><di
 v class="gski-epreuve-date">Le Dimanche 02 Mars 2025 à 09:20</div><ul class
 ="gski-epreuve-liste-infos"><li>Codex épreuve FMVM0212</li><li>Catégorie(s)
  : U15 (Garçons)</li><li>Mass Start (Depart ligne)</li><li>Distance : 5 / S
 tyle : C</li></ul></li><li><div class="gski-epreuve-date">Le Dimanche 02 Ma
 rs 2025 à 09:50</div><ul class="gski-epreuve-liste-infos"><li>Codex épreuve
  FMVM0213</li><li>Catégorie(s) : U16 (Hommes)</li><li>Mass Start (Depart li
 gne)</li><li>Distance : 7.5 / Style : C</li></ul></li><li><div class="gski-
 epreuve-date">Le Dimanche 02 Mars 2025 à 09:50</div><ul class="gski-epreuve
 -liste-infos"><li>Codex épreuve FMVF0214</li><li>Catégorie(s) : U16 a SEN (
 Dames)</li><li>Mass Start (Depart ligne)</li><li>Distance : 7.5 / Style : C
 </li></ul></li><li><div class="gski-epreuve-date">Le Dimanche 02 Mars 2025 
 à 10:30</div><ul class="gski-epreuve-liste-infos"><li>Codex épreuve FMVM021
 4</li><li>Catégorie(s) : U18 a SEN (Hommes)</li><li>Mass Start (Depart lign
 e)</li><li>Distance : 10 / Style : C</li></ul></li></ul></div><div class="g
 skiepreuves-links"><ul><li><a href="https://skivosges.net/index.php?option=
 com_jevents&task=icalevent.detail&evid=2421&Itemid=6289">Voir les informati
 ons dans l'agenda...</a></li><li><a href="https://skivosges.net/index.php?o
 ption=com_gskiepreuves&view=afficheresultats&format_option=tous&filter[sear
 ch]=FMVT0210&filter[date_debut]=02-03-2025&filter[date_fin]=02-03-2025&code
 _activite=FOND&Itemid=6289">Vers les résultats...</a></li></ul></div></div"
 ><!-- #/gskiepreuve fin du dode généré par le plugin jevents pour GskiEpreu
 ves. . Ne pas modifier cette ligne, ni tout le contenu précedant.  #/gskiep
 reuve --> <a href="https://skivosges.net/agenda/a-venir/detailevenement/242
 6/-/gp-vagney-rochesson-michel-et-jean-pierre-didierlaurent-bg-mat-salomon-
 n-10-u13-9-credit-mutuel-n-9?tmpl=component">Cet évènement a été importé de
 puis :https://skivosges.net/agenda/a-venir/detailevenement/2426/-/gp-vagney
 -rochesson-michel-et-jean-pierre-didierlaurent-bg-mat-salomon-n-10-u13-9-cr
 edit-mutuel-n-9?tmpl=component</a>DTSTAMP:20260420T233009
DTSTART;TZID=Europe/Paris;VALUE=DATE:20250302
DTEND;TZID=Europe/Paris;VALUE=DATE:20250303
SEQUENCE:0
TRANSP:OPAQUE
END:VEVENT
END:VCALENDAR