BEGIN:VCALENDAR
VERSION:2.0
PRODID:-//jEvents 2.0 for Joomla//EN
CALSCALE:GREGORIAN
METHOD:PUBLISH
BEGIN:VTIMEZONE
TZID:Europe/Paris
BEGIN:STANDARD
DTSTART:20240229T000000
RDATE:20240331T030000
TZOFFSETFROM:+0200
TZOFFSETTO:+0100
TZNAME:Europe/Paris CET
END:STANDARD
BEGIN:STANDARD
DTSTART:20241027T020000
RDATE:20250330T030000
TZOFFSETFROM:+0200
TZOFFSETTO:+0100
TZNAME:Europe/Paris CET
END:STANDARD
BEGIN:STANDARD
DTSTART:20251026T020000
RDATE:20260329T030000
TZOFFSETFROM:+0200
TZOFFSETTO:+0100
TZNAME:Europe/Paris CET
END:STANDARD
BEGIN:STANDARD
DTSTART:20261025T020000
RDATE:20270328T030000
TZOFFSETFROM:+0200
TZOFFSETTO:+0100
TZNAME:Europe/Paris CET
END:STANDARD
BEGIN:DAYLIGHT
DTSTART:20240331T030000
RDATE:20241027T020000
TZOFFSETFROM:+0100
TZOFFSETTO:+0200
TZNAME:Europe/Paris CEST
END:DAYLIGHT
BEGIN:DAYLIGHT
DTSTART:20250330T030000
RDATE:20251026T020000
TZOFFSETFROM:+0100
TZOFFSETTO:+0200
TZNAME:Europe/Paris CEST
END:DAYLIGHT
BEGIN:DAYLIGHT
DTSTART:20260329T030000
RDATE:20261025T020000
TZOFFSETFROM:+0100
TZOFFSETTO:+0200
TZNAME:Europe/Paris CEST
END:DAYLIGHT
END:VTIMEZONE
BEGIN:VEVENT
UID:0852113378c87931dd1db3f924ddfbe4
CATEGORIES:Circuit Massif Jeunes (alpin)
CREATED:20250225T204102
SUMMARY:CJM Prix de la Pâtisserie GILG Munster - Mémorial Olivier Kling
URL;VALUE=URI:https://skivosges.net/agenda/a-venir/detailevenement/2427/-/cjm-prix-de-la-
 patisserie-gilg-munster-memorial-olivier-kling?tmpl=component
DESCRIPTION:CJM Prix de la Pâtisserie GILG Munster - Mémorial Olivier Kling (Report de 
 l'épreuve initialement prévue le 09/03/2025)\n - Codex évenement AMVT0680\n
  - Station : SCHNEPFENRIED\n - Organisateur : 14199 SKIEURS DU TANET\n - Co
 urriel : RegularLabs.EmailProtector.unCloak("ep_4bbf59a8");\n - Téléphone :
  06.83.42.40.72Période d'inscription à l'evènement du Samedi 22 Février 202
 5 à 00:00 au Vendredi 28 Février 2025 à 12:00Inscriptions ouvertes aux dete
 nteurs des titres Fédéraux valides suivants : Licenciés CompétiteursL'épreu
 ve sera chronométrée en direct sur https://skivosges.net/live\n - Voir les 
 informations dans l'agenda... (/index.php?option=com_jevents&amp;task=icale
 vent.detail&amp;evid=2422&amp;Itemid=6289)\n - Vers les résultats... (/inde
 x.php?option=com_gskiepreuves&amp;view=afficheresultats&amp;format_option=t
 ous&amp;filter[search]=AMVT0680&amp;filter[date_debut]=01-03-2025&amp;filte
 r[date_fin]=01-03-2025&amp;code_activite=ALP&amp;Itemid=6289)\n - Publicati
 ons concernant cet évènement :\n - Jeudi 27 Février 2025 à 23:00 : Le 01/03
 /2025 SCHNEPFENRIED/Alpin InformationsEpreuves :\n - Le Samedi 01 Mars 2025
  à 09:00\n - Codex épreuve AMVM0681\n - Catégorie(s) : U12/U14 (Garçons)\n 
 - Slalom\n - Le Samedi 01 Mars 2025 à 09:00\n - Codex épreuve AMVF0681\n - 
 Catégorie(s) : U12/U14 (Filles)\n - Slalom\n - Voir les informations dans l
 'agenda... (/index.php?option=com_jevents&amp;task=icalevent.detail&amp;evi
 d=2422&amp;Itemid=6289)\n - Vers les résultats... (/index.php?option=com_gs
 kiepreuves&amp;view=afficheresultats&amp;format_option=tous&amp;filter[sear
 ch]=AMVT0680&amp;filter[date_debut]=01-03-2025&amp;filter[date_fin]=01-03-2
 025&amp;code_activite=ALP&amp;Itemid=6289)\n - Publications concernant cet 
 évènement :\n - Jeudi 27 Février 2025 à 23:00 : Le 01/03/2025 SCHNEPFENRIED
 /Alpin Informations Cet évènement a été importé depuis :https://skivosges.n
 et/agenda/a-venir/detailevenement/2427/-/cjm-prix-de-la-patisserie-gilg-mun
 ster-memorial-olivier-kling?tmpl=component (https://skivosges.net/agenda/a-
 venir/detailevenement/2427/-/cjm-prix-de-la-patisserie-gilg-munster-memoria
 l-olivier-kling?tmpl=component)
X-ALT-DESC;FMTTYPE=text/html:<!-- #gskiepreuve code généré par le plugin jevents pour GskiEpreuves. Ne p
 as modifier cette ligne, ni tout le contenu suivant  #gskiepreuve --><div c
 lass="gski-evenement_infos"><div class="gski-evenement-nom">CJM Prix de la 
 Pâtisserie GILG Munster - Mémorial Olivier Kling</div><div class="gski-even
 ement-report"> <font class="gskiattention">(Report de l'épreuve initialemen
 t prévue le 09/03/2025)</font></div><ul class="gski-evenement-liste-infos">
 <li>Codex évenement AMVT0680</li><li>Station : SCHNEPFENRIED</li><li>Organi
 sateur : 14199 SKIEURS DU TANET</li><li>Courriel : <!-- Cette adresse élect
 ronique est protégée contre les robots spammeurs. --><span class="cloaked_e
 mail ep_4bbf59a8"><span data-ep-b="r" data-ep-a="p&#105;&#101;&#114;"><span
  data-ep-a="&#114;&#97;&#116;&#46;" data-ep-b="&#117;&#102;&#46;&#102;"><sp
 an data-ep-a="b&#114;&#105;&#99;" data-ep-b="&#101;&#64;&#110;&#101;"></spa
 n></span></span></span><script>RegularLabs.EmailProtector.unCloak("ep_4bbf5
 9a8");</script></li><li>Téléphone : 06.83.42.40.72</li></ul><div class="gsk
 i-evenement-infos-2"><div class="gski-evenement-info-inscriptions"><div cla
 ss="gski-evenement-inscriptions-periodes">Période d'inscription à l'evèneme
 nt du Samedi 22 Février 2025 à 00:00 au Vendredi 28 Février 2025 à 12:00<di
 v class="gski-evenement-inscriptions-types-titres">Inscriptions ouvertes au
 x detenteurs des titres Fédéraux valides suivants : Licenciés Compétiteurs<
 /div></div></div><div class="gski-evenement-info-live">L'épreuve sera chron
 ométrée en direct sur https://skivosges.net/live</div><div class="gskiepreu
 ves-links"><ul><li><a href="https://skivosges.net/index.php?option=com_jeve
 nts&task=icalevent.detail&evid=2422&Itemid=6289">Voir les informations dans
  l'agenda...</a></li><li><a href="https://skivosges.net/index.php?option=co
 m_gskiepreuves&view=afficheresultats&format_option=tous&filter[search]=AMVT
 0680&filter[date_debut]=01-03-2025&filter[date_fin]=01-03-2025&code_activit
 e=ALP&Itemid=6289">Vers les résultats...</a></li><li>Publications concernan
 t cet évènement :<ul><li><a href="https://skivosges.net/index.php?option=co
 m_content&view=article&id=8631&Itemid=6289">Jeudi 27 Février 2025 à 23:00 :
  Le 01/03/2025 SCHNEPFENRIED/Alpin Informations</a></li></ul></li></ul></di
 v><div class="gski-evenement-epreuves"><div class="gski-evenement-epreuves-
 titres">Epreuves :</div><ul class="gski-evenement-epreuves-list"><li><div c
 lass="gski-epreuve-date">Le Samedi 01 Mars 2025 à 09:00</div><ul class="gsk
 i-epreuve-liste-infos"><li>Codex épreuve AMVM0681</li><li>Catégorie(s) : U1
 2/U14 (Garçons)</li><li>Slalom</li></ul></li><li><div class="gski-epreuve-d
 ate">Le Samedi 01 Mars 2025 à 09:00</div><ul class="gski-epreuve-liste-info
 s"><li>Codex épreuve AMVF0681</li><li>Catégorie(s) : U12/U14 (Filles)</li><
 li>Slalom</li></ul></li></ul></div><div class="gskiepreuves-links"><ul><li>
 <a href="https://skivosges.net/index.php?option=com_jevents&task=icalevent.
 detail&evid=2422&Itemid=6289">Voir les informations dans l'agenda...</a></l
 i><li><a href="https://skivosges.net/index.php?option=com_gskiepreuves&view
 =afficheresultats&format_option=tous&filter[search]=AMVT0680&filter[date_de
 but]=01-03-2025&filter[date_fin]=01-03-2025&code_activite=ALP&Itemid=6289">
 Vers les résultats...</a></li><li>Publications concernant cet évènement :<u
 l><li><a href="https://skivosges.net/index.php?option=com_content&view=arti
 cle&id=8631&Itemid=6289">Jeudi 27 Février 2025 à 23:00 : Le 01/03/2025 SCHN
 EPFENRIED/Alpin Informations</a></li></ul></li></ul></div></div"><!-- #/gsk
 iepreuve fin du dode généré par le plugin jevents pour GskiEpreuves. . Ne p
 as modifier cette ligne, ni tout le contenu précedant.  #/gskiepreuve --> <
 a href="https://skivosges.net/agenda/a-venir/detailevenement/2427/-/cjm-pri
 x-de-la-patisserie-gilg-munster-memorial-olivier-kling?tmpl=component">Cet 
 évènement a été importé depuis :https://skivosges.net/agenda/a-venir/detail
 evenement/2427/-/cjm-prix-de-la-patisserie-gilg-munster-memorial-olivier-kl
 ing?tmpl=component</a>DTSTAMP:20260420T233010
DTSTART;TZID=Europe/Paris;VALUE=DATE:20250301
DTEND;TZID=Europe/Paris;VALUE=DATE:20250302
SEQUENCE:0
TRANSP:OPAQUE
END:VEVENT
END:VCALENDAR