BEGIN:VCALENDAR
VERSION:2.0
PRODID:-//jEvents 2.0 for Joomla//EN
CALSCALE:GREGORIAN
METHOD:PUBLISH
BEGIN:VTIMEZONE
TZID:Europe/Paris
BEGIN:STANDARD
DTSTART:20240229T000000
RDATE:20240331T030000
TZOFFSETFROM:+0200
TZOFFSETTO:+0100
TZNAME:Europe/Paris CET
END:STANDARD
BEGIN:STANDARD
DTSTART:20241027T020000
RDATE:20250330T030000
TZOFFSETFROM:+0200
TZOFFSETTO:+0100
TZNAME:Europe/Paris CET
END:STANDARD
BEGIN:STANDARD
DTSTART:20251026T020000
RDATE:20260329T030000
TZOFFSETFROM:+0200
TZOFFSETTO:+0100
TZNAME:Europe/Paris CET
END:STANDARD
BEGIN:STANDARD
DTSTART:20261025T020000
RDATE:20270328T030000
TZOFFSETFROM:+0200
TZOFFSETTO:+0100
TZNAME:Europe/Paris CET
END:STANDARD
BEGIN:DAYLIGHT
DTSTART:20240331T030000
RDATE:20241027T020000
TZOFFSETFROM:+0100
TZOFFSETTO:+0200
TZNAME:Europe/Paris CEST
END:DAYLIGHT
BEGIN:DAYLIGHT
DTSTART:20250330T030000
RDATE:20251026T020000
TZOFFSETFROM:+0100
TZOFFSETTO:+0200
TZNAME:Europe/Paris CEST
END:DAYLIGHT
BEGIN:DAYLIGHT
DTSTART:20260329T030000
RDATE:20261025T020000
TZOFFSETFROM:+0100
TZOFFSETTO:+0200
TZNAME:Europe/Paris CEST
END:DAYLIGHT
END:VTIMEZONE
BEGIN:VEVENT
UID:e452b3886a76fe6d57c025599ce31d44
CATEGORIES:Circuit Massif Adultes (alpin)
CREATED:20250225T204239
SUMMARY:CAM Prix de la Pâtisserie GILG Munster - Mémorial Olivier Kling
URL;VALUE=URI:https://skivosges.net/agenda/a-venir/detailevenement/2428/-/cam-prix-de-la-
 patisserie-gilg-munster-memorial-olivier-kling?tmpl=component
DESCRIPTION:<!-- #gskiepreuve code généré par le plugin jevents pour GskiEpreuves. Ne p
 as modifier cette ligne, ni tout le contenu suivant  #gskiepreuve --><div c
 lass="gski-evenement_infos"><div class="gski-evenement-nom">CAM Prix de la 
 Pâtisserie GILG Munster - Mémorial Olivier Kling</div><div class="gski-even
 ement-report"> <font class="gskiattention">(Report de l'épreuve initialemen
 t prévue le 09/03/2025)</font></div><ul class="gski-evenement-liste-infos">
 <li>Codex évenement AMVT0560</li><li>Station : SCHNEPFENRIED</li><li>Organi
 sateur : 14199 SKIEURS DU TANET</li><li>Courriel : <!-- Cette adresse élect
 ronique est protégée contre les robots spammeurs. --><span class="cloaked_e
 mail ep_b31536d7"><span data-ep-b="&#114;" data-ep-a="p&#105;e&#114;"><span
  data-ep-a="r&#97;&#116;&#46;" data-ep-b="uf&#46;f"><span data-ep-b="e&#64;
 &#110;e" data-ep-a="b&#114;&#105;c"></span></span></span></span><script>Reg
 ularLabs.EmailProtector.unCloak("ep_b31536d7");</script></li><li>Téléphone 
 : 06.83.42.40.72</li></ul><div class="gski-evenement-infos-2"><div class="g
 ski-evenement-info-inscriptions"><div class="gski-evenement-inscriptions-pe
 riodes">Période d'inscription à l'evènement du Samedi 22 Février 2025 à 00:
 00 au Vendredi 28 Février 2025 à 12:00<div class="gski-evenement-inscriptio
 ns-types-titres">Inscriptions ouvertes aux detenteurs des titres Fédéraux v
 alides suivants : Licenciés Compétiteurs</div></div></div><div class="gski-
 evenement-info-live">L'épreuve sera chronométrée en direct sur https://skiv
 osges.net/live</div><div class="gskiepreuves-links"><ul><li><a href="/index
 .php?option=com_jevents&task=icalevent.detail&evid=2423&Itemid=6289">Voir l
 es informations dans l'agenda...</a></li><li><a href="/index.php?option=com
 _gskiepreuves&view=afficheresultats&format_option=tous&filter[search]=AMVT0
 560&filter[date_debut]=01-03-2025&filter[date_fin]=01-03-2025&code_activite
 =ALP&Itemid=6289">Vers les résultats...</a></li><li>Publications concernant
  cet évènement :<ul><li><a href="/index.php?option=com_content&view=article
 &id=8632&Itemid=6289">Jeudi 27 Février 2025 à 23:02 : Le 01/03/2025 SCHNEPF
 ENRIED/Alpin Informations</a></li></ul></li></ul></div><div class="gski-eve
 nement-epreuves"><div class="gski-evenement-epreuves-titres">Epreuves :</di
 v><ul class="gski-evenement-epreuves-list"><li><div class="gski-epreuve-dat
 e">Le Samedi 01 Mars 2025 à 09:00</div><ul class="gski-epreuve-liste-infos"
 ><li>Codex épreuve AMVM0561</li><li>Catégorie(s) : U16 (Garçons)</li><li>Sl
 alom</li></ul></li><li><div class="gski-epreuve-date">Le Samedi 01 Mars 202
 5 à 09:00</div><ul class="gski-epreuve-liste-infos"><li>Codex épreuve AMVF0
 561</li><li>Catégorie(s) : U16 (Filles)</li><li>Slalom</li></ul></li></ul><
 /div><div class="gskiepreuves-links"><ul><li><a href="/index.php?option=com
 _jevents&task=icalevent.detail&evid=2423&Itemid=6289">Voir les informations
  dans l'agenda...</a></li><li><a href="/index.php?option=com_gskiepreuves&v
 iew=afficheresultats&format_option=tous&filter[search]=AMVT0560&filter[date
 _debut]=01-03-2025&filter[date_fin]=01-03-2025&code_activite=ALP&Itemid=628
 9">Vers les résultats...</a></li><li>Publications concernant cet évènement 
 :<ul><li><a href="/index.php?option=com_content&view=article&id=8632&Itemid
 =6289">Jeudi 27 Février 2025 à 23:02 : Le 01/03/2025 SCHNEPFENRIED/Alpin In
 formations</a></li></ul></li></ul></div></div"><!-- #/gskiepreuve fin du do
 de généré par le plugin jevents pour GskiEpreuves. . Ne pas modifier cette 
 ligne, ni tout le contenu précedant.  #/gskiepreuve --> <a href="https://sk
 ivosges.net/agenda/a-venir/detailevenement/2428/-/cam-prix-de-la-patisserie
 -gilg-munster-memorial-olivier-kling?tmpl=component">Cet évènement a été im
 porté depuis :https://skivosges.net/agenda/a-venir/detailevenement/2428/-/c
 am-prix-de-la-patisserie-gilg-munster-memorial-olivier-kling?tmpl=component
 </a>
X-ALT-DESC;FMTTYPE=text/html:<!-- #gskiepreuve code généré par le plugin jevents pour GskiEpreuves. Ne p
 as modifier cette ligne, ni tout le contenu suivant  #gskiepreuve --><div c
 lass="gski-evenement_infos"><div class="gski-evenement-nom">CAM Prix de la 
 Pâtisserie GILG Munster - Mémorial Olivier Kling</div><div class="gski-even
 ement-report"> <font class="gskiattention">(Report de l'épreuve initialemen
 t prévue le 09/03/2025)</font></div><ul class="gski-evenement-liste-infos">
 <li>Codex évenement AMVT0560</li><li>Station : SCHNEPFENRIED</li><li>Organi
 sateur : 14199 SKIEURS DU TANET</li><li>Courriel : <!-- Cette adresse élect
 ronique est protégée contre les robots spammeurs. --><span class="cloaked_e
 mail ep_b31536d7"><span data-ep-b="&#114;" data-ep-a="p&#105;e&#114;"><span
  data-ep-a="r&#97;&#116;&#46;" data-ep-b="uf&#46;f"><span data-ep-b="e&#64;
 &#110;e" data-ep-a="b&#114;&#105;c"></span></span></span></span><script>Reg
 ularLabs.EmailProtector.unCloak("ep_b31536d7");</script></li><li>Téléphone 
 : 06.83.42.40.72</li></ul><div class="gski-evenement-infos-2"><div class="g
 ski-evenement-info-inscriptions"><div class="gski-evenement-inscriptions-pe
 riodes">Période d'inscription à l'evènement du Samedi 22 Février 2025 à 00:
 00 au Vendredi 28 Février 2025 à 12:00<div class="gski-evenement-inscriptio
 ns-types-titres">Inscriptions ouvertes aux detenteurs des titres Fédéraux v
 alides suivants : Licenciés Compétiteurs</div></div></div><div class="gski-
 evenement-info-live">L'épreuve sera chronométrée en direct sur https://skiv
 osges.net/live</div><div class="gskiepreuves-links"><ul><li><a href="https:
 //skivosges.net/index.php?option=com_jevents&task=icalevent.detail&evid=242
 3&Itemid=6289">Voir les informations dans l'agenda...</a></li><li><a href="
 https://skivosges.net/index.php?option=com_gskiepreuves&view=afficheresulta
 ts&format_option=tous&filter[search]=AMVT0560&filter[date_debut]=01-03-2025
 &filter[date_fin]=01-03-2025&code_activite=ALP&Itemid=6289">Vers les résult
 ats...</a></li><li>Publications concernant cet évènement :<ul><li><a href="
 https://skivosges.net/index.php?option=com_content&view=article&id=8632&Ite
 mid=6289">Jeudi 27 Février 2025 à 23:02 : Le 01/03/2025 SCHNEPFENRIED/Alpin
  Informations</a></li></ul></li></ul></div><div class="gski-evenement-epreu
 ves"><div class="gski-evenement-epreuves-titres">Epreuves :</div><ul class=
 "gski-evenement-epreuves-list"><li><div class="gski-epreuve-date">Le Samedi
  01 Mars 2025 à 09:00</div><ul class="gski-epreuve-liste-infos"><li>Codex é
 preuve AMVM0561</li><li>Catégorie(s) : U16 (Garçons)</li><li>Slalom</li></u
 l></li><li><div class="gski-epreuve-date">Le Samedi 01 Mars 2025 à 09:00</d
 iv><ul class="gski-epreuve-liste-infos"><li>Codex épreuve AMVF0561</li><li>
 Catégorie(s) : U16 (Filles)</li><li>Slalom</li></ul></li></ul></div><div cl
 ass="gskiepreuves-links"><ul><li><a href="https://skivosges.net/index.php?o
 ption=com_jevents&task=icalevent.detail&evid=2423&Itemid=6289">Voir les inf
 ormations dans l'agenda...</a></li><li><a href="https://skivosges.net/index
 .php?option=com_gskiepreuves&view=afficheresultats&format_option=tous&filte
 r[search]=AMVT0560&filter[date_debut]=01-03-2025&filter[date_fin]=01-03-202
 5&code_activite=ALP&Itemid=6289">Vers les résultats...</a></li><li>Publicat
 ions concernant cet évènement :<ul><li><a href="https://skivosges.net/index
 .php?option=com_content&view=article&id=8632&Itemid=6289">Jeudi 27 Février 
 2025 à 23:02 : Le 01/03/2025 SCHNEPFENRIED/Alpin Informations</a></li></ul>
 </li></ul></div></div"><!-- #/gskiepreuve fin du dode généré par le plugin 
 jevents pour GskiEpreuves. . Ne pas modifier cette ligne, ni tout le conten
 u précedant.  #/gskiepreuve --> <a href="https://skivosges.net/agenda/a-ven
 ir/detailevenement/2428/-/cam-prix-de-la-patisserie-gilg-munster-memorial-o
 livier-kling?tmpl=component">Cet évènement a été importé depuis :https://sk
 ivosges.net/agenda/a-venir/detailevenement/2428/-/cam-prix-de-la-patisserie
 -gilg-munster-memorial-olivier-kling?tmpl=component</a>DTSTAMP:20260421T013030
DTSTART;TZID=Europe/Paris;VALUE=DATE:20250301
DTEND;TZID=Europe/Paris;VALUE=DATE:20250302
SEQUENCE:0
TRANSP:OPAQUE
END:VEVENT
END:VCALENDAR