BEGIN:VCALENDAR
VERSION:2.0
PRODID:-//jEvents 2.0 for Joomla//EN
CALSCALE:GREGORIAN
METHOD:PUBLISH
BEGIN:VTIMEZONE
TZID:Europe/Paris
BEGIN:STANDARD
DTSTART:20240307T000000
RDATE:20240331T030000
TZOFFSETFROM:+0200
TZOFFSETTO:+0100
TZNAME:Europe/Paris CET
END:STANDARD
BEGIN:STANDARD
DTSTART:20241027T020000
RDATE:20250330T030000
TZOFFSETFROM:+0200
TZOFFSETTO:+0100
TZNAME:Europe/Paris CET
END:STANDARD
BEGIN:STANDARD
DTSTART:20251026T020000
RDATE:20260329T030000
TZOFFSETFROM:+0200
TZOFFSETTO:+0100
TZNAME:Europe/Paris CET
END:STANDARD
BEGIN:STANDARD
DTSTART:20261025T020000
RDATE:20270328T030000
TZOFFSETFROM:+0200
TZOFFSETTO:+0100
TZNAME:Europe/Paris CET
END:STANDARD
BEGIN:DAYLIGHT
DTSTART:20240331T030000
RDATE:20241027T020000
TZOFFSETFROM:+0100
TZOFFSETTO:+0200
TZNAME:Europe/Paris CEST
END:DAYLIGHT
BEGIN:DAYLIGHT
DTSTART:20250330T030000
RDATE:20251026T020000
TZOFFSETFROM:+0100
TZOFFSETTO:+0200
TZNAME:Europe/Paris CEST
END:DAYLIGHT
BEGIN:DAYLIGHT
DTSTART:20260329T030000
RDATE:20261025T020000
TZOFFSETFROM:+0100
TZOFFSETTO:+0200
TZNAME:Europe/Paris CEST
END:DAYLIGHT
END:VTIMEZONE
BEGIN:VEVENT
UID:4db04992313535645d6e0f52505fe0e2
CATEGORIES:Circuit Massif Masters (alpin)
CREATED:20250304T133738
SUMMARY:CMM Prix Esprit Racing
URL;VALUE=URI:https://skivosges.net/agenda/a-venir/detailevenement/2429/-/cmm-prix-esprit
 -racing?tmpl=component
DESCRIPTION:<!-- #gskiepreuve code généré par le plugin jevents pour GskiEpreuves. Ne p
 as modifier cette ligne, ni tout le contenu suivant  #gskiepreuve --><div c
 lass="gski-evenement_infos"><div class="gski-evenement-nom">CMM Prix Esprit
  Racing</div><div class="gski-evenement-report"> <font class="gskiattention
 ">(Report de l'épreuve initialement prévue le 01/03/2025)</font></div><ul c
 lass="gski-evenement-liste-infos"><li>Codex évenement AMVT0480</li><li>Lieu
  : LA BRESSE HOHNECK</li><li>Station : LA BRESSE</li><li>Piste : GABY CURIE
 N</li><li>Organisateur : 14024 LA BRESSAUDE SECTION SKI</li><li>Courriel : 
 <!-- Cette adresse électronique est protégée contre les robots spammeurs. -
 -><span class="cloaked_email ep_db72ed5f"><span data-ep-b="&#102;&#114;" da
 ta-ep-a="odi&#108;&#101;"><span data-ep-a="&#46;&#109;&#117;&#110;&#115;" d
 ata-ep-b="&#97;&#110;&#103;e&#46;"><span data-ep-b="lb&#64;&#111;&#114;" da
 ta-ep-a="c&#104;.s&#99;"></span></span></span></span><script>RegularLabs.Em
 ailProtector.unCloak("ep_db72ed5f");</script></li><li><span class="gski-eve
 nement-obs">Délégué Technique : PETER DENIS</span></li></ul><div class="gsk
 i-evenement-infos-2"><div class="gski-evenement-info-inscriptions"><div cla
 ss="gski-evenement-inscriptions-periodes">Période d'inscription à l'evèneme
 nt du Samedi 01 Mars 2025 à 00:00 au Vendredi 07 Mars 2025 à 12:00<div clas
 s="gski-evenement-inscriptions-types-titres">Inscriptions ouvertes aux dete
 nteurs des titres Fédéraux valides suivants : Licenciés Compétiteurs</div><
 /div></div><div class="gskiepreuves-links"><ul><li><a href="/index.php?opti
 on=com_jevents&task=icalevent.detail&evid=2424&Itemid=6289">Voir les inform
 ations dans l'agenda...</a></li><li><a href="/index.php?option=com_gskiepre
 uves&view=afficheresultats&format_option=tous&filter[search]=AMVT0480&filte
 r[date_debut]=08-03-2025&filter[date_fin]=08-03-2025&code_activite=ALP&Item
 id=6289">Vers les résultats...</a></li><li>Publications concernant cet évèn
 ement :<ul><li><a href="/index.php?option=com_content&view=article&id=8659&
 Itemid=6289">Vendredi 7 Mars 2025 à 20:21 : Le 08/03/2025 LA BRESSE/Alpin L
 iste de départs</a></li><li><a href="/index.php?option=com_content&view=art
 icle&id=8652&Itemid=6289">Jeudi 6 Mars 2025 à 20:27 : Le 08/03/2025 LA BRES
 SE/Alpin Informations</a></li><li><a href="/index.php?option=com_content&vi
 ew=article&id=8649&Itemid=6289">Jeudi 6 Mars 2025 à 00:36 : Le 08/03/2025 L
 A BRESSE/Alpin Informations</a></li></ul></li></ul></div><div class="gski-e
 venement-epreuves"><div class="gski-evenement-epreuves-titres">Epreuves :</
 div><ul class="gski-evenement-epreuves-list"><li><div class="gski-epreuve-d
 ate">Le Samedi 08 Mars 2025 à 09:30</div><ul class="gski-epreuve-liste-info
 s"><li>Codex épreuve AMVM0481</li><li>Catégorie(s) : Toutes les categories 
 (ABCD) (Hommes)</li><li>Slalom</li></ul></li><li><div class="gski-epreuve-d
 ate">Le Samedi 08 Mars 2025 à 09:30</div><ul class="gski-epreuve-liste-info
 s"><li>Codex épreuve AMVF0481</li><li>Catégorie(s) : Toutes les categories 
 (ABCD) (Dames)</li><li>Slalom</li></ul></li></ul></div><div class="gskiepre
 uves-links"><ul><li><a href="/index.php?option=com_jevents&task=icalevent.d
 etail&evid=2424&Itemid=6289">Voir les informations dans l'agenda...</a></li
 ><li><a href="/index.php?option=com_gskiepreuves&view=afficheresultats&form
 at_option=tous&filter[search]=AMVT0480&filter[date_debut]=08-03-2025&filter
 [date_fin]=08-03-2025&code_activite=ALP&Itemid=6289">Vers les résultats...<
 /a></li><li>Publications concernant cet évènement :<ul><li><a href="/index.
 php?option=com_content&view=article&id=8659&Itemid=6289">Vendredi 7 Mars 20
 25 à 20:21 : Le 08/03/2025 LA BRESSE/Alpin Liste de départs</a></li><li><a 
 href="/index.php?option=com_content&view=article&id=8652&Itemid=6289">Jeudi
  6 Mars 2025 à 20:27 : Le 08/03/2025 LA BRESSE/Alpin Informations</a></li><
 li><a href="/index.php?option=com_content&view=article&id=8649&Itemid=6289"
 >Jeudi 6 Mars 2025 à 00:36 : Le 08/03/2025 LA BRESSE/Alpin Informations</a>
 </li></ul></li></ul></div></div"><!-- #/gskiepreuve fin du dode généré par 
 le plugin jevents pour GskiEpreuves. . Ne pas modifier cette ligne, ni tout
  le contenu précedant.  #/gskiepreuve --> <a href="https://skivosges.net/ag
 enda/a-venir/detailevenement/2429/-/cmm-prix-esprit-racing?tmpl=component">
 Cet évènement a été importé depuis :https://skivosges.net/agenda/a-venir/de
 tailevenement/2429/-/cmm-prix-esprit-racing?tmpl=component</a>
X-ALT-DESC;FMTTYPE=text/html:<!-- #gskiepreuve code généré par le plugin jevents pour GskiEpreuves. Ne p
 as modifier cette ligne, ni tout le contenu suivant  #gskiepreuve --><div c
 lass="gski-evenement_infos"><div class="gski-evenement-nom">CMM Prix Esprit
  Racing</div><div class="gski-evenement-report"> <font class="gskiattention
 ">(Report de l'épreuve initialement prévue le 01/03/2025)</font></div><ul c
 lass="gski-evenement-liste-infos"><li>Codex évenement AMVT0480</li><li>Lieu
  : LA BRESSE HOHNECK</li><li>Station : LA BRESSE</li><li>Piste : GABY CURIE
 N</li><li>Organisateur : 14024 LA BRESSAUDE SECTION SKI</li><li>Courriel : 
 <!-- Cette adresse électronique est protégée contre les robots spammeurs. -
 -><span class="cloaked_email ep_db72ed5f"><span data-ep-b="&#102;&#114;" da
 ta-ep-a="odi&#108;&#101;"><span data-ep-a="&#46;&#109;&#117;&#110;&#115;" d
 ata-ep-b="&#97;&#110;&#103;e&#46;"><span data-ep-b="lb&#64;&#111;&#114;" da
 ta-ep-a="c&#104;.s&#99;"></span></span></span></span><script>RegularLabs.Em
 ailProtector.unCloak("ep_db72ed5f");</script></li><li><span class="gski-eve
 nement-obs">Délégué Technique : PETER DENIS</span></li></ul><div class="gsk
 i-evenement-infos-2"><div class="gski-evenement-info-inscriptions"><div cla
 ss="gski-evenement-inscriptions-periodes">Période d'inscription à l'evèneme
 nt du Samedi 01 Mars 2025 à 00:00 au Vendredi 07 Mars 2025 à 12:00<div clas
 s="gski-evenement-inscriptions-types-titres">Inscriptions ouvertes aux dete
 nteurs des titres Fédéraux valides suivants : Licenciés Compétiteurs</div><
 /div></div><div class="gskiepreuves-links"><ul><li><a href="https://skivosg
 es.net/index.php?option=com_jevents&task=icalevent.detail&evid=2424&Itemid=
 6289">Voir les informations dans l'agenda...</a></li><li><a href="https://s
 kivosges.net/index.php?option=com_gskiepreuves&view=afficheresultats&format
 _option=tous&filter[search]=AMVT0480&filter[date_debut]=08-03-2025&filter[d
 ate_fin]=08-03-2025&code_activite=ALP&Itemid=6289">Vers les résultats...</a
 ></li><li>Publications concernant cet évènement :<ul><li><a href="https://s
 kivosges.net/index.php?option=com_content&view=article&id=8659&Itemid=6289"
 >Vendredi 7 Mars 2025 à 20:21 : Le 08/03/2025 LA BRESSE/Alpin Liste de dépa
 rts</a></li><li><a href="https://skivosges.net/index.php?option=com_content
 &view=article&id=8652&Itemid=6289">Jeudi 6 Mars 2025 à 20:27 : Le 08/03/202
 5 LA BRESSE/Alpin Informations</a></li><li><a href="https://skivosges.net/i
 ndex.php?option=com_content&view=article&id=8649&Itemid=6289">Jeudi 6 Mars 
 2025 à 00:36 : Le 08/03/2025 LA BRESSE/Alpin Informations</a></li></ul></li
 ></ul></div><div class="gski-evenement-epreuves"><div class="gski-evenement
 -epreuves-titres">Epreuves :</div><ul class="gski-evenement-epreuves-list">
 <li><div class="gski-epreuve-date">Le Samedi 08 Mars 2025 à 09:30</div><ul 
 class="gski-epreuve-liste-infos"><li>Codex épreuve AMVM0481</li><li>Catégor
 ie(s) : Toutes les categories (ABCD) (Hommes)</li><li>Slalom</li></ul></li>
 <li><div class="gski-epreuve-date">Le Samedi 08 Mars 2025 à 09:30</div><ul 
 class="gski-epreuve-liste-infos"><li>Codex épreuve AMVF0481</li><li>Catégor
 ie(s) : Toutes les categories (ABCD) (Dames)</li><li>Slalom</li></ul></li><
 /ul></div><div class="gskiepreuves-links"><ul><li><a href="https://skivosge
 s.net/index.php?option=com_jevents&task=icalevent.detail&evid=2424&Itemid=6
 289">Voir les informations dans l'agenda...</a></li><li><a href="https://sk
 ivosges.net/index.php?option=com_gskiepreuves&view=afficheresultats&format_
 option=tous&filter[search]=AMVT0480&filter[date_debut]=08-03-2025&filter[da
 te_fin]=08-03-2025&code_activite=ALP&Itemid=6289">Vers les résultats...</a>
 </li><li>Publications concernant cet évènement :<ul><li><a href="https://sk
 ivosges.net/index.php?option=com_content&view=article&id=8659&Itemid=6289">
 Vendredi 7 Mars 2025 à 20:21 : Le 08/03/2025 LA BRESSE/Alpin Liste de dépar
 ts</a></li><li><a href="https://skivosges.net/index.php?option=com_content&
 view=article&id=8652&Itemid=6289">Jeudi 6 Mars 2025 à 20:27 : Le 08/03/2025
  LA BRESSE/Alpin Informations</a></li><li><a href="https://skivosges.net/in
 dex.php?option=com_content&view=article&id=8649&Itemid=6289">Jeudi 6 Mars 2
 025 à 00:36 : Le 08/03/2025 LA BRESSE/Alpin Informations</a></li></ul></li>
 </ul></div></div"><!-- #/gskiepreuve fin du dode généré par le plugin jeven
 ts pour GskiEpreuves. . Ne pas modifier cette ligne, ni tout le contenu pré
 cedant.  #/gskiepreuve --> <a href="https://skivosges.net/agenda/a-venir/de
 tailevenement/2429/-/cmm-prix-esprit-racing?tmpl=component">Cet évènement a
  été importé depuis :https://skivosges.net/agenda/a-venir/detailevenement/2
 429/-/cmm-prix-esprit-racing?tmpl=component</a>DTSTAMP:20260420T233010
DTSTART;TZID=Europe/Paris;VALUE=DATE:20250308
DTEND;TZID=Europe/Paris;VALUE=DATE:20250309
SEQUENCE:0
TRANSP:OPAQUE
END:VEVENT
END:VCALENDAR