BEGIN:VCALENDAR
VERSION:2.0
PRODID:-//jEvents 2.0 for Joomla//EN
CALSCALE:GREGORIAN
METHOD:PUBLISH
BEGIN:VTIMEZONE
TZID:Europe/Paris
BEGIN:STANDARD
DTSTART:20130314T080000
RDATE:20130331T030000
TZOFFSETFROM:+0200
TZOFFSETTO:+0100
TZNAME:Europe/Paris CET
END:STANDARD
BEGIN:STANDARD
DTSTART:20131027T020000
RDATE:20140330T030000
TZOFFSETFROM:+0200
TZOFFSETTO:+0100
TZNAME:Europe/Paris CET
END:STANDARD
BEGIN:STANDARD
DTSTART:20141026T020000
RDATE:20150329T030000
TZOFFSETFROM:+0200
TZOFFSETTO:+0100
TZNAME:Europe/Paris CET
END:STANDARD
BEGIN:STANDARD
DTSTART:20151025T020000
RDATE:20160327T030000
TZOFFSETFROM:+0200
TZOFFSETTO:+0100
TZNAME:Europe/Paris CET
END:STANDARD
BEGIN:STANDARD
DTSTART:20161030T020000
RDATE:20170326T030000
TZOFFSETFROM:+0200
TZOFFSETTO:+0100
TZNAME:Europe/Paris CET
END:STANDARD
BEGIN:STANDARD
DTSTART:20171029T020000
RDATE:20180325T030000
TZOFFSETFROM:+0200
TZOFFSETTO:+0100
TZNAME:Europe/Paris CET
END:STANDARD
BEGIN:STANDARD
DTSTART:20181028T020000
RDATE:20190331T030000
TZOFFSETFROM:+0200
TZOFFSETTO:+0100
TZNAME:Europe/Paris CET
END:STANDARD
BEGIN:STANDARD
DTSTART:20191027T020000
RDATE:20200329T030000
TZOFFSETFROM:+0200
TZOFFSETTO:+0100
TZNAME:Europe/Paris CET
END:STANDARD
BEGIN:STANDARD
DTSTART:20201025T020000
RDATE:20210328T030000
TZOFFSETFROM:+0200
TZOFFSETTO:+0100
TZNAME:Europe/Paris CET
END:STANDARD
BEGIN:STANDARD
DTSTART:20211031T020000
RDATE:20220327T030000
TZOFFSETFROM:+0200
TZOFFSETTO:+0100
TZNAME:Europe/Paris CET
END:STANDARD
BEGIN:STANDARD
DTSTART:20221030T020000
RDATE:20230326T030000
TZOFFSETFROM:+0200
TZOFFSETTO:+0100
TZNAME:Europe/Paris CET
END:STANDARD
BEGIN:STANDARD
DTSTART:20231029T020000
RDATE:20240331T030000
TZOFFSETFROM:+0200
TZOFFSETTO:+0100
TZNAME:Europe/Paris CET
END:STANDARD
BEGIN:STANDARD
DTSTART:20241027T020000
RDATE:20250330T030000
TZOFFSETFROM:+0200
TZOFFSETTO:+0100
TZNAME:Europe/Paris CET
END:STANDARD
BEGIN:STANDARD
DTSTART:20251026T020000
RDATE:20260329T030000
TZOFFSETFROM:+0200
TZOFFSETTO:+0100
TZNAME:Europe/Paris CET
END:STANDARD
BEGIN:STANDARD
DTSTART:20261025T020000
RDATE:20270328T030000
TZOFFSETFROM:+0200
TZOFFSETTO:+0100
TZNAME:Europe/Paris CET
END:STANDARD
BEGIN:DAYLIGHT
DTSTART:20130331T030000
RDATE:20131027T020000
TZOFFSETFROM:+0100
TZOFFSETTO:+0200
TZNAME:Europe/Paris CEST
END:DAYLIGHT
BEGIN:DAYLIGHT
DTSTART:20140330T030000
RDATE:20141026T020000
TZOFFSETFROM:+0100
TZOFFSETTO:+0200
TZNAME:Europe/Paris CEST
END:DAYLIGHT
BEGIN:DAYLIGHT
DTSTART:20150329T030000
RDATE:20151025T020000
TZOFFSETFROM:+0100
TZOFFSETTO:+0200
TZNAME:Europe/Paris CEST
END:DAYLIGHT
BEGIN:DAYLIGHT
DTSTART:20160327T030000
RDATE:20161030T020000
TZOFFSETFROM:+0100
TZOFFSETTO:+0200
TZNAME:Europe/Paris CEST
END:DAYLIGHT
BEGIN:DAYLIGHT
DTSTART:20170326T030000
RDATE:20171029T020000
TZOFFSETFROM:+0100
TZOFFSETTO:+0200
TZNAME:Europe/Paris CEST
END:DAYLIGHT
BEGIN:DAYLIGHT
DTSTART:20180325T030000
RDATE:20181028T020000
TZOFFSETFROM:+0100
TZOFFSETTO:+0200
TZNAME:Europe/Paris CEST
END:DAYLIGHT
BEGIN:DAYLIGHT
DTSTART:20190331T030000
RDATE:20191027T020000
TZOFFSETFROM:+0100
TZOFFSETTO:+0200
TZNAME:Europe/Paris CEST
END:DAYLIGHT
BEGIN:DAYLIGHT
DTSTART:20200329T030000
RDATE:20201025T020000
TZOFFSETFROM:+0100
TZOFFSETTO:+0200
TZNAME:Europe/Paris CEST
END:DAYLIGHT
BEGIN:DAYLIGHT
DTSTART:20210328T030000
RDATE:20211031T020000
TZOFFSETFROM:+0100
TZOFFSETTO:+0200
TZNAME:Europe/Paris CEST
END:DAYLIGHT
BEGIN:DAYLIGHT
DTSTART:20220327T030000
RDATE:20221030T020000
TZOFFSETFROM:+0100
TZOFFSETTO:+0200
TZNAME:Europe/Paris CEST
END:DAYLIGHT
BEGIN:DAYLIGHT
DTSTART:20230326T030000
RDATE:20231029T020000
TZOFFSETFROM:+0100
TZOFFSETTO:+0200
TZNAME:Europe/Paris CEST
END:DAYLIGHT
BEGIN:DAYLIGHT
DTSTART:20240331T030000
RDATE:20241027T020000
TZOFFSETFROM:+0100
TZOFFSETTO:+0200
TZNAME:Europe/Paris CEST
END:DAYLIGHT
BEGIN:DAYLIGHT
DTSTART:20250330T030000
RDATE:20251026T020000
TZOFFSETFROM:+0100
TZOFFSETTO:+0200
TZNAME:Europe/Paris CEST
END:DAYLIGHT
BEGIN:DAYLIGHT
DTSTART:20260329T030000
RDATE:20261025T020000
TZOFFSETFROM:+0100
TZOFFSETTO:+0200
TZNAME:Europe/Paris CEST
END:DAYLIGHT
END:VTIMEZONE
BEGIN:VEVENT
UID:84656c91b87fb71ccb92d536c59d2aa7
CATEGORIES:Compétition Ski de Fond
CREATED:20140310T103454
SUMMARY:Foyer Massif
URL;VALUE=URI:https://skivosges.net/agenda/a-venir/detailevenement/243/-/foyer-massif?tmp
 l=component
DESCRIPTION:Foyer Massif\n\nLieu : GERARDMER \nOrganisateur : A.S GERARDMER SKI NORDIQU
 E  (14469 A.S GERARDMER SKI NORDIQUE)\nTelecopie : 0608833572\n\nPOUR LES L
 ICENCES CARTE NEIGE, ENVOYER UN FICHIER EXCEL A RegularLabs.EmailProtector.
 unCloak("ep_7ab3bbd3");\n\nInscriptions closes, tirage des dossards en cour
 s\n - FMVF0071  D?part Individuel Poussin Filles\n  Foyer Massif = Minimes\
 n - FMVF0072  D?part Individuel Benjamin Filles\n  Foyer Massif = Minimes\n
  - FMVM0071  D?part Individuel Poussin Garçons\n  Foyer Massif = Minimes\n 
 - FMVM0072  D?part Individuel Benjamin Garçons\n  Foyer Massif = Minimes Ce
 t évènement a été importé depuis :https://skivosges.net/agenda/a-venir/deta
 ilevenement/243/-/foyer-massif?tmpl=component (https://skivosges.net/agenda
 /a-venir/detailevenement/243/-/foyer-massif?tmpl=component)
X-ALT-DESC;FMTTYPE=text/html:<strong>Foyer Massif</strong><br /><br />Lieu : GERARDMER <br />Organisateu
 r : A.S GERARDMER SKI NORDIQUE  <small>(14469 A.S GERARDMER SKI NORDIQUE)</
 small><br />Telecopie : 0608833572<br /><br />POUR LES LICENCES CARTE NEIGE
 , ENVOYER UN FICHIER EXCEL A <!-- Cette adresse électronique est protégée c
 ontre les robots spammeurs. --><span class="cloaked_email ep_7ab3bbd3"><spa
 n data-ep-b="&#46;&#102;r" data-ep-a="&#102;r&#97;n"><span data-ep-a="&#99;
 i&#115;&#46;" data-ep-b="&#98;&#98;&#111;x"><span data-ep-a="&#107;&#105;e&
 #110;" data-ep-b="&#116;&#122;&#121;&#64;"></span></span></span></span><scr
 ipt>RegularLabs.EmailProtector.unCloak("ep_7ab3bbd3");</script><br /><br />
 Inscriptions closes, tirage des dossards en cours<ul type="disc"><li>FMVF00
 71  D?part Individuel <nobr>Poussin</nobr> Filles<br />&nbsp;&nbsp;Foyer Ma
 ssif = Minimes</li><li>FMVF0072  D?part Individuel <nobr>Benjamin</nobr> Fi
 lles<br />&nbsp;&nbsp;Foyer Massif = Minimes</li><li>FMVM0071  D?part Indiv
 iduel <nobr>Poussin</nobr> Garçons<br />&nbsp;&nbsp;Foyer Massif = Minimes<
 /li><li>FMVM0072  D?part Individuel <nobr>Benjamin</nobr> Garçons<br />&nbs
 p;&nbsp;Foyer Massif = Minimes</li></ul> <a href="https://skivosges.net/age
 nda/a-venir/detailevenement/243/-/foyer-massif?tmpl=component">Cet évènemen
 t a été importé depuis :https://skivosges.net/agenda/a-venir/detailevenemen
 t/243/-/foyer-massif?tmpl=component</a>DTSTAMP:20260424T015241
DTSTART;TZID=Europe/Paris:20140315T080000
DTEND;TZID=Europe/Paris:20140315T170000
SEQUENCE:0
TRANSP:OPAQUE
END:VEVENT
END:VCALENDAR