BEGIN:VCALENDAR
VERSION:2.0
PRODID:-//jEvents 2.0 for Joomla//EN
CALSCALE:GREGORIAN
METHOD:PUBLISH
BEGIN:VTIMEZONE
TZID:Europe/Paris
BEGIN:STANDARD
DTSTART:20241027T020000
RDATE:20250330T030000
TZOFFSETFROM:+0200
TZOFFSETTO:+0100
TZNAME:Europe/Paris CET
END:STANDARD
BEGIN:STANDARD
DTSTART:20251026T020000
RDATE:20260329T030000
TZOFFSETFROM:+0200
TZOFFSETTO:+0100
TZNAME:Europe/Paris CET
END:STANDARD
BEGIN:STANDARD
DTSTART:20261025T020000
RDATE:20270328T030000
TZOFFSETFROM:+0200
TZOFFSETTO:+0100
TZNAME:Europe/Paris CET
END:STANDARD
BEGIN:DAYLIGHT
DTSTART:20240628T000000
RDATE:20241027T020000
TZOFFSETFROM:+0100
TZOFFSETTO:+0200
TZNAME:Europe/Paris CEST
END:DAYLIGHT
BEGIN:DAYLIGHT
DTSTART:20250330T030000
RDATE:20251026T020000
TZOFFSETFROM:+0100
TZOFFSETTO:+0200
TZNAME:Europe/Paris CEST
END:DAYLIGHT
BEGIN:DAYLIGHT
DTSTART:20260329T030000
RDATE:20261025T020000
TZOFFSETFROM:+0100
TZOFFSETTO:+0200
TZNAME:Europe/Paris CEST
END:DAYLIGHT
END:VTIMEZONE
BEGIN:VEVENT
UID:92422e6dd4e55428c4709be98e809762
CATEGORIES:Combiné Nordique
CREATED:20250620T190157
SUMMARY:SAMSE SUMMER NATIONAL TOUR
URL;VALUE=URI:https://skivosges.net/agenda/a-venir/detailevenement/2440/-/samse-summer-na
 tional-tour?tmpl=component
DESCRIPTION:<!-- #gskiepreuve code généré par le plugin jevents pour GskiEpreuves. Ne p
 as modifier cette ligne, ni tout le contenu suivant  #gskiepreuve --><div c
 lass="gski-evenement_infos"><div class="gski-evenement-nom">SAMSE SUMMER NA
 TIONAL TOUR</div><div class="gski-evenement-report"></div><ul class="gski-e
 venement-liste-infos"><li>Codex évenement CNAT0070</li><li>Station : LA BRE
 SSE</li><li>Organisateur : 14024 LA BRESSAUDE SECTION SKI</li><li>Courriel 
 : <!-- Cette adresse électronique est protégée contre les robots spammeurs.
  --><span class="cloaked_email ep_2123c5bf"><span data-ep-b="&#114;" data-e
 p-a="k&#97;r&#105;&#110;"><span data-ep-b="&#100;&#111;o.&#102;" data-ep-a=
 "&#101;&#46;&#102;o&#117;"><span data-ep-b="&#64;&#119;&#97;&#110;&#97;" da
 ta-ep-a="r&#114;&#97;&#103;&#101;"></span></span></span></span><script>Regu
 larLabs.EmailProtector.unCloak("ep_2123c5bf");</script></li></ul><div class
 ="gski-evenement-infos-2"><div class="gski-evenement-info-inscriptions"><di
 v class="gski-evenement-inscriptions-periodes">Période d'inscription à l'ev
 ènement du Dimanche 22 Juin 2025 à 00:00 au Vendredi 27 Juin 2025 à 12:00<d
 iv class="gski-evenement-inscriptions-types-titres">Inscriptions ouvertes a
 ux detenteurs des titres Fédéraux valides suivants : Licenciés Compétiteurs
 </div></div></div><div class="gskiepreuves-links"><ul><li><a href="/index.p
 hp?option=com_jevents&task=icalevent.detail&evid=2435&Itemid=6289">Voir les
  informations dans l'agenda...</a></li></ul></div><div class="gski-evenemen
 t-epreuves"><div class="gski-evenement-epreuves-titres">Epreuves :</div><ul
  class="gski-evenement-epreuves-list"><li><div class="gski-epreuve-date">Le
  Dimanche 29 Juin 2025</div><ul class="gski-epreuve-liste-infos"><li>Codex 
 épreuve CNAM0071</li><li>Catégorie(s) : U7 a U15 (Garçons)</li><li>Combine 
 Nordique (Saut-Pours)</li></ul></li><li><div class="gski-epreuve-date">Le D
 imanche 29 Juin 2025</div><ul class="gski-epreuve-liste-infos"><li>Codex ép
 reuve CNAF0071</li><li>Catégorie(s) : U7 a U15 (Filles)</li><li>Combine Nor
 dique (Saut-Pours)</li></ul></li></ul></div><div class="gskiepreuves-links"
 ><ul><li><a href="/index.php?option=com_jevents&task=icalevent.detail&evid=
 2435&Itemid=6289">Voir les informations dans l'agenda...</a></li></ul></div
 ></div"><!-- #/gskiepreuve fin du dode généré par le plugin jevents pour Gs
 kiEpreuves. . Ne pas modifier cette ligne, ni tout le contenu précedant.  #
 /gskiepreuve --> <a href="https://skivosges.net/agenda/a-venir/detailevenem
 ent/2440/-/samse-summer-national-tour?tmpl=component">Cet évènement a été i
 mporté depuis :https://skivosges.net/agenda/a-venir/detailevenement/2440/-/
 samse-summer-national-tour?tmpl=component</a>
X-ALT-DESC;FMTTYPE=text/html:<!-- #gskiepreuve code généré par le plugin jevents pour GskiEpreuves. Ne p
 as modifier cette ligne, ni tout le contenu suivant  #gskiepreuve --><div c
 lass="gski-evenement_infos"><div class="gski-evenement-nom">SAMSE SUMMER NA
 TIONAL TOUR</div><div class="gski-evenement-report"></div><ul class="gski-e
 venement-liste-infos"><li>Codex évenement CNAT0070</li><li>Station : LA BRE
 SSE</li><li>Organisateur : 14024 LA BRESSAUDE SECTION SKI</li><li>Courriel 
 : <!-- Cette adresse électronique est protégée contre les robots spammeurs.
  --><span class="cloaked_email ep_2123c5bf"><span data-ep-b="&#114;" data-e
 p-a="k&#97;r&#105;&#110;"><span data-ep-b="&#100;&#111;o.&#102;" data-ep-a=
 "&#101;&#46;&#102;o&#117;"><span data-ep-b="&#64;&#119;&#97;&#110;&#97;" da
 ta-ep-a="r&#114;&#97;&#103;&#101;"></span></span></span></span><script>Regu
 larLabs.EmailProtector.unCloak("ep_2123c5bf");</script></li></ul><div class
 ="gski-evenement-infos-2"><div class="gski-evenement-info-inscriptions"><di
 v class="gski-evenement-inscriptions-periodes">Période d'inscription à l'ev
 ènement du Dimanche 22 Juin 2025 à 00:00 au Vendredi 27 Juin 2025 à 12:00<d
 iv class="gski-evenement-inscriptions-types-titres">Inscriptions ouvertes a
 ux detenteurs des titres Fédéraux valides suivants : Licenciés Compétiteurs
 </div></div></div><div class="gskiepreuves-links"><ul><li><a href="https://
 skivosges.net/index.php?option=com_jevents&task=icalevent.detail&evid=2435&
 Itemid=6289">Voir les informations dans l'agenda...</a></li></ul></div><div
  class="gski-evenement-epreuves"><div class="gski-evenement-epreuves-titres
 ">Epreuves :</div><ul class="gski-evenement-epreuves-list"><li><div class="
 gski-epreuve-date">Le Dimanche 29 Juin 2025</div><ul class="gski-epreuve-li
 ste-infos"><li>Codex épreuve CNAM0071</li><li>Catégorie(s) : U7 a U15 (Garç
 ons)</li><li>Combine Nordique (Saut-Pours)</li></ul></li><li><div class="gs
 ki-epreuve-date">Le Dimanche 29 Juin 2025</div><ul class="gski-epreuve-list
 e-infos"><li>Codex épreuve CNAF0071</li><li>Catégorie(s) : U7 a U15 (Filles
 )</li><li>Combine Nordique (Saut-Pours)</li></ul></li></ul></div><div class
 ="gskiepreuves-links"><ul><li><a href="https://skivosges.net/index.php?opti
 on=com_jevents&task=icalevent.detail&evid=2435&Itemid=6289">Voir les inform
 ations dans l'agenda...</a></li></ul></div></div"><!-- #/gskiepreuve fin du
  dode généré par le plugin jevents pour GskiEpreuves. . Ne pas modifier cet
 te ligne, ni tout le contenu précedant.  #/gskiepreuve --> <a href="https:/
 /skivosges.net/agenda/a-venir/detailevenement/2440/-/samse-summer-national-
 tour?tmpl=component">Cet évènement a été importé depuis :https://skivosges.
 net/agenda/a-venir/detailevenement/2440/-/samse-summer-national-tour?tmpl=c
 omponent</a>DTSTAMP:20260420T143855
DTSTART;TZID=Europe/Paris;VALUE=DATE:20250629
DTEND;TZID=Europe/Paris;VALUE=DATE:20250630
SEQUENCE:0
TRANSP:OPAQUE
END:VEVENT
END:VCALENDAR