BEGIN:VCALENDAR
VERSION:2.0
PRODID:-//jEvents 2.0 for Joomla//EN
CALSCALE:GREGORIAN
METHOD:PUBLISH
BEGIN:VTIMEZONE
TZID:Europe/Paris
BEGIN:STANDARD
DTSTART:20241027T020000
RDATE:20250330T030000
TZOFFSETFROM:+0200
TZOFFSETTO:+0100
TZNAME:Europe/Paris CET
END:STANDARD
BEGIN:STANDARD
DTSTART:20251026T020000
RDATE:20260329T030000
TZOFFSETFROM:+0200
TZOFFSETTO:+0100
TZNAME:Europe/Paris CET
END:STANDARD
BEGIN:STANDARD
DTSTART:20261025T020000
RDATE:20270328T030000
TZOFFSETFROM:+0200
TZOFFSETTO:+0100
TZNAME:Europe/Paris CET
END:STANDARD
BEGIN:DAYLIGHT
DTSTART:20240717T000000
RDATE:20241027T020000
TZOFFSETFROM:+0100
TZOFFSETTO:+0200
TZNAME:Europe/Paris CEST
END:DAYLIGHT
BEGIN:DAYLIGHT
DTSTART:20250330T030000
RDATE:20251026T020000
TZOFFSETFROM:+0100
TZOFFSETTO:+0200
TZNAME:Europe/Paris CEST
END:DAYLIGHT
BEGIN:DAYLIGHT
DTSTART:20260329T030000
RDATE:20261025T020000
TZOFFSETFROM:+0100
TZOFFSETTO:+0200
TZNAME:Europe/Paris CEST
END:DAYLIGHT
END:VTIMEZONE
BEGIN:VEVENT
UID:27097b58b8b9eda05d207d19d88a2700
CATEGORIES:Compétition Saut
CREATED:20250620T190157
SUMMARY:TOURNÉE VOSGES
URL;VALUE=URI:https://skivosges.net/agenda/a-venir/detailevenement/2441/-/tournee-vosges?
 tmpl=component
DESCRIPTION:<!-- #gskiepreuve code généré par le plugin jevents pour GskiEpreuves. Ne p
 as modifier cette ligne, ni tout le contenu suivant  #gskiepreuve --><div c
 lass="gski-evenement_infos"><div class="gski-evenement-nom">TOURNÉE VOSGES<
 /div><div class="gski-evenement-report"></div><ul class="gski-evenement-lis
 te-infos"><li>Codex évenement TNAT0120</li><li>Station : XONRUPT</li><li>Or
 ganisateur : 14102 SKI CLUB XONRUPT</li><li>Courriel : <!-- Cette adresse é
 lectronique est protégée contre les robots spammeurs. --><span class="cloak
 ed_email ep_8b9aa2fc"><span data-ep-a="&#82;o&#98;" data-ep-b="&#114;"><spa
 n data-ep-a="dom" data-ep-b="&#114;.f"><span data-ep-a="e&#100;i" data-ep-b
 ="&#64;s&#102;"></span></span></span></span><script>RegularLabs.EmailProtec
 tor.unCloak("ep_8b9aa2fc");</script></li><li>Téléphone : 03 29 63 37 39</li
 ><li><span class="gski-evenement-obs">Délégué Technique : OTTONELLO JACQUES
 </span></li></ul><div class="gski-evenement-infos-2"><div class="gski-evene
 ment-info-inscriptions"><div class="gski-evenement-inscriptions-periodes">P
 ériode d'inscription à l'evènement du Vendredi 11 Juillet 2025 à 00:00 au M
 ercredi 16 Juillet 2025 à 12:00<div class="gski-evenement-inscriptions-type
 s-titres">Inscriptions ouvertes aux detenteurs des titres Fédéraux valides 
 suivants : Licenciés Compétiteurs</div></div></div><div class="gskiepreuves
 -links"><ul><li><a href="/index.php?option=com_jevents&task=icalevent.detai
 l&evid=2436&Itemid=6289">Voir les informations dans l'agenda...</a></li></u
 l></div><div class="gski-evenement-epreuves"><div class="gski-evenement-epr
 euves-titres">Epreuves :</div><ul class="gski-evenement-epreuves-list"><li>
 <div class="gski-epreuve-date">Le Vendredi 18 Juillet 2025</div><ul class="
 gski-epreuve-liste-infos"><li>Codex épreuve TNAM0121</li><li>Catégorie(s) :
  U7 a U13 (Garçons)</li><li>Saut Special</li></ul></li><li><div class="gski
 -epreuve-date">Le Vendredi 18 Juillet 2025</div><ul class="gski-epreuve-lis
 te-infos"><li>Codex épreuve TNAF0121</li><li>Catégorie(s) : U7 a U13 (Fille
 s)</li><li>Saut Special</li></ul></li></ul></div><div class="gskiepreuves-l
 inks"><ul><li><a href="/index.php?option=com_jevents&task=icalevent.detail&
 evid=2436&Itemid=6289">Voir les informations dans l'agenda...</a></li></ul>
 </div></div"><!-- #/gskiepreuve fin du dode généré par le plugin jevents po
 ur GskiEpreuves. . Ne pas modifier cette ligne, ni tout le contenu précedan
 t.  #/gskiepreuve --> <a href="https://skivosges.net/agenda/a-venir/detaile
 venement/2441/-/tournee-vosges?tmpl=component">Cet évènement a été importé 
 depuis :https://skivosges.net/agenda/a-venir/detailevenement/2441/-/tournee
 -vosges?tmpl=component</a>
X-ALT-DESC;FMTTYPE=text/html:<!-- #gskiepreuve code généré par le plugin jevents pour GskiEpreuves. Ne p
 as modifier cette ligne, ni tout le contenu suivant  #gskiepreuve --><div c
 lass="gski-evenement_infos"><div class="gski-evenement-nom">TOURNÉE VOSGES<
 /div><div class="gski-evenement-report"></div><ul class="gski-evenement-lis
 te-infos"><li>Codex évenement TNAT0120</li><li>Station : XONRUPT</li><li>Or
 ganisateur : 14102 SKI CLUB XONRUPT</li><li>Courriel : <!-- Cette adresse é
 lectronique est protégée contre les robots spammeurs. --><span class="cloak
 ed_email ep_8b9aa2fc"><span data-ep-a="&#82;o&#98;" data-ep-b="&#114;"><spa
 n data-ep-a="dom" data-ep-b="&#114;.f"><span data-ep-a="e&#100;i" data-ep-b
 ="&#64;s&#102;"></span></span></span></span><script>RegularLabs.EmailProtec
 tor.unCloak("ep_8b9aa2fc");</script></li><li>Téléphone : 03 29 63 37 39</li
 ><li><span class="gski-evenement-obs">Délégué Technique : OTTONELLO JACQUES
 </span></li></ul><div class="gski-evenement-infos-2"><div class="gski-evene
 ment-info-inscriptions"><div class="gski-evenement-inscriptions-periodes">P
 ériode d'inscription à l'evènement du Vendredi 11 Juillet 2025 à 00:00 au M
 ercredi 16 Juillet 2025 à 12:00<div class="gski-evenement-inscriptions-type
 s-titres">Inscriptions ouvertes aux detenteurs des titres Fédéraux valides 
 suivants : Licenciés Compétiteurs</div></div></div><div class="gskiepreuves
 -links"><ul><li><a href="https://skivosges.net/index.php?option=com_jevents
 &task=icalevent.detail&evid=2436&Itemid=6289">Voir les informations dans l'
 agenda...</a></li></ul></div><div class="gski-evenement-epreuves"><div clas
 s="gski-evenement-epreuves-titres">Epreuves :</div><ul class="gski-evenemen
 t-epreuves-list"><li><div class="gski-epreuve-date">Le Vendredi 18 Juillet 
 2025</div><ul class="gski-epreuve-liste-infos"><li>Codex épreuve TNAM0121</
 li><li>Catégorie(s) : U7 a U13 (Garçons)</li><li>Saut Special</li></ul></li
 ><li><div class="gski-epreuve-date">Le Vendredi 18 Juillet 2025</div><ul cl
 ass="gski-epreuve-liste-infos"><li>Codex épreuve TNAF0121</li><li>Catégorie
 (s) : U7 a U13 (Filles)</li><li>Saut Special</li></ul></li></ul></div><div 
 class="gskiepreuves-links"><ul><li><a href="https://skivosges.net/index.php
 ?option=com_jevents&task=icalevent.detail&evid=2436&Itemid=6289">Voir les i
 nformations dans l'agenda...</a></li></ul></div></div"><!-- #/gskiepreuve f
 in du dode généré par le plugin jevents pour GskiEpreuves. . Ne pas modifie
 r cette ligne, ni tout le contenu précedant.  #/gskiepreuve --> <a href="ht
 tps://skivosges.net/agenda/a-venir/detailevenement/2441/-/tournee-vosges?tm
 pl=component">Cet évènement a été importé depuis :https://skivosges.net/age
 nda/a-venir/detailevenement/2441/-/tournee-vosges?tmpl=component</a>DTSTAMP:20260420T143855
DTSTART;TZID=Europe/Paris;VALUE=DATE:20250718
DTEND;TZID=Europe/Paris;VALUE=DATE:20250719
SEQUENCE:0
TRANSP:OPAQUE
END:VEVENT
END:VCALENDAR