BEGIN:VCALENDAR
VERSION:2.0
PRODID:-//jEvents 2.0 for Joomla//EN
CALSCALE:GREGORIAN
METHOD:PUBLISH
BEGIN:VTIMEZONE
TZID:Europe/Paris
BEGIN:STANDARD
DTSTART:20241027T020000
RDATE:20250330T030000
TZOFFSETFROM:+0200
TZOFFSETTO:+0100
TZNAME:Europe/Paris CET
END:STANDARD
BEGIN:STANDARD
DTSTART:20251026T020000
RDATE:20260329T030000
TZOFFSETFROM:+0200
TZOFFSETTO:+0100
TZNAME:Europe/Paris CET
END:STANDARD
BEGIN:STANDARD
DTSTART:20261025T020000
RDATE:20270328T030000
TZOFFSETFROM:+0200
TZOFFSETTO:+0100
TZNAME:Europe/Paris CET
END:STANDARD
BEGIN:DAYLIGHT
DTSTART:20240718T000000
RDATE:20241027T020000
TZOFFSETFROM:+0100
TZOFFSETTO:+0200
TZNAME:Europe/Paris CEST
END:DAYLIGHT
BEGIN:DAYLIGHT
DTSTART:20250330T030000
RDATE:20251026T020000
TZOFFSETFROM:+0100
TZOFFSETTO:+0200
TZNAME:Europe/Paris CEST
END:DAYLIGHT
BEGIN:DAYLIGHT
DTSTART:20260329T030000
RDATE:20261025T020000
TZOFFSETFROM:+0100
TZOFFSETTO:+0200
TZNAME:Europe/Paris CEST
END:DAYLIGHT
END:VTIMEZONE
BEGIN:VEVENT
UID:7ac5480e903e4728851b733253ba8bad
CATEGORIES:Combiné Nordique
CREATED:20250620T190159
SUMMARY:TOURNÉE VOSGES
URL;VALUE=URI:https://skivosges.net/agenda/a-venir/detailevenement/2443/-/tournee-vosges?
 tmpl=component
DESCRIPTION:TOURNÉE VOSGES\n - Codex évenement CNAT0080\n - Lieu : VENTRON\n - Organisa
 teur : 14083 U.S VENTRON\n - Courriel : RegularLabs.EmailProtector.unCloak(
 "ep_4b1b9d83");\n - Délégué Technique : OTTONELLO JACQUESPériode d'inscript
 ion à l'evènement du Samedi 12 Juillet 2025 à 00:00 au Jeudi 17 Juillet 202
 5 à 12:00Inscriptions ouvertes aux detenteurs des titres Fédéraux valides s
 uivants : Licenciés Compétiteurs\n - Voir les informations dans l'agenda...
  (/index.php?option=com_jevents&amp;task=icalevent.detail&amp;evid=2438&amp
 ;Itemid=6289)Epreuves :\n - Le Samedi 19 Juillet 2025\n - Codex épreuve CNA
 M0081\n - Catégorie(s) : U7 a U13 (Garçons)\n - Combine Nordique (Saut-Pour
 s)\n - Le Samedi 19 Juillet 2025\n - Codex épreuve CNAF0081\n - Catégorie(s
 ) : U7 a U13 (Filles)\n - Combine Nordique (Saut-Pours)\n - Voir les inform
 ations dans l'agenda... (/index.php?option=com_jevents&amp;task=icalevent.d
 etail&amp;evid=2438&amp;Itemid=6289) Cet évènement a été importé depuis :ht
 tps://skivosges.net/agenda/a-venir/detailevenement/2443/-/tournee-vosges?tm
 pl=component (https://skivosges.net/agenda/a-venir/detailevenement/2443/-/t
 ournee-vosges?tmpl=component)
X-ALT-DESC;FMTTYPE=text/html:<!-- #gskiepreuve code généré par le plugin jevents pour GskiEpreuves. Ne p
 as modifier cette ligne, ni tout le contenu suivant  #gskiepreuve --><div c
 lass="gski-evenement_infos"><div class="gski-evenement-nom">TOURNÉE VOSGES<
 /div><div class="gski-evenement-report"></div><ul class="gski-evenement-lis
 te-infos"><li>Codex évenement CNAT0080</li><li>Lieu : VENTRON</li><li>Organ
 isateur : 14083 U.S VENTRON</li><li>Courriel : <!-- Cette adresse électroni
 que est protégée contre les robots spammeurs. --><span class="cloaked_email
  ep_4b1b9d83"><span data-ep-b="&#99;&#111;m" data-ep-a="ch&#114;s&#105;"><s
 pan data-ep-a="&#116;i&#110;e&#46;" data-ep-b="&#109;a&#105;l&#46;"><span d
 ata-ep-b="d&#56;8&#64;&#103;" data-ep-a="&#103;e&#114;&#97;&#114;"></span><
 /span></span></span><script>RegularLabs.EmailProtector.unCloak("ep_4b1b9d83
 ");</script></li><li><span class="gski-evenement-obs">Délégué Technique : O
 TTONELLO JACQUES</span></li></ul><div class="gski-evenement-infos-2"><div c
 lass="gski-evenement-info-inscriptions"><div class="gski-evenement-inscript
 ions-periodes">Période d'inscription à l'evènement du Samedi 12 Juillet 202
 5 à 00:00 au Jeudi 17 Juillet 2025 à 12:00<div class="gski-evenement-inscri
 ptions-types-titres">Inscriptions ouvertes aux detenteurs des titres Fédéra
 ux valides suivants : Licenciés Compétiteurs</div></div></div><div class="g
 skiepreuves-links"><ul><li><a href="https://skivosges.net/index.php?option=
 com_jevents&task=icalevent.detail&evid=2438&Itemid=6289">Voir les informati
 ons dans l'agenda...</a></li></ul></div><div class="gski-evenement-epreuves
 "><div class="gski-evenement-epreuves-titres">Epreuves :</div><ul class="gs
 ki-evenement-epreuves-list"><li><div class="gski-epreuve-date">Le Samedi 19
  Juillet 2025</div><ul class="gski-epreuve-liste-infos"><li>Codex épreuve C
 NAM0081</li><li>Catégorie(s) : U7 a U13 (Garçons)</li><li>Combine Nordique 
 (Saut-Pours)</li></ul></li><li><div class="gski-epreuve-date">Le Samedi 19 
 Juillet 2025</div><ul class="gski-epreuve-liste-infos"><li>Codex épreuve CN
 AF0081</li><li>Catégorie(s) : U7 a U13 (Filles)</li><li>Combine Nordique (S
 aut-Pours)</li></ul></li></ul></div><div class="gskiepreuves-links"><ul><li
 ><a href="https://skivosges.net/index.php?option=com_jevents&task=icalevent
 .detail&evid=2438&Itemid=6289">Voir les informations dans l'agenda...</a></
 li></ul></div></div"><!-- #/gskiepreuve fin du dode généré par le plugin je
 vents pour GskiEpreuves. . Ne pas modifier cette ligne, ni tout le contenu 
 précedant.  #/gskiepreuve --> <a href="https://skivosges.net/agenda/a-venir
 /detailevenement/2443/-/tournee-vosges?tmpl=component">Cet évènement a été 
 importé depuis :https://skivosges.net/agenda/a-venir/detailevenement/2443/-
 /tournee-vosges?tmpl=component</a>DTSTAMP:20260420T123520
DTSTART;TZID=Europe/Paris;VALUE=DATE:20250719
DTEND;TZID=Europe/Paris;VALUE=DATE:20250720
SEQUENCE:0
TRANSP:OPAQUE
END:VEVENT
END:VCALENDAR