BEGIN:VCALENDAR
VERSION:2.0
PRODID:-//jEvents 2.0 for Joomla//EN
CALSCALE:GREGORIAN
METHOD:PUBLISH
BEGIN:VTIMEZONE
TZID:Europe/Paris
BEGIN:STANDARD
DTSTART:20241027T020000
RDATE:20250330T030000
TZOFFSETFROM:+0200
TZOFFSETTO:+0100
TZNAME:Europe/Paris CET
END:STANDARD
BEGIN:STANDARD
DTSTART:20251026T020000
RDATE:20260329T030000
TZOFFSETFROM:+0200
TZOFFSETTO:+0100
TZNAME:Europe/Paris CET
END:STANDARD
BEGIN:STANDARD
DTSTART:20261025T020000
RDATE:20270328T030000
TZOFFSETFROM:+0200
TZOFFSETTO:+0100
TZNAME:Europe/Paris CET
END:STANDARD
BEGIN:DAYLIGHT
DTSTART:20240912T000000
RDATE:20241027T020000
TZOFFSETFROM:+0100
TZOFFSETTO:+0200
TZNAME:Europe/Paris CEST
END:DAYLIGHT
BEGIN:DAYLIGHT
DTSTART:20250330T030000
RDATE:20251026T020000
TZOFFSETFROM:+0100
TZOFFSETTO:+0200
TZNAME:Europe/Paris CEST
END:DAYLIGHT
BEGIN:DAYLIGHT
DTSTART:20260329T030000
RDATE:20261025T020000
TZOFFSETFROM:+0100
TZOFFSETTO:+0200
TZNAME:Europe/Paris CEST
END:DAYLIGHT
END:VTIMEZONE
BEGIN:VEVENT
UID:68b0dabd698c655525373a5dd3f37d9f
CATEGORIES:Roller Ski
CREATED:20250827T190212
SUMMARY:ROLLERSKI ROMAIN CLAUDON - prologue + poursuite
URL;VALUE=URI:https://skivosges.net/agenda/a-venir/detailevenement/2448/-/rollerski-romai
 n-claudon-prologue-poursuite?tmpl=component
DESCRIPTION:<!-- #gskiepreuve code généré par le plugin jevents pour GskiEpreuves. Ne p
 as modifier cette ligne, ni tout le contenu suivant  #gskiepreuve --><div c
 lass="gski-evenement_infos"><div class="gski-evenement-nom">ROLLERSKI ROMAI
 N CLAUDON - prologue + poursuite</div><div class="gski-evenement-report"></
 div><ul class="gski-evenement-liste-infos"><li>Codex évenement OMVT0010</li
 ><li>Lieu : Ville Centre</li><li>Station : GERARDMER</li><li>Organisateur :
  14469 A.S GERARDMER SKI NORDIQUE</li><li>Courriel : <!-- Cette adresse éle
 ctronique est protégée contre les robots spammeurs. --><span class="cloaked
 _email ep_7b5abeeb"><span data-ep-a="&#102;ran" data-ep-b=".&#102;r"><span 
 data-ep-a="&#99;&#105;&#115;." data-ep-b="&#98;bo&#120;"><span data-ep-b="&
 #116;&#122;&#121;&#64;" data-ep-a="&#107;&#105;&#101;n"></span></span></spa
 n></span><script>RegularLabs.EmailProtector.unCloak("ep_7b5abeeb");</script
 ></li><li>Téléphone : 07 60 93 61 33</li><li><span class="gski-evenement-ob
 s">Délégué Technique : CUNY BERNARD</span></li></ul><div class="gski-evenem
 ent-infos-2"><div class="gski-evenement-info-inscriptions"><div class="gski
 -evenement-inscriptions-periodes">Période d'inscription à l'evènement du Sa
 medi 06 Septembre 2025 à 00:00 au Jeudi 11 Septembre 2025 à 20:00<div class
 ="gski-evenement-inscriptions-types-titres">Inscriptions ouvertes aux deten
 teurs des titres Fédéraux valides suivants : Licenciés Compétiteurs et Tick
 ets course</div></div></div><div class="gskiepreuves-links"><ul><li><a href
 ="/index.php?option=com_jevents&task=icalevent.detail&evid=2443&Itemid=6289
 ">Voir les informations dans l'agenda...</a></li><li><a href="/index.php?op
 tion=com_gskiepreuves&view=afficheresultats&format_option=tous&filter[searc
 h]=OMVT0010&filter[date_debut]=13-09-2025&filter[date_fin]=13-09-2025&code_
 activite=ROL&Itemid=6289">Vers les résultats...</a></li><li>Publications co
 ncernant cet évènement :<ul><li><a href="/index.php?option=com_content&view
 =article&id=8739&Itemid=6289">Lundi 15 Septembre 2025 à 16:21 : Le 13/09/20
 25 GERARDMER/Rollerski Résultats</a></li><li><a href="/index.php?option=com
 _content&view=article&id=8734&Itemid=6289">Dimanche 14 Septembre 2025 à 09:
 55 : Le 13/09/2025 GERARDMER/Rollerski Liste de départs</a></li><li><a href
 ="/index.php?option=com_content&view=article&id=8733&Itemid=6289">Vendredi 
 12 Septembre 2025 à 16:26 : Le 13/09/2025 GERARDMER/Rollerski Liste de dépa
 rts</a></li><li><a href="/index.php?option=com_content&view=article&id=8729
 &Itemid=6289">Lundi 8 Septembre 2025 à 21:27 : Le 13/09/2025 GERARDMER/Roll
 erski Informations</a></li></ul></li></ul></div><div class="gski-evenement-
 epreuves"><div class="gski-evenement-epreuves-titres">Epreuves :</div><ul c
 lass="gski-evenement-epreuves-list"><li><div class="gski-epreuve-date">Le S
 amedi 13 Septembre 2025</div><ul class="gski-epreuve-liste-infos"><li>Codex
  épreuve OMVF0011</li><li>Catégorie(s) : U13 (Filles)</li><li>Depart Indivi
 duel</li><li>Distance : 2.2 / Style : L</li></ul></li><li><div class="gski-
 epreuve-date">Le Samedi 13 Septembre 2025</div><ul class="gski-epreuve-list
 e-infos"><li>Codex épreuve OMVM0011</li><li>Catégorie(s) : U13 (Garçons)</l
 i><li>Depart Individuel</li><li>Distance : 2.2 / Style : L</li></ul></li><l
 i><div class="gski-epreuve-date">Le Samedi 13 Septembre 2025</div><ul class
 ="gski-epreuve-liste-infos"><li>Codex épreuve OMVF0012</li><li>Catégorie(s)
  : U15/U16 (Filles)</li><li>Depart Individuel</li><li>Distance : 4.4 / Styl
 e : L</li></ul></li><li><div class="gski-epreuve-date">Le Samedi 13 Septemb
 re 2025</div><ul class="gski-epreuve-liste-infos"><li>Codex épreuve OMVM001
 2</li><li>Catégorie(s) : U15/U16 (Garçons)</li><li>Depart Individuel</li><l
 i>Distance : 4.4 / Style : L</li></ul></li><li><div class="gski-epreuve-dat
 e">Le Samedi 13 Septembre 2025</div><ul class="gski-epreuve-liste-infos"><l
 i>Codex épreuve OMVF0013</li><li>Catégorie(s) : U18 (Dames)</li><li>Depart 
 Individuel</li><li>Distance : 4.4 / Style : L</li></ul></li><li><div class=
 "gski-epreuve-date">Le Samedi 13 Septembre 2025</div><ul class="gski-epreuv
 e-liste-infos"><li>Codex épreuve OMVM0013</li><li>Catégorie(s) : U18 (Homme
 s)</li><li>Depart Individuel</li><li>Distance : 7 / Style : L</li></ul></li
 ><li><div class="gski-epreuve-date">Le Samedi 13 Septembre 2025</div><ul cl
 ass="gski-epreuve-liste-infos"><li>Codex épreuve OMVF0014</li><li>Catégorie
 (s) : U20/SEN (Dames)</li><li>Depart Individuel</li><li>Distance : 7 / Styl
 e : L</li></ul></li><li><div class="gski-epreuve-date">Le Samedi 13 Septemb
 re 2025</div><ul class="gski-epreuve-liste-infos"><li>Codex épreuve OMVM001
 4</li><li>Catégorie(s) : U20/SEN (Hommes)</li><li>Depart Individuel</li><li
 >Distance : 10 / Style : L</li></ul></li></ul></div><div class="gskiepreuve
 s-links"><ul><li><a href="/index.php?option=com_jevents&task=icalevent.deta
 il&evid=2443&Itemid=6289">Voir les informations dans l'agenda...</a></li><l
 i><a href="/index.php?option=com_gskiepreuves&view=afficheresultats&format_
 option=tous&filter[search]=OMVT0010&filter[date_debut]=13-09-2025&filter[da
 te_fin]=13-09-2025&code_activite=ROL&Itemid=6289">Vers les résultats...</a>
 </li><li>Publications concernant cet évènement :<ul><li><a href="/index.php
 ?option=com_content&view=article&id=8739&Itemid=6289">Lundi 15 Septembre 20
 25 à 16:21 : Le 13/09/2025 GERARDMER/Rollerski Résultats</a></li><li><a hre
 f="/index.php?option=com_content&view=article&id=8734&Itemid=6289">Dimanche
  14 Septembre 2025 à 09:55 : Le 13/09/2025 GERARDMER/Rollerski Liste de dép
 arts</a></li><li><a href="/index.php?option=com_content&view=article&id=873
 3&Itemid=6289">Vendredi 12 Septembre 2025 à 16:26 : Le 13/09/2025 GERARDMER
 /Rollerski Liste de départs</a></li><li><a href="/index.php?option=com_cont
 ent&view=article&id=8729&Itemid=6289">Lundi 8 Septembre 2025 à 21:27 : Le 1
 3/09/2025 GERARDMER/Rollerski Informations</a></li></ul></li></ul></div></d
 iv"><!-- #/gskiepreuve fin du dode généré par le plugin jevents pour GskiEp
 reuves. . Ne pas modifier cette ligne, ni tout le contenu précedant.  #/gsk
 iepreuve --> <a href="https://skivosges.net/agenda/a-venir/detailevenement/
 2448/-/rollerski-romain-claudon-prologue-poursuite?tmpl=component">Cet évèn
 ement a été importé depuis :https://skivosges.net/agenda/a-venir/detaileven
 ement/2448/-/rollerski-romain-claudon-prologue-poursuite?tmpl=component</a>
X-ALT-DESC;FMTTYPE=text/html:<!-- #gskiepreuve code généré par le plugin jevents pour GskiEpreuves. Ne p
 as modifier cette ligne, ni tout le contenu suivant  #gskiepreuve --><div c
 lass="gski-evenement_infos"><div class="gski-evenement-nom">ROLLERSKI ROMAI
 N CLAUDON - prologue + poursuite</div><div class="gski-evenement-report"></
 div><ul class="gski-evenement-liste-infos"><li>Codex évenement OMVT0010</li
 ><li>Lieu : Ville Centre</li><li>Station : GERARDMER</li><li>Organisateur :
  14469 A.S GERARDMER SKI NORDIQUE</li><li>Courriel : <!-- Cette adresse éle
 ctronique est protégée contre les robots spammeurs. --><span class="cloaked
 _email ep_7b5abeeb"><span data-ep-a="&#102;ran" data-ep-b=".&#102;r"><span 
 data-ep-a="&#99;&#105;&#115;." data-ep-b="&#98;bo&#120;"><span data-ep-b="&
 #116;&#122;&#121;&#64;" data-ep-a="&#107;&#105;&#101;n"></span></span></spa
 n></span><script>RegularLabs.EmailProtector.unCloak("ep_7b5abeeb");</script
 ></li><li>Téléphone : 07 60 93 61 33</li><li><span class="gski-evenement-ob
 s">Délégué Technique : CUNY BERNARD</span></li></ul><div class="gski-evenem
 ent-infos-2"><div class="gski-evenement-info-inscriptions"><div class="gski
 -evenement-inscriptions-periodes">Période d'inscription à l'evènement du Sa
 medi 06 Septembre 2025 à 00:00 au Jeudi 11 Septembre 2025 à 20:00<div class
 ="gski-evenement-inscriptions-types-titres">Inscriptions ouvertes aux deten
 teurs des titres Fédéraux valides suivants : Licenciés Compétiteurs et Tick
 ets course</div></div></div><div class="gskiepreuves-links"><ul><li><a href
 ="https://skivosges.net/index.php?option=com_jevents&task=icalevent.detail&
 evid=2443&Itemid=6289">Voir les informations dans l'agenda...</a></li><li><
 a href="https://skivosges.net/index.php?option=com_gskiepreuves&view=affich
 eresultats&format_option=tous&filter[search]=OMVT0010&filter[date_debut]=13
 -09-2025&filter[date_fin]=13-09-2025&code_activite=ROL&Itemid=6289">Vers le
 s résultats...</a></li><li>Publications concernant cet évènement :<ul><li><
 a href="https://skivosges.net/index.php?option=com_content&view=article&id=
 8739&Itemid=6289">Lundi 15 Septembre 2025 à 16:21 : Le 13/09/2025 GERARDMER
 /Rollerski Résultats</a></li><li><a href="https://skivosges.net/index.php?o
 ption=com_content&view=article&id=8734&Itemid=6289">Dimanche 14 Septembre 2
 025 à 09:55 : Le 13/09/2025 GERARDMER/Rollerski Liste de départs</a></li><l
 i><a href="https://skivosges.net/index.php?option=com_content&view=article&
 id=8733&Itemid=6289">Vendredi 12 Septembre 2025 à 16:26 : Le 13/09/2025 GER
 ARDMER/Rollerski Liste de départs</a></li><li><a href="https://skivosges.ne
 t/index.php?option=com_content&view=article&id=8729&Itemid=6289">Lundi 8 Se
 ptembre 2025 à 21:27 : Le 13/09/2025 GERARDMER/Rollerski Informations</a></
 li></ul></li></ul></div><div class="gski-evenement-epreuves"><div class="gs
 ki-evenement-epreuves-titres">Epreuves :</div><ul class="gski-evenement-epr
 euves-list"><li><div class="gski-epreuve-date">Le Samedi 13 Septembre 2025<
 /div><ul class="gski-epreuve-liste-infos"><li>Codex épreuve OMVF0011</li><l
 i>Catégorie(s) : U13 (Filles)</li><li>Depart Individuel</li><li>Distance : 
 2.2 / Style : L</li></ul></li><li><div class="gski-epreuve-date">Le Samedi 
 13 Septembre 2025</div><ul class="gski-epreuve-liste-infos"><li>Codex épreu
 ve OMVM0011</li><li>Catégorie(s) : U13 (Garçons)</li><li>Depart Individuel<
 /li><li>Distance : 2.2 / Style : L</li></ul></li><li><div class="gski-epreu
 ve-date">Le Samedi 13 Septembre 2025</div><ul class="gski-epreuve-liste-inf
 os"><li>Codex épreuve OMVF0012</li><li>Catégorie(s) : U15/U16 (Filles)</li>
 <li>Depart Individuel</li><li>Distance : 4.4 / Style : L</li></ul></li><li>
 <div class="gski-epreuve-date">Le Samedi 13 Septembre 2025</div><ul class="
 gski-epreuve-liste-infos"><li>Codex épreuve OMVM0012</li><li>Catégorie(s) :
  U15/U16 (Garçons)</li><li>Depart Individuel</li><li>Distance : 4.4 / Style
  : L</li></ul></li><li><div class="gski-epreuve-date">Le Samedi 13 Septembr
 e 2025</div><ul class="gski-epreuve-liste-infos"><li>Codex épreuve OMVF0013
 </li><li>Catégorie(s) : U18 (Dames)</li><li>Depart Individuel</li><li>Dista
 nce : 4.4 / Style : L</li></ul></li><li><div class="gski-epreuve-date">Le S
 amedi 13 Septembre 2025</div><ul class="gski-epreuve-liste-infos"><li>Codex
  épreuve OMVM0013</li><li>Catégorie(s) : U18 (Hommes)</li><li>Depart Indivi
 duel</li><li>Distance : 7 / Style : L</li></ul></li><li><div class="gski-ep
 reuve-date">Le Samedi 13 Septembre 2025</div><ul class="gski-epreuve-liste-
 infos"><li>Codex épreuve OMVF0014</li><li>Catégorie(s) : U20/SEN (Dames)</l
 i><li>Depart Individuel</li><li>Distance : 7 / Style : L</li></ul></li><li>
 <div class="gski-epreuve-date">Le Samedi 13 Septembre 2025</div><ul class="
 gski-epreuve-liste-infos"><li>Codex épreuve OMVM0014</li><li>Catégorie(s) :
  U20/SEN (Hommes)</li><li>Depart Individuel</li><li>Distance : 10 / Style :
  L</li></ul></li></ul></div><div class="gskiepreuves-links"><ul><li><a href
 ="https://skivosges.net/index.php?option=com_jevents&task=icalevent.detail&
 evid=2443&Itemid=6289">Voir les informations dans l'agenda...</a></li><li><
 a href="https://skivosges.net/index.php?option=com_gskiepreuves&view=affich
 eresultats&format_option=tous&filter[search]=OMVT0010&filter[date_debut]=13
 -09-2025&filter[date_fin]=13-09-2025&code_activite=ROL&Itemid=6289">Vers le
 s résultats...</a></li><li>Publications concernant cet évènement :<ul><li><
 a href="https://skivosges.net/index.php?option=com_content&view=article&id=
 8739&Itemid=6289">Lundi 15 Septembre 2025 à 16:21 : Le 13/09/2025 GERARDMER
 /Rollerski Résultats</a></li><li><a href="https://skivosges.net/index.php?o
 ption=com_content&view=article&id=8734&Itemid=6289">Dimanche 14 Septembre 2
 025 à 09:55 : Le 13/09/2025 GERARDMER/Rollerski Liste de départs</a></li><l
 i><a href="https://skivosges.net/index.php?option=com_content&view=article&
 id=8733&Itemid=6289">Vendredi 12 Septembre 2025 à 16:26 : Le 13/09/2025 GER
 ARDMER/Rollerski Liste de départs</a></li><li><a href="https://skivosges.ne
 t/index.php?option=com_content&view=article&id=8729&Itemid=6289">Lundi 8 Se
 ptembre 2025 à 21:27 : Le 13/09/2025 GERARDMER/Rollerski Informations</a></
 li></ul></li></ul></div></div"><!-- #/gskiepreuve fin du dode généré par le
  plugin jevents pour GskiEpreuves. . Ne pas modifier cette ligne, ni tout l
 e contenu précedant.  #/gskiepreuve --> <a href="https://skivosges.net/agen
 da/a-venir/detailevenement/2448/-/rollerski-romain-claudon-prologue-poursui
 te?tmpl=component">Cet évènement a été importé depuis :https://skivosges.ne
 t/agenda/a-venir/detailevenement/2448/-/rollerski-romain-claudon-prologue-p
 oursuite?tmpl=component</a>DTSTAMP:20260420T110335
DTSTART;TZID=Europe/Paris;VALUE=DATE:20250913
DTEND;TZID=Europe/Paris;VALUE=DATE:20250914
SEQUENCE:0
TRANSP:OPAQUE
END:VEVENT
END:VCALENDAR