BEGIN:VCALENDAR
VERSION:2.0
PRODID:-//jEvents 2.0 for Joomla//EN
CALSCALE:GREGORIAN
METHOD:PUBLISH
BEGIN:VTIMEZONE
TZID:Europe/Paris
BEGIN:STANDARD
DTSTART:20241027T020000
RDATE:20250330T030000
TZOFFSETFROM:+0200
TZOFFSETTO:+0100
TZNAME:Europe/Paris CET
END:STANDARD
BEGIN:STANDARD
DTSTART:20251026T020000
RDATE:20260329T030000
TZOFFSETFROM:+0200
TZOFFSETTO:+0100
TZNAME:Europe/Paris CET
END:STANDARD
BEGIN:STANDARD
DTSTART:20261025T020000
RDATE:20270328T030000
TZOFFSETFROM:+0200
TZOFFSETTO:+0100
TZNAME:Europe/Paris CET
END:STANDARD
BEGIN:DAYLIGHT
DTSTART:20240909T000000
RDATE:20241027T020000
TZOFFSETFROM:+0100
TZOFFSETTO:+0200
TZNAME:Europe/Paris CEST
END:DAYLIGHT
BEGIN:DAYLIGHT
DTSTART:20250330T030000
RDATE:20251026T020000
TZOFFSETFROM:+0100
TZOFFSETTO:+0200
TZNAME:Europe/Paris CEST
END:DAYLIGHT
BEGIN:DAYLIGHT
DTSTART:20260329T030000
RDATE:20261025T020000
TZOFFSETFROM:+0100
TZOFFSETTO:+0200
TZNAME:Europe/Paris CEST
END:DAYLIGHT
END:VTIMEZONE
BEGIN:VEVENT
UID:bc213dccb1c39d2bae0bcf650487f2cc
CATEGORIES:Compétition Biathlon
CREATED:20250903T190213
SUMMARY:Promotion Ski Club Xonrupt-Trophée Andros **REPORTE(E) au 17/09/2025**
URL;VALUE=URI:https://skivosges.net/agenda/a-venir/detailevenement/2452/-/promotion-ski-c
 lub-xonrupt-trophee-andros-reporte-e-au-17-09-2025?tmpl=component
DESCRIPTION:<!-- #gskiepreuve code généré par le plugin jevents pour GskiEpreuves. Ne p
 as modifier cette ligne, ni tout le contenu suivant  #gskiepreuve --><div c
 lass="gski-evenement_infos"><div class="gski-evenement-nom">Promotion Ski C
 lub Xonrupt-Trophée Andros</div><div class="gski-evenement-report"> <font c
 lass="gskiattention">(Epreuve reportée au 17/09/2025)</font></div><ul class
 ="gski-evenement-liste-infos"><li>Codex évenement BMVT0050</li><li>Lieu : X
 onrupt</li><li>Organisateur : 14102 SKI CLUB XONRUPT</li><li>Courriel : <!-
 - Cette adresse électronique est protégée contre les robots spammeurs. --><
 span class="cloaked_email ep_9c27006d"><span data-ep-b="&#109;" data-ep-a="
 r&#101;&#109;&#121;"><span data-ep-a="&#97;l&#97;i" data-ep-b="l&#46;c&#111
 ;"><span data-ep-b="g&#109;&#97;i" data-ep-a="&#110;&#56;&#56;&#64;"></span
 ></span></span></span><script>RegularLabs.EmailProtector.unCloak("ep_9c2700
 6d");</script></li><li>Téléphone : 03 29 60 96 29</li></ul><div class="gski
 -evenement-infos-2"><div class="gski-evenement-info-inscriptions"><div clas
 s="gski-evenement-inscriptions-periodes">Période d'inscription à l'evènemen
 t du Mercredi 03 Septembre 2025 à 00:00 au Lundi 08 Septembre 2025 à 12:00<
 div class="gski-evenement-inscriptions-types-titres">Inscriptions ouvertes 
 aux detenteurs des titres Fédéraux valides suivants : Licenciés Compétiteur
 s et Titres Loisirs et Dirigeants</div></div></div><div class="gskiepreuves
 -links"><ul><li><a href="/index.php?option=com_jevents&task=icalevent.detai
 l&evid=2447&Itemid=6289">Voir les informations dans l'agenda...</a></li></u
 l></div><div class="gski-evenement-epreuves"><div class="gski-evenement-epr
 euves-titres">Epreuves :</div><ul class="gski-evenement-epreuves-list"><li>
 <div class="gski-epreuve-date">Le Mercredi 10 Septembre 2025</div><ul class
 ="gski-epreuve-liste-infos"><li>Codex épreuve BMVF0051</li><li>Catégorie(s)
  : U9 (Filles)</li><li>Individuel</li><li>Distance : 0.4 / Style : L</li></
 ul></li><li><div class="gski-epreuve-date">Le Mercredi 10 Septembre 2025</d
 iv><ul class="gski-epreuve-liste-infos"><li>Codex épreuve BMVM0051</li><li>
 Catégorie(s) : U9 (Garçons)</li><li>Individuel</li><li>Distance : 0.4 / Sty
 le : L</li></ul></li><li><div class="gski-epreuve-date">Le Mercredi 10 Sept
 embre 2025</div><ul class="gski-epreuve-liste-infos"><li>Codex épreuve BMVF
 0052</li><li>Catégorie(s) : U11 (Filles)</li><li>Individuel</li><li>Distanc
 e : 0.4 / Style : L</li></ul></li><li><div class="gski-epreuve-date">Le Mer
 credi 10 Septembre 2025</div><ul class="gski-epreuve-liste-infos"><li>Codex
  épreuve BMVM0052</li><li>Catégorie(s) : U11 (Garçons)</li><li>Individuel</
 li><li>Distance : 0.4 / Style : L</li></ul></li><li><div class="gski-epreuv
 e-date">Le Mercredi 10 Septembre 2025</div><ul class="gski-epreuve-liste-in
 fos"><li>Codex épreuve BMVF0053</li><li>Catégorie(s) : U13 (Filles)</li><li
 >Individuel</li><li>Distance : 0.4 / Style : L</li></ul></li><li><div class
 ="gski-epreuve-date">Le Mercredi 10 Septembre 2025</div><ul class="gski-epr
 euve-liste-infos"><li>Codex épreuve BMVM0053</li><li>Catégorie(s) : U13 (Ga
 rçons)</li><li>Individuel</li><li>Distance : 0.4 / Style : L</li></ul></li>
 </ul></div><div class="gskiepreuves-links"><ul><li><a href="/index.php?opti
 on=com_jevents&task=icalevent.detail&evid=2447&Itemid=6289">Voir les inform
 ations dans l'agenda...</a></li></ul></div></div"><!-- #/gskiepreuve fin du
  dode généré par le plugin jevents pour GskiEpreuves. . Ne pas modifier cet
 te ligne, ni tout le contenu précedant.  #/gskiepreuve --> <a href="https:/
 /skivosges.net/agenda/a-venir/detailevenement/2452/-/promotion-ski-club-xon
 rupt-trophee-andros-reporte-e-au-17-09-2025?tmpl=component">Cet évènement a
  été importé depuis :https://skivosges.net/agenda/a-venir/detailevenement/2
 452/-/promotion-ski-club-xonrupt-trophee-andros-reporte-e-au-17-09-2025?tmp
 l=component</a>
X-ALT-DESC;FMTTYPE=text/html:<!-- #gskiepreuve code généré par le plugin jevents pour GskiEpreuves. Ne p
 as modifier cette ligne, ni tout le contenu suivant  #gskiepreuve --><div c
 lass="gski-evenement_infos"><div class="gski-evenement-nom">Promotion Ski C
 lub Xonrupt-Trophée Andros</div><div class="gski-evenement-report"> <font c
 lass="gskiattention">(Epreuve reportée au 17/09/2025)</font></div><ul class
 ="gski-evenement-liste-infos"><li>Codex évenement BMVT0050</li><li>Lieu : X
 onrupt</li><li>Organisateur : 14102 SKI CLUB XONRUPT</li><li>Courriel : <!-
 - Cette adresse électronique est protégée contre les robots spammeurs. --><
 span class="cloaked_email ep_9c27006d"><span data-ep-b="&#109;" data-ep-a="
 r&#101;&#109;&#121;"><span data-ep-a="&#97;l&#97;i" data-ep-b="l&#46;c&#111
 ;"><span data-ep-b="g&#109;&#97;i" data-ep-a="&#110;&#56;&#56;&#64;"></span
 ></span></span></span><script>RegularLabs.EmailProtector.unCloak("ep_9c2700
 6d");</script></li><li>Téléphone : 03 29 60 96 29</li></ul><div class="gski
 -evenement-infos-2"><div class="gski-evenement-info-inscriptions"><div clas
 s="gski-evenement-inscriptions-periodes">Période d'inscription à l'evènemen
 t du Mercredi 03 Septembre 2025 à 00:00 au Lundi 08 Septembre 2025 à 12:00<
 div class="gski-evenement-inscriptions-types-titres">Inscriptions ouvertes 
 aux detenteurs des titres Fédéraux valides suivants : Licenciés Compétiteur
 s et Titres Loisirs et Dirigeants</div></div></div><div class="gskiepreuves
 -links"><ul><li><a href="https://skivosges.net/index.php?option=com_jevents
 &task=icalevent.detail&evid=2447&Itemid=6289">Voir les informations dans l'
 agenda...</a></li></ul></div><div class="gski-evenement-epreuves"><div clas
 s="gski-evenement-epreuves-titres">Epreuves :</div><ul class="gski-evenemen
 t-epreuves-list"><li><div class="gski-epreuve-date">Le Mercredi 10 Septembr
 e 2025</div><ul class="gski-epreuve-liste-infos"><li>Codex épreuve BMVF0051
 </li><li>Catégorie(s) : U9 (Filles)</li><li>Individuel</li><li>Distance : 0
 .4 / Style : L</li></ul></li><li><div class="gski-epreuve-date">Le Mercredi
  10 Septembre 2025</div><ul class="gski-epreuve-liste-infos"><li>Codex épre
 uve BMVM0051</li><li>Catégorie(s) : U9 (Garçons)</li><li>Individuel</li><li
 >Distance : 0.4 / Style : L</li></ul></li><li><div class="gski-epreuve-date
 ">Le Mercredi 10 Septembre 2025</div><ul class="gski-epreuve-liste-infos"><
 li>Codex épreuve BMVF0052</li><li>Catégorie(s) : U11 (Filles)</li><li>Indiv
 iduel</li><li>Distance : 0.4 / Style : L</li></ul></li><li><div class="gski
 -epreuve-date">Le Mercredi 10 Septembre 2025</div><ul class="gski-epreuve-l
 iste-infos"><li>Codex épreuve BMVM0052</li><li>Catégorie(s) : U11 (Garçons)
 </li><li>Individuel</li><li>Distance : 0.4 / Style : L</li></ul></li><li><d
 iv class="gski-epreuve-date">Le Mercredi 10 Septembre 2025</div><ul class="
 gski-epreuve-liste-infos"><li>Codex épreuve BMVF0053</li><li>Catégorie(s) :
  U13 (Filles)</li><li>Individuel</li><li>Distance : 0.4 / Style : L</li></u
 l></li><li><div class="gski-epreuve-date">Le Mercredi 10 Septembre 2025</di
 v><ul class="gski-epreuve-liste-infos"><li>Codex épreuve BMVM0053</li><li>C
 atégorie(s) : U13 (Garçons)</li><li>Individuel</li><li>Distance : 0.4 / Sty
 le : L</li></ul></li></ul></div><div class="gskiepreuves-links"><ul><li><a 
 href="https://skivosges.net/index.php?option=com_jevents&task=icalevent.det
 ail&evid=2447&Itemid=6289">Voir les informations dans l'agenda...</a></li><
 /ul></div></div"><!-- #/gskiepreuve fin du dode généré par le plugin jevent
 s pour GskiEpreuves. . Ne pas modifier cette ligne, ni tout le contenu préc
 edant.  #/gskiepreuve --> <a href="https://skivosges.net/agenda/a-venir/det
 ailevenement/2452/-/promotion-ski-club-xonrupt-trophee-andros-reporte-e-au-
 17-09-2025?tmpl=component">Cet évènement a été importé depuis :https://skiv
 osges.net/agenda/a-venir/detailevenement/2452/-/promotion-ski-club-xonrupt-
 trophee-andros-reporte-e-au-17-09-2025?tmpl=component</a>DTSTAMP:20260420T110335
DTSTART;TZID=Europe/Paris;VALUE=DATE:20250910
DTEND;TZID=Europe/Paris;VALUE=DATE:20250911
SEQUENCE:0
TRANSP:OPAQUE
END:VEVENT
END:VCALENDAR