BEGIN:VCALENDAR
VERSION:2.0
PRODID:-//jEvents 2.0 for Joomla//EN
CALSCALE:GREGORIAN
METHOD:PUBLISH
BEGIN:VTIMEZONE
TZID:Europe/Paris
BEGIN:STANDARD
DTSTART:20241027T020000
RDATE:20250330T030000
TZOFFSETFROM:+0200
TZOFFSETTO:+0100
TZNAME:Europe/Paris CET
END:STANDARD
BEGIN:STANDARD
DTSTART:20251026T020000
RDATE:20260329T030000
TZOFFSETFROM:+0200
TZOFFSETTO:+0100
TZNAME:Europe/Paris CET
END:STANDARD
BEGIN:STANDARD
DTSTART:20261025T020000
RDATE:20270328T030000
TZOFFSETFROM:+0200
TZOFFSETTO:+0100
TZNAME:Europe/Paris CET
END:STANDARD
BEGIN:DAYLIGHT
DTSTART:20240913T000000
RDATE:20241027T020000
TZOFFSETFROM:+0100
TZOFFSETTO:+0200
TZNAME:Europe/Paris CEST
END:DAYLIGHT
BEGIN:DAYLIGHT
DTSTART:20250330T030000
RDATE:20251026T020000
TZOFFSETFROM:+0100
TZOFFSETTO:+0200
TZNAME:Europe/Paris CEST
END:DAYLIGHT
BEGIN:DAYLIGHT
DTSTART:20260329T030000
RDATE:20261025T020000
TZOFFSETFROM:+0100
TZOFFSETTO:+0200
TZNAME:Europe/Paris CEST
END:DAYLIGHT
END:VTIMEZONE
BEGIN:VEVENT
UID:bc9a2718885c8a2f588c56237784dcf3
CATEGORIES:Compétition Saut
CREATED:20250905T190212
SUMMARY:Coupe des Vosges
URL;VALUE=URI:https://skivosges.net/agenda/a-venir/detailevenement/2453/-/coupe-des-vosge
 s?tmpl=component
DESCRIPTION:<!-- #gskiepreuve code généré par le plugin jevents pour GskiEpreuves. Ne p
 as modifier cette ligne, ni tout le contenu suivant  #gskiepreuve --><div c
 lass="gski-evenement_infos"><div class="gski-evenement-nom">Coupe des Vosge
 s</div><div class="gski-evenement-report"></div><ul class="gski-evenement-l
 iste-infos"><li>Codex évenement TMVT0030</li><li>Station : BUSSANG LARCENAI
 RE</li><li>Organisateur : 14063 SKIEURS DE ST MAURICE/MOSELLE</li><li>Courr
 iel : <!-- Cette adresse électronique est protégée contre les robots spamme
 urs. --><span class="cloaked_email ep_b70f97fd"><span data-ep-b="fr" data-e
 p-a="&#102;ab&#114;"><span data-ep-b="&#114;&#101;&#101;." data-ep-a="&#105
 ;ce&#46;"><span data-ep-b="&#101;&#108;&#64;&#102;" data-ep-a="m&#97;ng"></
 span></span></span></span><script>RegularLabs.EmailProtector.unCloak("ep_b7
 0f97fd");</script></li><li>Téléphone : 0680013226</li></ul><div class="gski
 -evenement-infos-2"><div class="gski-evenement-info-inscriptions"><div clas
 s="gski-evenement-inscriptions-periodes">Période d'inscription à l'evènemen
 t du Dimanche 07 Septembre 2025 à 00:00 au Vendredi 12 Septembre 2025 à 12:
 00<div class="gski-evenement-inscriptions-types-titres">Inscriptions ouvert
 es aux detenteurs des titres Fédéraux valides suivants : Licenciés Compétit
 eurs et Titres Loisirs et Dirigeants</div></div></div><div class="gskiepreu
 ves-links"><ul><li><a href="/index.php?option=com_jevents&task=icalevent.de
 tail&evid=2448&Itemid=6289">Voir les informations dans l'agenda...</a></li>
 <li><a href="/index.php?option=com_gskiepreuves&view=affichedeparts&format_
 option=tous&filter[search]=TMVT0030&filter[date_debut]=14-09-2025&filter[da
 te_fin]=14-09-2025&Itemid=6289">Vers la liste de départs...</a></li><li>Pub
 lications concernant cet évènement :<ul><li><a href="/index.php?option=com_
 content&view=article&id=8738&Itemid=6289">Dimanche 14 Septembre 2025 à 18:3
 7 : Le 14/09/2025 BUSSANG LARCENAIRE/Saut Spécial Inscriptions</a></li><li>
 <a href="/index.php?option=com_content&view=article&id=8737&Itemid=6289">Di
 manche 14 Septembre 2025 à 18:32 : Le 14/09/2025 BUSSANG LARCENAIRE/Saut Sp
 écial Inscriptions</a></li><li><a href="/index.php?option=com_content&view=
 article&id=8736&Itemid=6289">Dimanche 14 Septembre 2025 à 18:14 : Le 14/09/
 2025 BUSSANG LARCENAIRE/Saut Spécial Inscriptions</a></li><li><a href="/ind
 ex.php?option=com_content&view=article&id=8735&Itemid=6289">Dimanche 14 Sep
 tembre 2025 à 18:08 : Le 14/09/2025 BUSSANG LARCENAIRE/Saut Spécial Inscrip
 tions</a></li><li><a href="/index.php?option=com_content&view=article&id=87
 32&Itemid=6289">Jeudi 11 Septembre 2025 à 10:01 : Le 14/09/2025 BUSSANG LAR
 CENAIRE/Saut Spécial Informations</a></li></ul></li></ul></div><div class="
 gski-evenement-epreuves"><div class="gski-evenement-epreuves-titres">Epreuv
 es :</div><ul class="gski-evenement-epreuves-list"><li><div class="gski-epr
 euve-date">Le Dimanche 14 Septembre 2025</div><ul class="gski-epreuve-liste
 -infos"><li>Codex épreuve TMVM0031</li><li>Catégorie(s) : U7 a U15 (Garçons
 )</li><li>Saut Special</li><li>Distance : HS33</li></ul></li><li><div class
 ="gski-epreuve-date">Le Dimanche 14 Septembre 2025</div><ul class="gski-epr
 euve-liste-infos"><li>Codex épreuve TMVF0031</li><li>Catégorie(s) : U7 a U1
 5 (Filles)</li><li>Saut Special</li><li>Distance : HS33</li></ul></li><li><
 div class="gski-epreuve-date">Le Dimanche 14 Septembre 2025</div><ul class=
 "gski-epreuve-liste-infos"><li>Codex épreuve TMVF0032</li><li>Catégorie(s) 
 : Toutes les Categories (Filles)</li><li>Saut Special</li><li>Distance : HS
 15</li></ul></li><li><div class="gski-epreuve-date">Le Dimanche 14 Septembr
 e 2025</div><ul class="gski-epreuve-liste-infos"><li>Codex épreuve TMVM0032
 </li><li>Catégorie(s) : Toutes les Categories (Garçons)</li><li>Saut Specia
 l</li><li>Distance : HS15</li></ul></li></ul></div><div class="gskiepreuves
 -links"><ul><li><a href="/index.php?option=com_jevents&task=icalevent.detai
 l&evid=2448&Itemid=6289">Voir les informations dans l'agenda...</a></li><li
 ><a href="/index.php?option=com_gskiepreuves&view=affichedeparts&format_opt
 ion=tous&filter[search]=TMVT0030&filter[date_debut]=14-09-2025&filter[date_
 fin]=14-09-2025&Itemid=6289">Vers la liste de départs...</a></li><li>Public
 ations concernant cet évènement :<ul><li><a href="/index.php?option=com_con
 tent&view=article&id=8738&Itemid=6289">Dimanche 14 Septembre 2025 à 18:37 :
  Le 14/09/2025 BUSSANG LARCENAIRE/Saut Spécial Inscriptions</a></li><li><a 
 href="/index.php?option=com_content&view=article&id=8737&Itemid=6289">Diman
 che 14 Septembre 2025 à 18:32 : Le 14/09/2025 BUSSANG LARCENAIRE/Saut Spéci
 al Inscriptions</a></li><li><a href="/index.php?option=com_content&view=art
 icle&id=8736&Itemid=6289">Dimanche 14 Septembre 2025 à 18:14 : Le 14/09/202
 5 BUSSANG LARCENAIRE/Saut Spécial Inscriptions</a></li><li><a href="/index.
 php?option=com_content&view=article&id=8735&Itemid=6289">Dimanche 14 Septem
 bre 2025 à 18:08 : Le 14/09/2025 BUSSANG LARCENAIRE/Saut Spécial Inscriptio
 ns</a></li><li><a href="/index.php?option=com_content&view=article&id=8732&
 Itemid=6289">Jeudi 11 Septembre 2025 à 10:01 : Le 14/09/2025 BUSSANG LARCEN
 AIRE/Saut Spécial Informations</a></li></ul></li></ul></div></div"><!-- #/g
 skiepreuve fin du dode généré par le plugin jevents pour GskiEpreuves. . Ne
  pas modifier cette ligne, ni tout le contenu précedant.  #/gskiepreuve -->
  <a href="https://skivosges.net/agenda/a-venir/detailevenement/2453/-/coupe
 -des-vosges?tmpl=component">Cet évènement a été importé depuis :https://ski
 vosges.net/agenda/a-venir/detailevenement/2453/-/coupe-des-vosges?tmpl=comp
 onent</a>
X-ALT-DESC;FMTTYPE=text/html:<!-- #gskiepreuve code généré par le plugin jevents pour GskiEpreuves. Ne p
 as modifier cette ligne, ni tout le contenu suivant  #gskiepreuve --><div c
 lass="gski-evenement_infos"><div class="gski-evenement-nom">Coupe des Vosge
 s</div><div class="gski-evenement-report"></div><ul class="gski-evenement-l
 iste-infos"><li>Codex évenement TMVT0030</li><li>Station : BUSSANG LARCENAI
 RE</li><li>Organisateur : 14063 SKIEURS DE ST MAURICE/MOSELLE</li><li>Courr
 iel : <!-- Cette adresse électronique est protégée contre les robots spamme
 urs. --><span class="cloaked_email ep_b70f97fd"><span data-ep-b="fr" data-e
 p-a="&#102;ab&#114;"><span data-ep-b="&#114;&#101;&#101;." data-ep-a="&#105
 ;ce&#46;"><span data-ep-b="&#101;&#108;&#64;&#102;" data-ep-a="m&#97;ng"></
 span></span></span></span><script>RegularLabs.EmailProtector.unCloak("ep_b7
 0f97fd");</script></li><li>Téléphone : 0680013226</li></ul><div class="gski
 -evenement-infos-2"><div class="gski-evenement-info-inscriptions"><div clas
 s="gski-evenement-inscriptions-periodes">Période d'inscription à l'evènemen
 t du Dimanche 07 Septembre 2025 à 00:00 au Vendredi 12 Septembre 2025 à 12:
 00<div class="gski-evenement-inscriptions-types-titres">Inscriptions ouvert
 es aux detenteurs des titres Fédéraux valides suivants : Licenciés Compétit
 eurs et Titres Loisirs et Dirigeants</div></div></div><div class="gskiepreu
 ves-links"><ul><li><a href="https://skivosges.net/index.php?option=com_jeve
 nts&task=icalevent.detail&evid=2448&Itemid=6289">Voir les informations dans
  l'agenda...</a></li><li><a href="https://skivosges.net/index.php?option=co
 m_gskiepreuves&view=affichedeparts&format_option=tous&filter[search]=TMVT00
 30&filter[date_debut]=14-09-2025&filter[date_fin]=14-09-2025&Itemid=6289">V
 ers la liste de départs...</a></li><li>Publications concernant cet évènemen
 t :<ul><li><a href="https://skivosges.net/index.php?option=com_content&view
 =article&id=8738&Itemid=6289">Dimanche 14 Septembre 2025 à 18:37 : Le 14/09
 /2025 BUSSANG LARCENAIRE/Saut Spécial Inscriptions</a></li><li><a href="htt
 ps://skivosges.net/index.php?option=com_content&view=article&id=8737&Itemid
 =6289">Dimanche 14 Septembre 2025 à 18:32 : Le 14/09/2025 BUSSANG LARCENAIR
 E/Saut Spécial Inscriptions</a></li><li><a href="https://skivosges.net/inde
 x.php?option=com_content&view=article&id=8736&Itemid=6289">Dimanche 14 Sept
 embre 2025 à 18:14 : Le 14/09/2025 BUSSANG LARCENAIRE/Saut Spécial Inscript
 ions</a></li><li><a href="https://skivosges.net/index.php?option=com_conten
 t&view=article&id=8735&Itemid=6289">Dimanche 14 Septembre 2025 à 18:08 : Le
  14/09/2025 BUSSANG LARCENAIRE/Saut Spécial Inscriptions</a></li><li><a hre
 f="https://skivosges.net/index.php?option=com_content&view=article&id=8732&
 Itemid=6289">Jeudi 11 Septembre 2025 à 10:01 : Le 14/09/2025 BUSSANG LARCEN
 AIRE/Saut Spécial Informations</a></li></ul></li></ul></div><div class="gsk
 i-evenement-epreuves"><div class="gski-evenement-epreuves-titres">Epreuves 
 :</div><ul class="gski-evenement-epreuves-list"><li><div class="gski-epreuv
 e-date">Le Dimanche 14 Septembre 2025</div><ul class="gski-epreuve-liste-in
 fos"><li>Codex épreuve TMVM0031</li><li>Catégorie(s) : U7 a U15 (Garçons)</
 li><li>Saut Special</li><li>Distance : HS33</li></ul></li><li><div class="g
 ski-epreuve-date">Le Dimanche 14 Septembre 2025</div><ul class="gski-epreuv
 e-liste-infos"><li>Codex épreuve TMVF0031</li><li>Catégorie(s) : U7 a U15 (
 Filles)</li><li>Saut Special</li><li>Distance : HS33</li></ul></li><li><div
  class="gski-epreuve-date">Le Dimanche 14 Septembre 2025</div><ul class="gs
 ki-epreuve-liste-infos"><li>Codex épreuve TMVF0032</li><li>Catégorie(s) : T
 outes les Categories (Filles)</li><li>Saut Special</li><li>Distance : HS15<
 /li></ul></li><li><div class="gski-epreuve-date">Le Dimanche 14 Septembre 2
 025</div><ul class="gski-epreuve-liste-infos"><li>Codex épreuve TMVM0032</l
 i><li>Catégorie(s) : Toutes les Categories (Garçons)</li><li>Saut Special</
 li><li>Distance : HS15</li></ul></li></ul></div><div class="gskiepreuves-li
 nks"><ul><li><a href="https://skivosges.net/index.php?option=com_jevents&ta
 sk=icalevent.detail&evid=2448&Itemid=6289">Voir les informations dans l'age
 nda...</a></li><li><a href="https://skivosges.net/index.php?option=com_gski
 epreuves&view=affichedeparts&format_option=tous&filter[search]=TMVT0030&fil
 ter[date_debut]=14-09-2025&filter[date_fin]=14-09-2025&Itemid=6289">Vers la
  liste de départs...</a></li><li>Publications concernant cet évènement :<ul
 ><li><a href="https://skivosges.net/index.php?option=com_content&view=artic
 le&id=8738&Itemid=6289">Dimanche 14 Septembre 2025 à 18:37 : Le 14/09/2025 
 BUSSANG LARCENAIRE/Saut Spécial Inscriptions</a></li><li><a href="https://s
 kivosges.net/index.php?option=com_content&view=article&id=8737&Itemid=6289"
 >Dimanche 14 Septembre 2025 à 18:32 : Le 14/09/2025 BUSSANG LARCENAIRE/Saut
  Spécial Inscriptions</a></li><li><a href="https://skivosges.net/index.php?
 option=com_content&view=article&id=8736&Itemid=6289">Dimanche 14 Septembre 
 2025 à 18:14 : Le 14/09/2025 BUSSANG LARCENAIRE/Saut Spécial Inscriptions</
 a></li><li><a href="https://skivosges.net/index.php?option=com_content&view
 =article&id=8735&Itemid=6289">Dimanche 14 Septembre 2025 à 18:08 : Le 14/09
 /2025 BUSSANG LARCENAIRE/Saut Spécial Inscriptions</a></li><li><a href="htt
 ps://skivosges.net/index.php?option=com_content&view=article&id=8732&Itemid
 =6289">Jeudi 11 Septembre 2025 à 10:01 : Le 14/09/2025 BUSSANG LARCENAIRE/S
 aut Spécial Informations</a></li></ul></li></ul></div></div"><!-- #/gskiepr
 euve fin du dode généré par le plugin jevents pour GskiEpreuves. . Ne pas m
 odifier cette ligne, ni tout le contenu précedant.  #/gskiepreuve --> <a hr
 ef="https://skivosges.net/agenda/a-venir/detailevenement/2453/-/coupe-des-v
 osges?tmpl=component">Cet évènement a été importé depuis :https://skivosges
 .net/agenda/a-venir/detailevenement/2453/-/coupe-des-vosges?tmpl=component<
 /a>DTSTAMP:20260420T110335
DTSTART;TZID=Europe/Paris;VALUE=DATE:20250914
DTEND;TZID=Europe/Paris;VALUE=DATE:20250915
SEQUENCE:0
TRANSP:OPAQUE
END:VEVENT
END:VCALENDAR