BEGIN:VCALENDAR
VERSION:2.0
PRODID:-//jEvents 2.0 for Joomla//EN
CALSCALE:GREGORIAN
METHOD:PUBLISH
BEGIN:VTIMEZONE
TZID:Europe/Paris
BEGIN:STANDARD
DTSTART:20241027T020000
RDATE:20250330T030000
TZOFFSETFROM:+0200
TZOFFSETTO:+0100
TZNAME:Europe/Paris CET
END:STANDARD
BEGIN:STANDARD
DTSTART:20251026T020000
RDATE:20260329T030000
TZOFFSETFROM:+0200
TZOFFSETTO:+0100
TZNAME:Europe/Paris CET
END:STANDARD
BEGIN:STANDARD
DTSTART:20261025T020000
RDATE:20270328T030000
TZOFFSETFROM:+0200
TZOFFSETTO:+0100
TZNAME:Europe/Paris CET
END:STANDARD
BEGIN:DAYLIGHT
DTSTART:20241003T000000
RDATE:20241027T020000
TZOFFSETFROM:+0100
TZOFFSETTO:+0200
TZNAME:Europe/Paris CEST
END:DAYLIGHT
BEGIN:DAYLIGHT
DTSTART:20250330T030000
RDATE:20251026T020000
TZOFFSETFROM:+0100
TZOFFSETTO:+0200
TZNAME:Europe/Paris CEST
END:DAYLIGHT
BEGIN:DAYLIGHT
DTSTART:20260329T030000
RDATE:20261025T020000
TZOFFSETFROM:+0100
TZOFFSETTO:+0200
TZNAME:Europe/Paris CEST
END:DAYLIGHT
END:VTIMEZONE
BEGIN:VEVENT
UID:7ee70e2fdaa4d7cbe3e35028ae053de6
CATEGORIES:Combiné Nordique
CREATED:20250905T190216
SUMMARY:Coupe des Vosges
URL;VALUE=URI:https://skivosges.net/agenda/a-venir/detailevenement/2455/-/coupe-des-vosge
 s?tmpl=component
DESCRIPTION:<!-- #gskiepreuve code généré par le plugin jevents pour GskiEpreuves. Ne p
 as modifier cette ligne, ni tout le contenu suivant  #gskiepreuve --><div c
 lass="gski-evenement_infos"><div class="gski-evenement-nom">Coupe des Vosge
 s</div><div class="gski-evenement-report"></div><ul class="gski-evenement-l
 iste-infos"><li>Codex évenement CMVT0010</li><li>Lieu : TREMPLIN VENTRON</l
 i><li>Organisateur : 14083 U.S VENTRON</li><li>Courriel : <!-- Cette adress
 e électronique est protégée contre les robots spammeurs. --><span class="cl
 oaked_email ep_52e58745"><span data-ep-a="p&#97;t&#114;&#105;" data-ep-b=""
 ><span data-ep-a="&#99;&#107;8&#56;g" data-ep-b="&#108;.co&#109;"><span dat
 a-ep-b="&#64;&#103;&#109;a&#105;" data-ep-a="era&#114;d"></span></span></sp
 an></span><script>RegularLabs.EmailProtector.unCloak("ep_52e58745");</scrip
 t></li></ul><div class="gski-evenement-infos-2"><div class="gski-evenement-
 info-inscriptions"><div class="gski-evenement-inscriptions-periodes">Périod
 e d'inscription à l'evènement du Samedi 27 Septembre 2025 à 00:00 au Jeudi 
 02 Octobre 2025 à 12:00<div class="gski-evenement-inscriptions-types-titres
 ">Inscriptions ouvertes aux detenteurs des titres Fédéraux valides suivants
  : Licenciés Compétiteurs et Titres Loisirs et Dirigeants</div></div></div>
 <div class="gskiepreuves-links"><ul><li><a href="/index.php?option=com_jeve
 nts&task=icalevent.detail&evid=2450&Itemid=6289">Voir les informations dans
  l'agenda...</a></li></ul></div><div class="gski-evenement-epreuves"><div c
 lass="gski-evenement-epreuves-titres">Epreuves :</div><ul class="gski-evene
 ment-epreuves-list"><li><div class="gski-epreuve-date">Le Samedi 04 Octobre
  2025</div><ul class="gski-epreuve-liste-infos"><li>Codex épreuve CMVM0011<
 /li><li>Catégorie(s) : Toutes les Categories (Garçons)</li><li>Combine Nord
 ique (Saut-Pours)</li></ul></li><li><div class="gski-epreuve-date">Le Samed
 i 04 Octobre 2025</div><ul class="gski-epreuve-liste-infos"><li>Codex épreu
 ve CMVF0011</li><li>Catégorie(s) : Toutes les Categories (Filles)</li><li>C
 ombine Nordique (Saut-Pours)</li></ul></li><li><div class="gski-epreuve-dat
 e">Le Samedi 04 Octobre 2025</div><ul class="gski-epreuve-liste-infos"><li>
 Codex épreuve CMVF0012</li><li>Catégorie(s) : Toutes les Categories (Filles
 )</li><li>Combine Nordique (Saut-Pours)</li></ul></li><li><div class="gski-
 epreuve-date">Le Samedi 04 Octobre 2025</div><ul class="gski-epreuve-liste-
 infos"><li>Codex épreuve CMVM0012</li><li>Catégorie(s) : Toutes les Categor
 ies (Garçons)</li><li>Combine Nordique (Saut-Pours)</li></ul></li></ul></di
 v><div class="gskiepreuves-links"><ul><li><a href="/index.php?option=com_je
 vents&task=icalevent.detail&evid=2450&Itemid=6289">Voir les informations da
 ns l'agenda...</a></li></ul></div></div"><!-- #/gskiepreuve fin du dode gén
 éré par le plugin jevents pour GskiEpreuves. . Ne pas modifier cette ligne,
  ni tout le contenu précedant.  #/gskiepreuve --> <a href="https://skivosge
 s.net/agenda/a-venir/detailevenement/2455/-/coupe-des-vosges?tmpl=component
 ">Cet évènement a été importé depuis :https://skivosges.net/agenda/a-venir/
 detailevenement/2455/-/coupe-des-vosges?tmpl=component</a>
X-ALT-DESC;FMTTYPE=text/html:<!-- #gskiepreuve code généré par le plugin jevents pour GskiEpreuves. Ne p
 as modifier cette ligne, ni tout le contenu suivant  #gskiepreuve --><div c
 lass="gski-evenement_infos"><div class="gski-evenement-nom">Coupe des Vosge
 s</div><div class="gski-evenement-report"></div><ul class="gski-evenement-l
 iste-infos"><li>Codex évenement CMVT0010</li><li>Lieu : TREMPLIN VENTRON</l
 i><li>Organisateur : 14083 U.S VENTRON</li><li>Courriel : <!-- Cette adress
 e électronique est protégée contre les robots spammeurs. --><span class="cl
 oaked_email ep_52e58745"><span data-ep-a="p&#97;t&#114;&#105;" data-ep-b=""
 ><span data-ep-a="&#99;&#107;8&#56;g" data-ep-b="&#108;.co&#109;"><span dat
 a-ep-b="&#64;&#103;&#109;a&#105;" data-ep-a="era&#114;d"></span></span></sp
 an></span><script>RegularLabs.EmailProtector.unCloak("ep_52e58745");</scrip
 t></li></ul><div class="gski-evenement-infos-2"><div class="gski-evenement-
 info-inscriptions"><div class="gski-evenement-inscriptions-periodes">Périod
 e d'inscription à l'evènement du Samedi 27 Septembre 2025 à 00:00 au Jeudi 
 02 Octobre 2025 à 12:00<div class="gski-evenement-inscriptions-types-titres
 ">Inscriptions ouvertes aux detenteurs des titres Fédéraux valides suivants
  : Licenciés Compétiteurs et Titres Loisirs et Dirigeants</div></div></div>
 <div class="gskiepreuves-links"><ul><li><a href="https://skivosges.net/inde
 x.php?option=com_jevents&task=icalevent.detail&evid=2450&Itemid=6289">Voir 
 les informations dans l'agenda...</a></li></ul></div><div class="gski-evene
 ment-epreuves"><div class="gski-evenement-epreuves-titres">Epreuves :</div>
 <ul class="gski-evenement-epreuves-list"><li><div class="gski-epreuve-date"
 >Le Samedi 04 Octobre 2025</div><ul class="gski-epreuve-liste-infos"><li>Co
 dex épreuve CMVM0011</li><li>Catégorie(s) : Toutes les Categories (Garçons)
 </li><li>Combine Nordique (Saut-Pours)</li></ul></li><li><div class="gski-e
 preuve-date">Le Samedi 04 Octobre 2025</div><ul class="gski-epreuve-liste-i
 nfos"><li>Codex épreuve CMVF0011</li><li>Catégorie(s) : Toutes les Categori
 es (Filles)</li><li>Combine Nordique (Saut-Pours)</li></ul></li><li><div cl
 ass="gski-epreuve-date">Le Samedi 04 Octobre 2025</div><ul class="gski-epre
 uve-liste-infos"><li>Codex épreuve CMVF0012</li><li>Catégorie(s) : Toutes l
 es Categories (Filles)</li><li>Combine Nordique (Saut-Pours)</li></ul></li>
 <li><div class="gski-epreuve-date">Le Samedi 04 Octobre 2025</div><ul class
 ="gski-epreuve-liste-infos"><li>Codex épreuve CMVM0012</li><li>Catégorie(s)
  : Toutes les Categories (Garçons)</li><li>Combine Nordique (Saut-Pours)</l
 i></ul></li></ul></div><div class="gskiepreuves-links"><ul><li><a href="htt
 ps://skivosges.net/index.php?option=com_jevents&task=icalevent.detail&evid=
 2450&Itemid=6289">Voir les informations dans l'agenda...</a></li></ul></div
 ></div"><!-- #/gskiepreuve fin du dode généré par le plugin jevents pour Gs
 kiEpreuves. . Ne pas modifier cette ligne, ni tout le contenu précedant.  #
 /gskiepreuve --> <a href="https://skivosges.net/agenda/a-venir/detailevenem
 ent/2455/-/coupe-des-vosges?tmpl=component">Cet évènement a été importé dep
 uis :https://skivosges.net/agenda/a-venir/detailevenement/2455/-/coupe-des-
 vosges?tmpl=component</a>DTSTAMP:20260420T112744
DTSTART;TZID=Europe/Paris;VALUE=DATE:20251004
DTEND;TZID=Europe/Paris;VALUE=DATE:20251005
SEQUENCE:0
TRANSP:OPAQUE
END:VEVENT
END:VCALENDAR