BEGIN:VCALENDAR
VERSION:2.0
PRODID:-//jEvents 2.0 for Joomla//EN
CALSCALE:GREGORIAN
METHOD:PUBLISH
BEGIN:VTIMEZONE
TZID:Europe/Paris
BEGIN:STANDARD
DTSTART:20241027T020000
RDATE:20250330T030000
TZOFFSETFROM:+0200
TZOFFSETTO:+0100
TZNAME:Europe/Paris CET
END:STANDARD
BEGIN:STANDARD
DTSTART:20251026T020000
RDATE:20260329T030000
TZOFFSETFROM:+0200
TZOFFSETTO:+0100
TZNAME:Europe/Paris CET
END:STANDARD
BEGIN:STANDARD
DTSTART:20261025T020000
RDATE:20270328T030000
TZOFFSETFROM:+0200
TZOFFSETTO:+0100
TZNAME:Europe/Paris CET
END:STANDARD
BEGIN:DAYLIGHT
DTSTART:20240916T000000
RDATE:20241027T020000
TZOFFSETFROM:+0100
TZOFFSETTO:+0200
TZNAME:Europe/Paris CEST
END:DAYLIGHT
BEGIN:DAYLIGHT
DTSTART:20250330T030000
RDATE:20251026T020000
TZOFFSETFROM:+0100
TZOFFSETTO:+0200
TZNAME:Europe/Paris CEST
END:DAYLIGHT
BEGIN:DAYLIGHT
DTSTART:20260329T030000
RDATE:20261025T020000
TZOFFSETFROM:+0100
TZOFFSETTO:+0200
TZNAME:Europe/Paris CEST
END:DAYLIGHT
END:VTIMEZONE
BEGIN:VEVENT
UID:71094d7fa57646c2fca6c8549ee9c69f
CATEGORIES:Compétition Biathlon
CREATED:20250910T131145
SUMMARY:Promotion Ski Club Xonrupt-Trophée Andros
URL;VALUE=URI:https://skivosges.net/agenda/a-venir/detailevenement/2458/-/promotion-ski-c
 lub-xonrupt-trophee-andros?tmpl=component
DESCRIPTION:Promotion Ski Club Xonrupt-Trophée Andros (Report de l'épreuve initialement
  prévue le 10/09/2025)\n - Codex évenement BMVT0050\n - Lieu : Xonrupt\n - 
 Station : andross\n - Piste : andross\n - Organisateur : 14102 SKI CLUB XON
 RUPT\n - Courriel : RegularLabs.EmailProtector.unCloak("ep_a7451ccd");\n - 
 Téléphone : 03 29 60 96 29Période d'inscription à l'evènement du Mercredi 1
 0 Septembre 2025 à 00:00 au Lundi 15 Septembre 2025 à 12:00Inscriptions ouv
 ertes aux detenteurs des titres Fédéraux valides suivants : Licenciés Compé
 titeurs et Titres Loisirs et Dirigeants\n - Voir les informations dans l'ag
 enda... (/index.php?option=com_jevents&amp;task=icalevent.detail&amp;evid=2
 453&amp;Itemid=6289)Epreuves :\n - Le Mercredi 17 Septembre 2025\n - Codex 
 épreuve BMVF0051\n - Catégorie(s) : U9 (Filles)\n - Individuel\n - Distance
  : 0.4 / Style : L\n - Le Mercredi 17 Septembre 2025\n - Codex épreuve BMVM
 0051\n - Catégorie(s) : U9 (Garçons)\n - Individuel\n - Distance : 0.4 / St
 yle : L\n - Le Mercredi 17 Septembre 2025\n - Codex épreuve BMVF0052\n - Ca
 tégorie(s) : U11 (Filles)\n - Individuel\n - Distance : 0.4 / Style : L\n -
  Le Mercredi 17 Septembre 2025\n - Codex épreuve BMVM0052\n - Catégorie(s) 
 : U11 (Garçons)\n - Individuel\n - Distance : 0.4 / Style : L\n - Le Mercre
 di 17 Septembre 2025\n - Codex épreuve BMVF0053\n - Catégorie(s) : U13 (Fil
 les)\n - Individuel\n - Distance : 0.4 / Style : L\n - Le Mercredi 17 Septe
 mbre 2025\n - Codex épreuve BMVM0053\n - Catégorie(s) : U13 (Garçons)\n - I
 ndividuel\n - Distance : 0.4 / Style : L\n - Voir les informations dans l'a
 genda... (/index.php?option=com_jevents&amp;task=icalevent.detail&amp;evid=
 2453&amp;Itemid=6289) Cet évènement a été importé depuis :https://skivosges
 .net/agenda/a-venir/detailevenement/2458/-/promotion-ski-club-xonrupt-troph
 ee-andros?tmpl=component (https://skivosges.net/agenda/a-venir/detailevenem
 ent/2458/-/promotion-ski-club-xonrupt-trophee-andros?tmpl=component)
X-ALT-DESC;FMTTYPE=text/html:<!-- #gskiepreuve code généré par le plugin jevents pour GskiEpreuves. Ne p
 as modifier cette ligne, ni tout le contenu suivant  #gskiepreuve --><div c
 lass="gski-evenement_infos"><div class="gski-evenement-nom">Promotion Ski C
 lub Xonrupt-Trophée Andros</div><div class="gski-evenement-report"> <font c
 lass="gskiattention">(Report de l'épreuve initialement prévue le 10/09/2025
 )</font></div><ul class="gski-evenement-liste-infos"><li>Codex évenement BM
 VT0050</li><li>Lieu : Xonrupt</li><li>Station : andross</li><li>Piste : and
 ross</li><li>Organisateur : 14102 SKI CLUB XONRUPT</li><li>Courriel : <!-- 
 Cette adresse électronique est protégée contre les robots spammeurs. --><sp
 an class="cloaked_email ep_a7451ccd"><span data-ep-b="&#109;" data-ep-a="&#
 114;e&#109;y"><span data-ep-a="&#97;&#108;a&#105;" data-ep-b="&#108;&#46;&#
 99;&#111;"><span data-ep-b="&#103;&#109;&#97;&#105;" data-ep-a="&#110;88&#6
 4;"></span></span></span></span><script>RegularLabs.EmailProtector.unCloak(
 "ep_a7451ccd");</script></li><li>Téléphone : 03 29 60 96 29</li></ul><div c
 lass="gski-evenement-infos-2"><div class="gski-evenement-info-inscriptions"
 ><div class="gski-evenement-inscriptions-periodes">Période d'inscription à 
 l'evènement du Mercredi 10 Septembre 2025 à 00:00 au Lundi 15 Septembre 202
 5 à 12:00<div class="gski-evenement-inscriptions-types-titres">Inscriptions
  ouvertes aux detenteurs des titres Fédéraux valides suivants : Licenciés C
 ompétiteurs et Titres Loisirs et Dirigeants</div></div></div><div class="gs
 kiepreuves-links"><ul><li><a href="https://skivosges.net/index.php?option=c
 om_jevents&task=icalevent.detail&evid=2453&Itemid=6289">Voir les informatio
 ns dans l'agenda...</a></li></ul></div><div class="gski-evenement-epreuves"
 ><div class="gski-evenement-epreuves-titres">Epreuves :</div><ul class="gsk
 i-evenement-epreuves-list"><li><div class="gski-epreuve-date">Le Mercredi 1
 7 Septembre 2025</div><ul class="gski-epreuve-liste-infos"><li>Codex épreuv
 e BMVF0051</li><li>Catégorie(s) : U9 (Filles)</li><li>Individuel</li><li>Di
 stance : 0.4 / Style : L</li></ul></li><li><div class="gski-epreuve-date">L
 e Mercredi 17 Septembre 2025</div><ul class="gski-epreuve-liste-infos"><li>
 Codex épreuve BMVM0051</li><li>Catégorie(s) : U9 (Garçons)</li><li>Individu
 el</li><li>Distance : 0.4 / Style : L</li></ul></li><li><div class="gski-ep
 reuve-date">Le Mercredi 17 Septembre 2025</div><ul class="gski-epreuve-list
 e-infos"><li>Codex épreuve BMVF0052</li><li>Catégorie(s) : U11 (Filles)</li
 ><li>Individuel</li><li>Distance : 0.4 / Style : L</li></ul></li><li><div c
 lass="gski-epreuve-date">Le Mercredi 17 Septembre 2025</div><ul class="gski
 -epreuve-liste-infos"><li>Codex épreuve BMVM0052</li><li>Catégorie(s) : U11
  (Garçons)</li><li>Individuel</li><li>Distance : 0.4 / Style : L</li></ul><
 /li><li><div class="gski-epreuve-date">Le Mercredi 17 Septembre 2025</div><
 ul class="gski-epreuve-liste-infos"><li>Codex épreuve BMVF0053</li><li>Caté
 gorie(s) : U13 (Filles)</li><li>Individuel</li><li>Distance : 0.4 / Style :
  L</li></ul></li><li><div class="gski-epreuve-date">Le Mercredi 17 Septembr
 e 2025</div><ul class="gski-epreuve-liste-infos"><li>Codex épreuve BMVM0053
 </li><li>Catégorie(s) : U13 (Garçons)</li><li>Individuel</li><li>Distance :
  0.4 / Style : L</li></ul></li></ul></div><div class="gskiepreuves-links"><
 ul><li><a href="https://skivosges.net/index.php?option=com_jevents&task=ica
 levent.detail&evid=2453&Itemid=6289">Voir les informations dans l'agenda...
 </a></li></ul></div></div"><!-- #/gskiepreuve fin du dode généré par le plu
 gin jevents pour GskiEpreuves. . Ne pas modifier cette ligne, ni tout le co
 ntenu précedant.  #/gskiepreuve --> <a href="https://skivosges.net/agenda/a
 -venir/detailevenement/2458/-/promotion-ski-club-xonrupt-trophee-andros?tmp
 l=component">Cet évènement a été importé depuis :https://skivosges.net/agen
 da/a-venir/detailevenement/2458/-/promotion-ski-club-xonrupt-trophee-andros
 ?tmpl=component</a>DTSTAMP:20260420T125526
DTSTART;TZID=Europe/Paris;VALUE=DATE:20250917
DTEND;TZID=Europe/Paris;VALUE=DATE:20250918
SEQUENCE:0
TRANSP:OPAQUE
END:VEVENT
END:VCALENDAR