BEGIN:VCALENDAR
VERSION:2.0
PRODID:-//jEvents 2.0 for Joomla//EN
CALSCALE:GREGORIAN
METHOD:PUBLISH
BEGIN:VTIMEZONE
TZID:Europe/Paris
BEGIN:STANDARD
DTSTART:20131219T080000
RDATE:20140330T030000
TZOFFSETFROM:+0200
TZOFFSETTO:+0100
TZNAME:Europe/Paris CET
END:STANDARD
BEGIN:STANDARD
DTSTART:20141026T020000
RDATE:20150329T030000
TZOFFSETFROM:+0200
TZOFFSETTO:+0100
TZNAME:Europe/Paris CET
END:STANDARD
BEGIN:STANDARD
DTSTART:20151025T020000
RDATE:20160327T030000
TZOFFSETFROM:+0200
TZOFFSETTO:+0100
TZNAME:Europe/Paris CET
END:STANDARD
BEGIN:STANDARD
DTSTART:20161030T020000
RDATE:20170326T030000
TZOFFSETFROM:+0200
TZOFFSETTO:+0100
TZNAME:Europe/Paris CET
END:STANDARD
BEGIN:STANDARD
DTSTART:20171029T020000
RDATE:20180325T030000
TZOFFSETFROM:+0200
TZOFFSETTO:+0100
TZNAME:Europe/Paris CET
END:STANDARD
BEGIN:STANDARD
DTSTART:20181028T020000
RDATE:20190331T030000
TZOFFSETFROM:+0200
TZOFFSETTO:+0100
TZNAME:Europe/Paris CET
END:STANDARD
BEGIN:STANDARD
DTSTART:20191027T020000
RDATE:20200329T030000
TZOFFSETFROM:+0200
TZOFFSETTO:+0100
TZNAME:Europe/Paris CET
END:STANDARD
BEGIN:STANDARD
DTSTART:20201025T020000
RDATE:20210328T030000
TZOFFSETFROM:+0200
TZOFFSETTO:+0100
TZNAME:Europe/Paris CET
END:STANDARD
BEGIN:STANDARD
DTSTART:20211031T020000
RDATE:20220327T030000
TZOFFSETFROM:+0200
TZOFFSETTO:+0100
TZNAME:Europe/Paris CET
END:STANDARD
BEGIN:STANDARD
DTSTART:20221030T020000
RDATE:20230326T030000
TZOFFSETFROM:+0200
TZOFFSETTO:+0100
TZNAME:Europe/Paris CET
END:STANDARD
BEGIN:STANDARD
DTSTART:20231029T020000
RDATE:20240331T030000
TZOFFSETFROM:+0200
TZOFFSETTO:+0100
TZNAME:Europe/Paris CET
END:STANDARD
BEGIN:STANDARD
DTSTART:20241027T020000
RDATE:20250330T030000
TZOFFSETFROM:+0200
TZOFFSETTO:+0100
TZNAME:Europe/Paris CET
END:STANDARD
BEGIN:STANDARD
DTSTART:20251026T020000
RDATE:20260329T030000
TZOFFSETFROM:+0200
TZOFFSETTO:+0100
TZNAME:Europe/Paris CET
END:STANDARD
BEGIN:STANDARD
DTSTART:20261025T020000
RDATE:20270328T030000
TZOFFSETFROM:+0200
TZOFFSETTO:+0100
TZNAME:Europe/Paris CET
END:STANDARD
BEGIN:DAYLIGHT
DTSTART:20140330T030000
RDATE:20141026T020000
TZOFFSETFROM:+0100
TZOFFSETTO:+0200
TZNAME:Europe/Paris CEST
END:DAYLIGHT
BEGIN:DAYLIGHT
DTSTART:20150329T030000
RDATE:20151025T020000
TZOFFSETFROM:+0100
TZOFFSETTO:+0200
TZNAME:Europe/Paris CEST
END:DAYLIGHT
BEGIN:DAYLIGHT
DTSTART:20160327T030000
RDATE:20161030T020000
TZOFFSETFROM:+0100
TZOFFSETTO:+0200
TZNAME:Europe/Paris CEST
END:DAYLIGHT
BEGIN:DAYLIGHT
DTSTART:20170326T030000
RDATE:20171029T020000
TZOFFSETFROM:+0100
TZOFFSETTO:+0200
TZNAME:Europe/Paris CEST
END:DAYLIGHT
BEGIN:DAYLIGHT
DTSTART:20180325T030000
RDATE:20181028T020000
TZOFFSETFROM:+0100
TZOFFSETTO:+0200
TZNAME:Europe/Paris CEST
END:DAYLIGHT
BEGIN:DAYLIGHT
DTSTART:20190331T030000
RDATE:20191027T020000
TZOFFSETFROM:+0100
TZOFFSETTO:+0200
TZNAME:Europe/Paris CEST
END:DAYLIGHT
BEGIN:DAYLIGHT
DTSTART:20200329T030000
RDATE:20201025T020000
TZOFFSETFROM:+0100
TZOFFSETTO:+0200
TZNAME:Europe/Paris CEST
END:DAYLIGHT
BEGIN:DAYLIGHT
DTSTART:20210328T030000
RDATE:20211031T020000
TZOFFSETFROM:+0100
TZOFFSETTO:+0200
TZNAME:Europe/Paris CEST
END:DAYLIGHT
BEGIN:DAYLIGHT
DTSTART:20220327T030000
RDATE:20221030T020000
TZOFFSETFROM:+0100
TZOFFSETTO:+0200
TZNAME:Europe/Paris CEST
END:DAYLIGHT
BEGIN:DAYLIGHT
DTSTART:20230326T030000
RDATE:20231029T020000
TZOFFSETFROM:+0100
TZOFFSETTO:+0200
TZNAME:Europe/Paris CEST
END:DAYLIGHT
BEGIN:DAYLIGHT
DTSTART:20240331T030000
RDATE:20241027T020000
TZOFFSETFROM:+0100
TZOFFSETTO:+0200
TZNAME:Europe/Paris CEST
END:DAYLIGHT
BEGIN:DAYLIGHT
DTSTART:20250330T030000
RDATE:20251026T020000
TZOFFSETFROM:+0100
TZOFFSETTO:+0200
TZNAME:Europe/Paris CEST
END:DAYLIGHT
BEGIN:DAYLIGHT
DTSTART:20260329T030000
RDATE:20261025T020000
TZOFFSETFROM:+0100
TZOFFSETTO:+0200
TZNAME:Europe/Paris CEST
END:DAYLIGHT
END:VTIMEZONE
BEGIN:VEVENT
UID:72f93c696ab895846cd5a8804c3dcd50
CATEGORIES:Circuit Lorraine Adultes (alpin)
CREATED:20141127T000322
SUMMARY:CLA  U16 à Masters      Prix de la Ville de Gérardmer **REPORTE**
URL;VALUE=URI:https://skivosges.net/agenda/a-venir/detailevenement/266/-/cla-u16-a-master
 s-prix-de-la-ville-de-gerardmer-reporte?tmpl=component
DESCRIPTION:CLA  U16 à Masters      Prix de la Ville de Gérardmer (Epreuve reportée) \n
 (Coupe de Lorraine Adultes)\n\nLieu : GERARDMER\nOrganisateur : GERARDMER S
 KI ALPIN (14089 GERARDMER SKI ALPIN)\nEmail : RegularLabs.EmailProtector.un
 Cloak("ep_5ab4f942");\nTelecopie : 03 29 60 98 04\nTelecopie : 03 29 60 98 
 04\n - AMVF0041  Slalom (Courses FFS) U16 a Masters Dames\n  CLA  U16 à Mas
 ters      Prix de la Ville de Gérardmer\n - AMVM0041  Slalom (Courses FFS) 
 U16 a Masters Hommes\n  CLA  U16 à Masters      Prix de la Ville de Gérardm
 er Cet évènement a été importé depuis :https://skivosges.net/agenda/a-venir
 /detailevenement/266/-/cla-u16-a-masters-prix-de-la-ville-de-gerardmer-repo
 rte?tmpl=component
X-ALT-DESC;FMTTYPE=text/html:<strong>CLA  U16 à Masters      Prix de la Ville de Gérardmer</strong> <fon
 t class="attention4">(Epreuve reportée)</font> <br /><i>(Coupe de Lorraine 
 Adultes)</i><br /><br />Lieu : GERARDMER<br />Organisateur : GERARDMER SKI 
 ALPIN <small>(14089 GERARDMER SKI ALPIN)</small><br />Email : <!-- Cette ad
 resse électronique est protégée contre les robots spammeurs. --><span class
 ="cloaked_email ep_5ab4f942"><span data-ep-a="&#103;&#101;r&#97;r" data-ep-
 b="&#101;&#46;&#102;&#114;"><span data-ep-b="o&#114;&#97;ng" data-ep-a="dm&
 #101;&#114;&#45;"><span data-ep-a="&#115;&#107;&#105;&#45;&#97;" data-ep-b=
 "l&#112;in&#64;"></span></span></span></span><script>RegularLabs.EmailProte
 ctor.unCloak("ep_5ab4f942");</script><br />Telecopie : 03 29 60 98 04<br />
 Telecopie : 03 29 60 98 04<ul type="disc"><li>AMVF0041  Slalom <nobr><i>(Co
 urses FFS)</i></nobr> <nobr>U16 a Masters</nobr> Dames<br />&nbsp;&nbsp;CLA
   U16 à Masters      Prix de la Ville de Gérardmer</li><li>AMVM0041  Slalom
  <nobr><i>(Courses FFS)</i></nobr> <nobr>U16 a Masters</nobr> Hommes<br />&
 nbsp;&nbsp;CLA  U16 à Masters      Prix de la Ville de Gérardmer</li></ul> 
 <a href="https://skivosges.net/agenda/a-venir/detailevenement/266/-/cla-u16
 -a-masters-prix-de-la-ville-de-gerardmer-reporte?tmpl=component">Cet évènem
 ent a été importé depuis :https://skivosges.net/agenda/a-venir/detailevenem
 ent/266/-/cla-u16-a-masters-prix-de-la-ville-de-gerardmer-reporte?tmpl=comp
 onent</a>DTSTAMP:20260424T083656
DTSTART;TZID=Europe/Paris:20141220T080000
DTEND;TZID=Europe/Paris:20141220T170000
SEQUENCE:0
TRANSP:OPAQUE
END:VEVENT
END:VCALENDAR