BEGIN:VCALENDAR
VERSION:2.0
PRODID:-//jEvents 2.0 for Joomla//EN
CALSCALE:GREGORIAN
METHOD:PUBLISH
BEGIN:VTIMEZONE
TZID:Europe/Paris
BEGIN:STANDARD
DTSTART:20140110T080000
RDATE:20140330T030000
TZOFFSETFROM:+0200
TZOFFSETTO:+0100
TZNAME:Europe/Paris CET
END:STANDARD
BEGIN:STANDARD
DTSTART:20141026T020000
RDATE:20150329T030000
TZOFFSETFROM:+0200
TZOFFSETTO:+0100
TZNAME:Europe/Paris CET
END:STANDARD
BEGIN:STANDARD
DTSTART:20151025T020000
RDATE:20160327T030000
TZOFFSETFROM:+0200
TZOFFSETTO:+0100
TZNAME:Europe/Paris CET
END:STANDARD
BEGIN:STANDARD
DTSTART:20161030T020000
RDATE:20170326T030000
TZOFFSETFROM:+0200
TZOFFSETTO:+0100
TZNAME:Europe/Paris CET
END:STANDARD
BEGIN:STANDARD
DTSTART:20171029T020000
RDATE:20180325T030000
TZOFFSETFROM:+0200
TZOFFSETTO:+0100
TZNAME:Europe/Paris CET
END:STANDARD
BEGIN:STANDARD
DTSTART:20181028T020000
RDATE:20190331T030000
TZOFFSETFROM:+0200
TZOFFSETTO:+0100
TZNAME:Europe/Paris CET
END:STANDARD
BEGIN:STANDARD
DTSTART:20191027T020000
RDATE:20200329T030000
TZOFFSETFROM:+0200
TZOFFSETTO:+0100
TZNAME:Europe/Paris CET
END:STANDARD
BEGIN:STANDARD
DTSTART:20201025T020000
RDATE:20210328T030000
TZOFFSETFROM:+0200
TZOFFSETTO:+0100
TZNAME:Europe/Paris CET
END:STANDARD
BEGIN:STANDARD
DTSTART:20211031T020000
RDATE:20220327T030000
TZOFFSETFROM:+0200
TZOFFSETTO:+0100
TZNAME:Europe/Paris CET
END:STANDARD
BEGIN:STANDARD
DTSTART:20221030T020000
RDATE:20230326T030000
TZOFFSETFROM:+0200
TZOFFSETTO:+0100
TZNAME:Europe/Paris CET
END:STANDARD
BEGIN:STANDARD
DTSTART:20231029T020000
RDATE:20240331T030000
TZOFFSETFROM:+0200
TZOFFSETTO:+0100
TZNAME:Europe/Paris CET
END:STANDARD
BEGIN:STANDARD
DTSTART:20241027T020000
RDATE:20250330T030000
TZOFFSETFROM:+0200
TZOFFSETTO:+0100
TZNAME:Europe/Paris CET
END:STANDARD
BEGIN:STANDARD
DTSTART:20251026T020000
RDATE:20260329T030000
TZOFFSETFROM:+0200
TZOFFSETTO:+0100
TZNAME:Europe/Paris CET
END:STANDARD
BEGIN:STANDARD
DTSTART:20261025T020000
RDATE:20270328T030000
TZOFFSETFROM:+0200
TZOFFSETTO:+0100
TZNAME:Europe/Paris CET
END:STANDARD
BEGIN:DAYLIGHT
DTSTART:20140330T030000
RDATE:20141026T020000
TZOFFSETFROM:+0100
TZOFFSETTO:+0200
TZNAME:Europe/Paris CEST
END:DAYLIGHT
BEGIN:DAYLIGHT
DTSTART:20150329T030000
RDATE:20151025T020000
TZOFFSETFROM:+0100
TZOFFSETTO:+0200
TZNAME:Europe/Paris CEST
END:DAYLIGHT
BEGIN:DAYLIGHT
DTSTART:20160327T030000
RDATE:20161030T020000
TZOFFSETFROM:+0100
TZOFFSETTO:+0200
TZNAME:Europe/Paris CEST
END:DAYLIGHT
BEGIN:DAYLIGHT
DTSTART:20170326T030000
RDATE:20171029T020000
TZOFFSETFROM:+0100
TZOFFSETTO:+0200
TZNAME:Europe/Paris CEST
END:DAYLIGHT
BEGIN:DAYLIGHT
DTSTART:20180325T030000
RDATE:20181028T020000
TZOFFSETFROM:+0100
TZOFFSETTO:+0200
TZNAME:Europe/Paris CEST
END:DAYLIGHT
BEGIN:DAYLIGHT
DTSTART:20190331T030000
RDATE:20191027T020000
TZOFFSETFROM:+0100
TZOFFSETTO:+0200
TZNAME:Europe/Paris CEST
END:DAYLIGHT
BEGIN:DAYLIGHT
DTSTART:20200329T030000
RDATE:20201025T020000
TZOFFSETFROM:+0100
TZOFFSETTO:+0200
TZNAME:Europe/Paris CEST
END:DAYLIGHT
BEGIN:DAYLIGHT
DTSTART:20210328T030000
RDATE:20211031T020000
TZOFFSETFROM:+0100
TZOFFSETTO:+0200
TZNAME:Europe/Paris CEST
END:DAYLIGHT
BEGIN:DAYLIGHT
DTSTART:20220327T030000
RDATE:20221030T020000
TZOFFSETFROM:+0100
TZOFFSETTO:+0200
TZNAME:Europe/Paris CEST
END:DAYLIGHT
BEGIN:DAYLIGHT
DTSTART:20230326T030000
RDATE:20231029T020000
TZOFFSETFROM:+0100
TZOFFSETTO:+0200
TZNAME:Europe/Paris CEST
END:DAYLIGHT
BEGIN:DAYLIGHT
DTSTART:20240331T030000
RDATE:20241027T020000
TZOFFSETFROM:+0100
TZOFFSETTO:+0200
TZNAME:Europe/Paris CEST
END:DAYLIGHT
BEGIN:DAYLIGHT
DTSTART:20250330T030000
RDATE:20251026T020000
TZOFFSETFROM:+0100
TZOFFSETTO:+0200
TZNAME:Europe/Paris CEST
END:DAYLIGHT
BEGIN:DAYLIGHT
DTSTART:20260329T030000
RDATE:20261025T020000
TZOFFSETFROM:+0100
TZOFFSETTO:+0200
TZNAME:Europe/Paris CEST
END:DAYLIGHT
END:VTIMEZONE
BEGIN:VEVENT
UID:1f42dac1e7f79d9b650f50955a29a171
CATEGORIES:Compétition Saut
CREATED:20141127T000322
SUMMARY:VENTRON Frère Joseph Jeux du Saut Crédit Mutuel
URL;VALUE=URI:https://skivosges.net/agenda/a-venir/detailevenement/282/-/ventron-frere-jo
 seph-jeux-du-saut-credit-mutuel?tmpl=component
DESCRIPTION:VENTRON Frère Joseph Jeux du Saut Crédit Mutuel\n\nLieu : FRERE JOSEPH\nOrg
 anisateur : U.S VENTRON (14083 U.S VENTRON)\n - TMVF0031 épreuve U11 (Pouss
 in) Filles\n  VENTRON Frère Joseph Jeux du Saut Crédit Mutuel\n - TMVF0032 
 épreuve U13 (Benjamin) Filles\n  VENTRON Frère Joseph Jeux du Saut Crédit M
 utuel\n - TMVF0033 épreuve U15 (Minime) Filles\n  VENTRON Frère Joseph Jeux
  du Saut Crédit Mutuel\n - TMVM0031 épreuve U11 (Poussin) Garçons\n  VENTRO
 N Frère Joseph Jeux du Saut Crédit Mutuel\n - TMVM0032 épreuve U13 (Benjami
 n) Garçons\n  VENTRON Frère Joseph Jeux du Saut Crédit Mutuel\n - TMVM0033 
 épreuve U15 (Minime) Garçons\n  VENTRON Frère Joseph Jeux du Saut Crédit Mu
 tuel Cet évènement a été importé depuis :https://skivosges.net/agenda/a-ven
 ir/detailevenement/282/-/ventron-frere-joseph-jeux-du-saut-credit-mutuel?tm
 pl=component (https://skivosges.net/agenda/a-venir/detailevenement/282/-/ve
 ntron-frere-joseph-jeux-du-saut-credit-mutuel?tmpl=component)
X-ALT-DESC;FMTTYPE=text/html:<strong>VENTRON Frère Joseph Jeux du Saut Crédit Mutuel</strong><br /><br /
 >Lieu : FRERE JOSEPH<br />Organisateur : U.S VENTRON <small>(14083 U.S VENT
 RON)</small><ul type="disc"><li>TMVF0031 épreuve <nobr>U11 (Poussin)</nobr>
  Filles<br />&nbsp;&nbsp;VENTRON Frère Joseph Jeux du Saut Crédit Mutuel</l
 i><li>TMVF0032 épreuve <nobr>U13 (Benjamin)</nobr> Filles<br />&nbsp;&nbsp;
 VENTRON Frère Joseph Jeux du Saut Crédit Mutuel</li><li>TMVF0033 épreuve <n
 obr>U15 (Minime)</nobr> Filles<br />&nbsp;&nbsp;VENTRON Frère Joseph Jeux d
 u Saut Crédit Mutuel</li><li>TMVM0031 épreuve <nobr>U11 (Poussin)</nobr> Ga
 rçons<br />&nbsp;&nbsp;VENTRON Frère Joseph Jeux du Saut Crédit Mutuel</li>
 <li>TMVM0032 épreuve <nobr>U13 (Benjamin)</nobr> Garçons<br />&nbsp;&nbsp;V
 ENTRON Frère Joseph Jeux du Saut Crédit Mutuel</li><li>TMVM0033 épreuve <no
 br>U15 (Minime)</nobr> Garçons<br />&nbsp;&nbsp;VENTRON Frère Joseph Jeux d
 u Saut Crédit Mutuel</li></ul> <a href="https://skivosges.net/agenda/a-veni
 r/detailevenement/282/-/ventron-frere-joseph-jeux-du-saut-credit-mutuel?tmp
 l=component">Cet évènement a été importé depuis :https://skivosges.net/agen
 da/a-venir/detailevenement/282/-/ventron-frere-joseph-jeux-du-saut-credit-m
 utuel?tmpl=component</a>DTSTAMP:20260424T073912
DTSTART;TZID=Europe/Paris:20150111T080000
DTEND;TZID=Europe/Paris:20150111T170000
SEQUENCE:0
TRANSP:OPAQUE
END:VEVENT
END:VCALENDAR