BEGIN:VCALENDAR
VERSION:2.0
PRODID:-//jEvents 2.0 for Joomla//EN
CALSCALE:GREGORIAN
METHOD:PUBLISH
BEGIN:VTIMEZONE
TZID:Europe/Paris
BEGIN:STANDARD
DTSTART:20140117T080000
RDATE:20140330T030000
TZOFFSETFROM:+0200
TZOFFSETTO:+0100
TZNAME:Europe/Paris CET
END:STANDARD
BEGIN:STANDARD
DTSTART:20141026T020000
RDATE:20150329T030000
TZOFFSETFROM:+0200
TZOFFSETTO:+0100
TZNAME:Europe/Paris CET
END:STANDARD
BEGIN:STANDARD
DTSTART:20151025T020000
RDATE:20160327T030000
TZOFFSETFROM:+0200
TZOFFSETTO:+0100
TZNAME:Europe/Paris CET
END:STANDARD
BEGIN:STANDARD
DTSTART:20161030T020000
RDATE:20170326T030000
TZOFFSETFROM:+0200
TZOFFSETTO:+0100
TZNAME:Europe/Paris CET
END:STANDARD
BEGIN:STANDARD
DTSTART:20171029T020000
RDATE:20180325T030000
TZOFFSETFROM:+0200
TZOFFSETTO:+0100
TZNAME:Europe/Paris CET
END:STANDARD
BEGIN:STANDARD
DTSTART:20181028T020000
RDATE:20190331T030000
TZOFFSETFROM:+0200
TZOFFSETTO:+0100
TZNAME:Europe/Paris CET
END:STANDARD
BEGIN:STANDARD
DTSTART:20191027T020000
RDATE:20200329T030000
TZOFFSETFROM:+0200
TZOFFSETTO:+0100
TZNAME:Europe/Paris CET
END:STANDARD
BEGIN:STANDARD
DTSTART:20201025T020000
RDATE:20210328T030000
TZOFFSETFROM:+0200
TZOFFSETTO:+0100
TZNAME:Europe/Paris CET
END:STANDARD
BEGIN:STANDARD
DTSTART:20211031T020000
RDATE:20220327T030000
TZOFFSETFROM:+0200
TZOFFSETTO:+0100
TZNAME:Europe/Paris CET
END:STANDARD
BEGIN:STANDARD
DTSTART:20221030T020000
RDATE:20230326T030000
TZOFFSETFROM:+0200
TZOFFSETTO:+0100
TZNAME:Europe/Paris CET
END:STANDARD
BEGIN:STANDARD
DTSTART:20231029T020000
RDATE:20240331T030000
TZOFFSETFROM:+0200
TZOFFSETTO:+0100
TZNAME:Europe/Paris CET
END:STANDARD
BEGIN:STANDARD
DTSTART:20241027T020000
RDATE:20250330T030000
TZOFFSETFROM:+0200
TZOFFSETTO:+0100
TZNAME:Europe/Paris CET
END:STANDARD
BEGIN:STANDARD
DTSTART:20251026T020000
RDATE:20260329T030000
TZOFFSETFROM:+0200
TZOFFSETTO:+0100
TZNAME:Europe/Paris CET
END:STANDARD
BEGIN:STANDARD
DTSTART:20261025T020000
RDATE:20270328T030000
TZOFFSETFROM:+0200
TZOFFSETTO:+0100
TZNAME:Europe/Paris CET
END:STANDARD
BEGIN:DAYLIGHT
DTSTART:20140330T030000
RDATE:20141026T020000
TZOFFSETFROM:+0100
TZOFFSETTO:+0200
TZNAME:Europe/Paris CEST
END:DAYLIGHT
BEGIN:DAYLIGHT
DTSTART:20150329T030000
RDATE:20151025T020000
TZOFFSETFROM:+0100
TZOFFSETTO:+0200
TZNAME:Europe/Paris CEST
END:DAYLIGHT
BEGIN:DAYLIGHT
DTSTART:20160327T030000
RDATE:20161030T020000
TZOFFSETFROM:+0100
TZOFFSETTO:+0200
TZNAME:Europe/Paris CEST
END:DAYLIGHT
BEGIN:DAYLIGHT
DTSTART:20170326T030000
RDATE:20171029T020000
TZOFFSETFROM:+0100
TZOFFSETTO:+0200
TZNAME:Europe/Paris CEST
END:DAYLIGHT
BEGIN:DAYLIGHT
DTSTART:20180325T030000
RDATE:20181028T020000
TZOFFSETFROM:+0100
TZOFFSETTO:+0200
TZNAME:Europe/Paris CEST
END:DAYLIGHT
BEGIN:DAYLIGHT
DTSTART:20190331T030000
RDATE:20191027T020000
TZOFFSETFROM:+0100
TZOFFSETTO:+0200
TZNAME:Europe/Paris CEST
END:DAYLIGHT
BEGIN:DAYLIGHT
DTSTART:20200329T030000
RDATE:20201025T020000
TZOFFSETFROM:+0100
TZOFFSETTO:+0200
TZNAME:Europe/Paris CEST
END:DAYLIGHT
BEGIN:DAYLIGHT
DTSTART:20210328T030000
RDATE:20211031T020000
TZOFFSETFROM:+0100
TZOFFSETTO:+0200
TZNAME:Europe/Paris CEST
END:DAYLIGHT
BEGIN:DAYLIGHT
DTSTART:20220327T030000
RDATE:20221030T020000
TZOFFSETFROM:+0100
TZOFFSETTO:+0200
TZNAME:Europe/Paris CEST
END:DAYLIGHT
BEGIN:DAYLIGHT
DTSTART:20230326T030000
RDATE:20231029T020000
TZOFFSETFROM:+0100
TZOFFSETTO:+0200
TZNAME:Europe/Paris CEST
END:DAYLIGHT
BEGIN:DAYLIGHT
DTSTART:20240331T030000
RDATE:20241027T020000
TZOFFSETFROM:+0100
TZOFFSETTO:+0200
TZNAME:Europe/Paris CEST
END:DAYLIGHT
BEGIN:DAYLIGHT
DTSTART:20250330T030000
RDATE:20251026T020000
TZOFFSETFROM:+0100
TZOFFSETTO:+0200
TZNAME:Europe/Paris CEST
END:DAYLIGHT
BEGIN:DAYLIGHT
DTSTART:20260329T030000
RDATE:20261025T020000
TZOFFSETFROM:+0100
TZOFFSETTO:+0200
TZNAME:Europe/Paris CEST
END:DAYLIGHT
END:VTIMEZONE
BEGIN:VEVENT
UID:7e0467ba2d4310c0815c382d3ba3f915
CATEGORIES:Circuit Alsace Adultes (alpin)
CREATED:20141127T000322
SUMMARY:CAA  U16 à Masters     Prix du Stade de Slalom S. Lang / Chp d´Alsace **REPORTE**
URL;VALUE=URI:https://skivosges.net/agenda/a-venir/detailevenement/293/-/caa-u16-a-master
 s-prix-du-stade-de-slalom-s-lang-chp-dalsace-reporte?tmpl=component
DESCRIPTION:CAA  U16 à Masters     Prix du Stade de Slalom S. Lang / Chp d´Alsace (Epre
 uve reportée, date à determiner) \n(Coupe d'Alsace Adultes)\n\nLieu : MARKS
 TEIN\nPiste : STADE SERGE LANG\nOrganisateur : S.C VALLEE DE WESSERLING (14
 186 S.C VALLEE DE WESSERLING)\nEmail : RegularLabs.EmailProtector.unCloak("
 ep_27b2e6d8");\n\nConfirmation du maintien de la course samedi 14H00\n\nIns
 criptions en cours sur ce site\n - AMVF0231  Slalom (Courses FFS) U16 a Mas
 ters Dames\n  CAA  U16 à Masters     Prix du Stade de Slalom S. Lang / Chp 
 d'Alsace\n - AMVM0231  Slalom (Courses FFS) U16 a Masters Hommes\n  CAA  U1
 6 à Masters     Prix du Stade de Slalom S. Lang / Chp d'Alsace Cet évènemen
 t a été importé depuis :https://skivosges.net/agenda/a-venir/detailevenemen
 t/293/-/caa-u16-a-masters-prix-du-stade-de-slalom-s-lang-chp-dalsace-report
 e?tmpl=component
X-ALT-DESC;FMTTYPE=text/html:<strong>CAA  U16 à Masters     Prix du Stade de Slalom S. Lang / Chp d´Alsa
 ce</strong> <font class="attention4">(Epreuve reportée, date à determiner)<
 /font> <br /><i>(Coupe d'Alsace Adultes)</i><br /><br />Lieu : MARKSTEIN<br
  />Piste : STADE SERGE LANG<br />Organisateur : S.C VALLEE DE WESSERLING <s
 mall>(14186 S.C VALLEE DE WESSERLING)</small><br />Email : <!-- Cette adres
 se électronique est protégée contre les robots spammeurs. --><span class="c
 loaked_email ep_27b2e6d8"><span data-ep-a="sc&#118;&#119;" data-ep-b="m"><s
 pan data-ep-b="&#108;.&#99;o" data-ep-a="&#101;&#115;s&#101;"><span data-ep
 -a="rl&#105;&#110;" data-ep-b="&#103;&#64;&#97;&#111;"></span></span></span
 ></span><script>RegularLabs.EmailProtector.unCloak("ep_27b2e6d8");</script>
 <br /><br />Confirmation du maintien de la course samedi 14H00<br /><br />I
 nscriptions en cours sur ce site<ul type="disc"><li>AMVF0231  Slalom <nobr>
 <i>(Courses FFS)</i></nobr> <nobr>U16 a Masters</nobr> Dames<br />&nbsp;&nb
 sp;CAA  U16 à Masters     Prix du Stade de Slalom S. Lang / Chp d'Alsace</l
 i><li>AMVM0231  Slalom <nobr><i>(Courses FFS)</i></nobr> <nobr>U16 a Master
 s</nobr> Hommes<br />&nbsp;&nbsp;CAA  U16 à Masters     Prix du Stade de Sl
 alom S. Lang / Chp d'Alsace</li></ul> <a href="https://skivosges.net/agenda
 /a-venir/detailevenement/293/-/caa-u16-a-masters-prix-du-stade-de-slalom-s-
 lang-chp-dalsace-reporte?tmpl=component">Cet évènement a été importé depuis
  :https://skivosges.net/agenda/a-venir/detailevenement/293/-/caa-u16-a-mast
 ers-prix-du-stade-de-slalom-s-lang-chp-dalsace-reporte?tmpl=component</a>DTSTAMP:20260424T083702
DTSTART;TZID=Europe/Paris:20150118T080000
DTEND;TZID=Europe/Paris:20150118T170000
SEQUENCE:0
TRANSP:OPAQUE
END:VEVENT
END:VCALENDAR