BEGIN:VCALENDAR
VERSION:2.0
PRODID:-//jEvents 2.0 for Joomla//EN
CALSCALE:GREGORIAN
METHOD:PUBLISH
BEGIN:VTIMEZONE
TZID:Europe/Paris
BEGIN:STANDARD
DTSTART:20140207T080000
RDATE:20140330T030000
TZOFFSETFROM:+0200
TZOFFSETTO:+0100
TZNAME:Europe/Paris CET
END:STANDARD
BEGIN:STANDARD
DTSTART:20141026T020000
RDATE:20150329T030000
TZOFFSETFROM:+0200
TZOFFSETTO:+0100
TZNAME:Europe/Paris CET
END:STANDARD
BEGIN:STANDARD
DTSTART:20151025T020000
RDATE:20160327T030000
TZOFFSETFROM:+0200
TZOFFSETTO:+0100
TZNAME:Europe/Paris CET
END:STANDARD
BEGIN:STANDARD
DTSTART:20161030T020000
RDATE:20170326T030000
TZOFFSETFROM:+0200
TZOFFSETTO:+0100
TZNAME:Europe/Paris CET
END:STANDARD
BEGIN:STANDARD
DTSTART:20171029T020000
RDATE:20180325T030000
TZOFFSETFROM:+0200
TZOFFSETTO:+0100
TZNAME:Europe/Paris CET
END:STANDARD
BEGIN:STANDARD
DTSTART:20181028T020000
RDATE:20190331T030000
TZOFFSETFROM:+0200
TZOFFSETTO:+0100
TZNAME:Europe/Paris CET
END:STANDARD
BEGIN:STANDARD
DTSTART:20191027T020000
RDATE:20200329T030000
TZOFFSETFROM:+0200
TZOFFSETTO:+0100
TZNAME:Europe/Paris CET
END:STANDARD
BEGIN:STANDARD
DTSTART:20201025T020000
RDATE:20210328T030000
TZOFFSETFROM:+0200
TZOFFSETTO:+0100
TZNAME:Europe/Paris CET
END:STANDARD
BEGIN:STANDARD
DTSTART:20211031T020000
RDATE:20220327T030000
TZOFFSETFROM:+0200
TZOFFSETTO:+0100
TZNAME:Europe/Paris CET
END:STANDARD
BEGIN:STANDARD
DTSTART:20221030T020000
RDATE:20230326T030000
TZOFFSETFROM:+0200
TZOFFSETTO:+0100
TZNAME:Europe/Paris CET
END:STANDARD
BEGIN:STANDARD
DTSTART:20231029T020000
RDATE:20240331T030000
TZOFFSETFROM:+0200
TZOFFSETTO:+0100
TZNAME:Europe/Paris CET
END:STANDARD
BEGIN:STANDARD
DTSTART:20241027T020000
RDATE:20250330T030000
TZOFFSETFROM:+0200
TZOFFSETTO:+0100
TZNAME:Europe/Paris CET
END:STANDARD
BEGIN:STANDARD
DTSTART:20251026T020000
RDATE:20260329T030000
TZOFFSETFROM:+0200
TZOFFSETTO:+0100
TZNAME:Europe/Paris CET
END:STANDARD
BEGIN:STANDARD
DTSTART:20261025T020000
RDATE:20270328T030000
TZOFFSETFROM:+0200
TZOFFSETTO:+0100
TZNAME:Europe/Paris CET
END:STANDARD
BEGIN:DAYLIGHT
DTSTART:20140330T030000
RDATE:20141026T020000
TZOFFSETFROM:+0100
TZOFFSETTO:+0200
TZNAME:Europe/Paris CEST
END:DAYLIGHT
BEGIN:DAYLIGHT
DTSTART:20150329T030000
RDATE:20151025T020000
TZOFFSETFROM:+0100
TZOFFSETTO:+0200
TZNAME:Europe/Paris CEST
END:DAYLIGHT
BEGIN:DAYLIGHT
DTSTART:20160327T030000
RDATE:20161030T020000
TZOFFSETFROM:+0100
TZOFFSETTO:+0200
TZNAME:Europe/Paris CEST
END:DAYLIGHT
BEGIN:DAYLIGHT
DTSTART:20170326T030000
RDATE:20171029T020000
TZOFFSETFROM:+0100
TZOFFSETTO:+0200
TZNAME:Europe/Paris CEST
END:DAYLIGHT
BEGIN:DAYLIGHT
DTSTART:20180325T030000
RDATE:20181028T020000
TZOFFSETFROM:+0100
TZOFFSETTO:+0200
TZNAME:Europe/Paris CEST
END:DAYLIGHT
BEGIN:DAYLIGHT
DTSTART:20190331T030000
RDATE:20191027T020000
TZOFFSETFROM:+0100
TZOFFSETTO:+0200
TZNAME:Europe/Paris CEST
END:DAYLIGHT
BEGIN:DAYLIGHT
DTSTART:20200329T030000
RDATE:20201025T020000
TZOFFSETFROM:+0100
TZOFFSETTO:+0200
TZNAME:Europe/Paris CEST
END:DAYLIGHT
BEGIN:DAYLIGHT
DTSTART:20210328T030000
RDATE:20211031T020000
TZOFFSETFROM:+0100
TZOFFSETTO:+0200
TZNAME:Europe/Paris CEST
END:DAYLIGHT
BEGIN:DAYLIGHT
DTSTART:20220327T030000
RDATE:20221030T020000
TZOFFSETFROM:+0100
TZOFFSETTO:+0200
TZNAME:Europe/Paris CEST
END:DAYLIGHT
BEGIN:DAYLIGHT
DTSTART:20230326T030000
RDATE:20231029T020000
TZOFFSETFROM:+0100
TZOFFSETTO:+0200
TZNAME:Europe/Paris CEST
END:DAYLIGHT
BEGIN:DAYLIGHT
DTSTART:20240331T030000
RDATE:20241027T020000
TZOFFSETFROM:+0100
TZOFFSETTO:+0200
TZNAME:Europe/Paris CEST
END:DAYLIGHT
BEGIN:DAYLIGHT
DTSTART:20250330T030000
RDATE:20251026T020000
TZOFFSETFROM:+0100
TZOFFSETTO:+0200
TZNAME:Europe/Paris CEST
END:DAYLIGHT
BEGIN:DAYLIGHT
DTSTART:20260329T030000
RDATE:20261025T020000
TZOFFSETFROM:+0100
TZOFFSETTO:+0200
TZNAME:Europe/Paris CEST
END:DAYLIGHT
END:VTIMEZONE
BEGIN:VEVENT
UID:5d17e63af0a43dddaea5b9d7e26f41a8
CATEGORIES:Circuit Massif Adultes (alpin)
CREATED:20141127T000322
SUMMARY:GPA     GP Domaine WeltyJean Michel / Qualif CFFS
URL;VALUE=URI:https://skivosges.net/agenda/a-venir/detailevenement/325/-/gpa-gp-domaine-w
 eltyjean-michel-qualif-cffs?tmpl=component
DESCRIPTION:GPA     GP Domaine WeltyJean Michel / Qualif CFFS \n(Grand Prix Adultes)\n\
 nLieu : MARKSTEIN\nOrganisateur : S.C VALLEE DE WESSERLING (14186 S.C VALLE
 E DE WESSERLING)\nEmail : RegularLabs.EmailProtector.unCloak("ep_0ca51a07")
 ;\nTelecopie : 03 89 82 78 08\nTelecopie : 03 89 82 78 08\n\nInscriptions e
 n cours sur ce site\n - AMVF0491  Slalom (Coupe de la Federation) U16 a Mas
 ters Dames\n  GPA     GP Domaine WeltyJean Michel / Qualif CFFS\n - AMVM049
 1  Slalom (Coupe de la Federation) U16 a Masters Hommes\n  GPA     GP Domai
 ne WeltyJean Michel / Qualif CFFS Cet évènement a été importé depuis :https
 ://skivosges.net/agenda/a-venir/detailevenement/325/-/gpa-gp-domaine-weltyj
 ean-michel-qualif-cffs?tmpl=component (https://skivosges.net/agenda/a-venir
 /detailevenement/325/-/gpa-gp-domaine-weltyjean-michel-qualif-cffs?tmpl=com
 ponent)
X-ALT-DESC;FMTTYPE=text/html:<strong>GPA     GP Domaine WeltyJean Michel / Qualif CFFS</strong> <br /><i
 >(Grand Prix Adultes)</i><br /><br />Lieu : MARKSTEIN<br />Organisateur : S
 .C VALLEE DE WESSERLING <small>(14186 S.C VALLEE DE WESSERLING)</small><br 
 />Email : <!-- Cette adresse électronique est protégée contre les robots sp
 ammeurs. --><span class="cloaked_email ep_0ca51a07"><span data-ep-a="&#115;
 cvw" data-ep-b="&#109;"><span data-ep-b="l.&#99;o" data-ep-a="ess&#101;"><s
 pan data-ep-a="&#114;&#108;&#105;n" data-ep-b="g&#64;ao"></span></span></sp
 an></span><script>RegularLabs.EmailProtector.unCloak("ep_0ca51a07");</scrip
 t><br />Telecopie : 03 89 82 78 08<br />Telecopie : 03 89 82 78 08<br /><br
  />Inscriptions en cours sur ce site<ul type="disc"><li>AMVF0491  Slalom <n
 obr><i>(Coupe de la Federation)</i></nobr> <nobr>U16 a Masters</nobr> Dames
 <br />&nbsp;&nbsp;GPA     GP Domaine WeltyJean Michel / Qualif CFFS</li><li
 >AMVM0491  Slalom <nobr><i>(Coupe de la Federation)</i></nobr> <nobr>U16 a 
 Masters</nobr> Hommes<br />&nbsp;&nbsp;GPA     GP Domaine WeltyJean Michel 
 / Qualif CFFS</li></ul> <a href="https://skivosges.net/agenda/a-venir/detai
 levenement/325/-/gpa-gp-domaine-weltyjean-michel-qualif-cffs?tmpl=component
 ">Cet évènement a été importé depuis :https://skivosges.net/agenda/a-venir/
 detailevenement/325/-/gpa-gp-domaine-weltyjean-michel-qualif-cffs?tmpl=comp
 onent</a>DTSTAMP:20260424T030412
DTSTART;TZID=Europe/Paris:20150208T080000
DTEND;TZID=Europe/Paris:20150208T170000
SEQUENCE:0
TRANSP:OPAQUE
END:VEVENT
END:VCALENDAR