BEGIN:VCALENDAR
VERSION:2.0
PRODID:-//jEvents 2.0 for Joomla//EN
CALSCALE:GREGORIAN
METHOD:PUBLISH
BEGIN:VTIMEZONE
TZID:Europe/Paris
BEGIN:STANDARD
DTSTART:20140207T080000
RDATE:20140330T030000
TZOFFSETFROM:+0200
TZOFFSETTO:+0100
TZNAME:Europe/Paris CET
END:STANDARD
BEGIN:STANDARD
DTSTART:20141026T020000
RDATE:20150329T030000
TZOFFSETFROM:+0200
TZOFFSETTO:+0100
TZNAME:Europe/Paris CET
END:STANDARD
BEGIN:STANDARD
DTSTART:20151025T020000
RDATE:20160327T030000
TZOFFSETFROM:+0200
TZOFFSETTO:+0100
TZNAME:Europe/Paris CET
END:STANDARD
BEGIN:STANDARD
DTSTART:20161030T020000
RDATE:20170326T030000
TZOFFSETFROM:+0200
TZOFFSETTO:+0100
TZNAME:Europe/Paris CET
END:STANDARD
BEGIN:STANDARD
DTSTART:20171029T020000
RDATE:20180325T030000
TZOFFSETFROM:+0200
TZOFFSETTO:+0100
TZNAME:Europe/Paris CET
END:STANDARD
BEGIN:STANDARD
DTSTART:20181028T020000
RDATE:20190331T030000
TZOFFSETFROM:+0200
TZOFFSETTO:+0100
TZNAME:Europe/Paris CET
END:STANDARD
BEGIN:STANDARD
DTSTART:20191027T020000
RDATE:20200329T030000
TZOFFSETFROM:+0200
TZOFFSETTO:+0100
TZNAME:Europe/Paris CET
END:STANDARD
BEGIN:STANDARD
DTSTART:20201025T020000
RDATE:20210328T030000
TZOFFSETFROM:+0200
TZOFFSETTO:+0100
TZNAME:Europe/Paris CET
END:STANDARD
BEGIN:STANDARD
DTSTART:20211031T020000
RDATE:20220327T030000
TZOFFSETFROM:+0200
TZOFFSETTO:+0100
TZNAME:Europe/Paris CET
END:STANDARD
BEGIN:STANDARD
DTSTART:20221030T020000
RDATE:20230326T030000
TZOFFSETFROM:+0200
TZOFFSETTO:+0100
TZNAME:Europe/Paris CET
END:STANDARD
BEGIN:STANDARD
DTSTART:20231029T020000
RDATE:20240331T030000
TZOFFSETFROM:+0200
TZOFFSETTO:+0100
TZNAME:Europe/Paris CET
END:STANDARD
BEGIN:STANDARD
DTSTART:20241027T020000
RDATE:20250330T030000
TZOFFSETFROM:+0200
TZOFFSETTO:+0100
TZNAME:Europe/Paris CET
END:STANDARD
BEGIN:STANDARD
DTSTART:20251026T020000
RDATE:20260329T030000
TZOFFSETFROM:+0200
TZOFFSETTO:+0100
TZNAME:Europe/Paris CET
END:STANDARD
BEGIN:STANDARD
DTSTART:20261025T020000
RDATE:20270328T030000
TZOFFSETFROM:+0200
TZOFFSETTO:+0100
TZNAME:Europe/Paris CET
END:STANDARD
BEGIN:DAYLIGHT
DTSTART:20140330T030000
RDATE:20141026T020000
TZOFFSETFROM:+0100
TZOFFSETTO:+0200
TZNAME:Europe/Paris CEST
END:DAYLIGHT
BEGIN:DAYLIGHT
DTSTART:20150329T030000
RDATE:20151025T020000
TZOFFSETFROM:+0100
TZOFFSETTO:+0200
TZNAME:Europe/Paris CEST
END:DAYLIGHT
BEGIN:DAYLIGHT
DTSTART:20160327T030000
RDATE:20161030T020000
TZOFFSETFROM:+0100
TZOFFSETTO:+0200
TZNAME:Europe/Paris CEST
END:DAYLIGHT
BEGIN:DAYLIGHT
DTSTART:20170326T030000
RDATE:20171029T020000
TZOFFSETFROM:+0100
TZOFFSETTO:+0200
TZNAME:Europe/Paris CEST
END:DAYLIGHT
BEGIN:DAYLIGHT
DTSTART:20180325T030000
RDATE:20181028T020000
TZOFFSETFROM:+0100
TZOFFSETTO:+0200
TZNAME:Europe/Paris CEST
END:DAYLIGHT
BEGIN:DAYLIGHT
DTSTART:20190331T030000
RDATE:20191027T020000
TZOFFSETFROM:+0100
TZOFFSETTO:+0200
TZNAME:Europe/Paris CEST
END:DAYLIGHT
BEGIN:DAYLIGHT
DTSTART:20200329T030000
RDATE:20201025T020000
TZOFFSETFROM:+0100
TZOFFSETTO:+0200
TZNAME:Europe/Paris CEST
END:DAYLIGHT
BEGIN:DAYLIGHT
DTSTART:20210328T030000
RDATE:20211031T020000
TZOFFSETFROM:+0100
TZOFFSETTO:+0200
TZNAME:Europe/Paris CEST
END:DAYLIGHT
BEGIN:DAYLIGHT
DTSTART:20220327T030000
RDATE:20221030T020000
TZOFFSETFROM:+0100
TZOFFSETTO:+0200
TZNAME:Europe/Paris CEST
END:DAYLIGHT
BEGIN:DAYLIGHT
DTSTART:20230326T030000
RDATE:20231029T020000
TZOFFSETFROM:+0100
TZOFFSETTO:+0200
TZNAME:Europe/Paris CEST
END:DAYLIGHT
BEGIN:DAYLIGHT
DTSTART:20240331T030000
RDATE:20241027T020000
TZOFFSETFROM:+0100
TZOFFSETTO:+0200
TZNAME:Europe/Paris CEST
END:DAYLIGHT
BEGIN:DAYLIGHT
DTSTART:20250330T030000
RDATE:20251026T020000
TZOFFSETFROM:+0100
TZOFFSETTO:+0200
TZNAME:Europe/Paris CEST
END:DAYLIGHT
BEGIN:DAYLIGHT
DTSTART:20260329T030000
RDATE:20261025T020000
TZOFFSETFROM:+0100
TZOFFSETTO:+0200
TZNAME:Europe/Paris CEST
END:DAYLIGHT
END:VTIMEZONE
BEGIN:VEVENT
UID:8216a6e62e2a406ab400008bb3a44b24
CATEGORIES:Autres Épreuves (alpin)
CREATED:20141127T000322
SUMMARY:CI2A  U16 à Masters     Critérium Régional Corpo
URL;VALUE=URI:https://skivosges.net/agenda/a-venir/detailevenement/326/-/ci2a-u16-a-maste
 rs-criterium-regional-corpo?tmpl=component
DESCRIPTION:CI2A  U16 à Masters     Critérium Régional Corpo\n\nLieu : LAC BLANC\nPiste
  : Stade\nOrganisateur : A.S DES CHEMINOTS STRASBOURG (14071 A.S DES CHEMIN
 OTS STRASBOURG)\nEmail : RegularLabs.EmailProtector.unCloak("ep_940abc56");
 \nTelecopie : 0388977285\nTelecopie : 0388977285\n\nInscriptions closes, ti
 rage des dossards en cours\n - AMVF0481  Slalom Geant U16 a Masters Dames\n
   CI2A  U16 à Masters     Critérium Régional Corpo\n - AMVM0481  Slalom Gea
 nt U16 a Masters Hommes\n  CI2A  U16 à Masters     Critérium Régional Corpo
  Cet évènement a été importé depuis :https://skivosges.net/agenda/a-venir/d
 etailevenement/326/-/ci2a-u16-a-masters-criterium-regional-corpo?tmpl=compo
 nent
X-ALT-DESC;FMTTYPE=text/html:<strong>CI2A  U16 à Masters     Critérium Régional Corpo</strong><br /><br 
 />Lieu : LAC BLANC<br />Piste : Stade<br />Organisateur : A.S DES CHEMINOTS
  STRASBOURG <small>(14071 A.S DES CHEMINOTS STRASBOURG)</small><br />Email 
 : <!-- Cette adresse électronique est protégée contre les robots spammeurs.
  --><span class="cloaked_email ep_940abc56"><span data-ep-a="&#104;&#101;r&
 #118;&#101;" data-ep-b=""><span data-ep-a=".b&#114;&#105;g" data-ep-b="&#10
 1;&#46;n&#101;t"><span data-ep-b="&#97;po&#115;&#116;" data-ep-a="&#110;&#1
 11;&#110;&#64;l"></span></span></span></span><script>RegularLabs.EmailProte
 ctor.unCloak("ep_940abc56");</script><br />Telecopie : 0388977285<br />Tele
 copie : 0388977285<br /><br />Inscriptions closes, tirage des dossards en c
 ours<ul type="disc"><li>AMVF0481  Slalom Geant <nobr>U16 a Masters</nobr> D
 ames<br />&nbsp;&nbsp;CI2A  U16 à Masters     Critérium Régional Corpo</li>
 <li>AMVM0481  Slalom Geant <nobr>U16 a Masters</nobr> Hommes<br />&nbsp;&nb
 sp;CI2A  U16 à Masters     Critérium Régional Corpo</li></ul> <a href="http
 s://skivosges.net/agenda/a-venir/detailevenement/326/-/ci2a-u16-a-masters-c
 riterium-regional-corpo?tmpl=component">Cet évènement a été importé depuis 
 :https://skivosges.net/agenda/a-venir/detailevenement/326/-/ci2a-u16-a-mast
 ers-criterium-regional-corpo?tmpl=component</a>DTSTAMP:20260424T030412
DTSTART;TZID=Europe/Paris:20150208T080000
DTEND;TZID=Europe/Paris:20150208T170000
SEQUENCE:0
TRANSP:OPAQUE
END:VEVENT
END:VCALENDAR