BEGIN:VCALENDAR
VERSION:2.0
PRODID:-//jEvents 2.0 for Joomla//EN
CALSCALE:GREGORIAN
METHOD:PUBLISH
BEGIN:VTIMEZONE
TZID:Europe/Paris
BEGIN:STANDARD
DTSTART:20140221T080000
RDATE:20140330T030000
TZOFFSETFROM:+0200
TZOFFSETTO:+0100
TZNAME:Europe/Paris CET
END:STANDARD
BEGIN:STANDARD
DTSTART:20141026T020000
RDATE:20150329T030000
TZOFFSETFROM:+0200
TZOFFSETTO:+0100
TZNAME:Europe/Paris CET
END:STANDARD
BEGIN:STANDARD
DTSTART:20151025T020000
RDATE:20160327T030000
TZOFFSETFROM:+0200
TZOFFSETTO:+0100
TZNAME:Europe/Paris CET
END:STANDARD
BEGIN:STANDARD
DTSTART:20161030T020000
RDATE:20170326T030000
TZOFFSETFROM:+0200
TZOFFSETTO:+0100
TZNAME:Europe/Paris CET
END:STANDARD
BEGIN:STANDARD
DTSTART:20171029T020000
RDATE:20180325T030000
TZOFFSETFROM:+0200
TZOFFSETTO:+0100
TZNAME:Europe/Paris CET
END:STANDARD
BEGIN:STANDARD
DTSTART:20181028T020000
RDATE:20190331T030000
TZOFFSETFROM:+0200
TZOFFSETTO:+0100
TZNAME:Europe/Paris CET
END:STANDARD
BEGIN:STANDARD
DTSTART:20191027T020000
RDATE:20200329T030000
TZOFFSETFROM:+0200
TZOFFSETTO:+0100
TZNAME:Europe/Paris CET
END:STANDARD
BEGIN:STANDARD
DTSTART:20201025T020000
RDATE:20210328T030000
TZOFFSETFROM:+0200
TZOFFSETTO:+0100
TZNAME:Europe/Paris CET
END:STANDARD
BEGIN:STANDARD
DTSTART:20211031T020000
RDATE:20220327T030000
TZOFFSETFROM:+0200
TZOFFSETTO:+0100
TZNAME:Europe/Paris CET
END:STANDARD
BEGIN:STANDARD
DTSTART:20221030T020000
RDATE:20230326T030000
TZOFFSETFROM:+0200
TZOFFSETTO:+0100
TZNAME:Europe/Paris CET
END:STANDARD
BEGIN:STANDARD
DTSTART:20231029T020000
RDATE:20240331T030000
TZOFFSETFROM:+0200
TZOFFSETTO:+0100
TZNAME:Europe/Paris CET
END:STANDARD
BEGIN:STANDARD
DTSTART:20241027T020000
RDATE:20250330T030000
TZOFFSETFROM:+0200
TZOFFSETTO:+0100
TZNAME:Europe/Paris CET
END:STANDARD
BEGIN:STANDARD
DTSTART:20251026T020000
RDATE:20260329T030000
TZOFFSETFROM:+0200
TZOFFSETTO:+0100
TZNAME:Europe/Paris CET
END:STANDARD
BEGIN:STANDARD
DTSTART:20261025T020000
RDATE:20270328T030000
TZOFFSETFROM:+0200
TZOFFSETTO:+0100
TZNAME:Europe/Paris CET
END:STANDARD
BEGIN:DAYLIGHT
DTSTART:20140330T030000
RDATE:20141026T020000
TZOFFSETFROM:+0100
TZOFFSETTO:+0200
TZNAME:Europe/Paris CEST
END:DAYLIGHT
BEGIN:DAYLIGHT
DTSTART:20150329T030000
RDATE:20151025T020000
TZOFFSETFROM:+0100
TZOFFSETTO:+0200
TZNAME:Europe/Paris CEST
END:DAYLIGHT
BEGIN:DAYLIGHT
DTSTART:20160327T030000
RDATE:20161030T020000
TZOFFSETFROM:+0100
TZOFFSETTO:+0200
TZNAME:Europe/Paris CEST
END:DAYLIGHT
BEGIN:DAYLIGHT
DTSTART:20170326T030000
RDATE:20171029T020000
TZOFFSETFROM:+0100
TZOFFSETTO:+0200
TZNAME:Europe/Paris CEST
END:DAYLIGHT
BEGIN:DAYLIGHT
DTSTART:20180325T030000
RDATE:20181028T020000
TZOFFSETFROM:+0100
TZOFFSETTO:+0200
TZNAME:Europe/Paris CEST
END:DAYLIGHT
BEGIN:DAYLIGHT
DTSTART:20190331T030000
RDATE:20191027T020000
TZOFFSETFROM:+0100
TZOFFSETTO:+0200
TZNAME:Europe/Paris CEST
END:DAYLIGHT
BEGIN:DAYLIGHT
DTSTART:20200329T030000
RDATE:20201025T020000
TZOFFSETFROM:+0100
TZOFFSETTO:+0200
TZNAME:Europe/Paris CEST
END:DAYLIGHT
BEGIN:DAYLIGHT
DTSTART:20210328T030000
RDATE:20211031T020000
TZOFFSETFROM:+0100
TZOFFSETTO:+0200
TZNAME:Europe/Paris CEST
END:DAYLIGHT
BEGIN:DAYLIGHT
DTSTART:20220327T030000
RDATE:20221030T020000
TZOFFSETFROM:+0100
TZOFFSETTO:+0200
TZNAME:Europe/Paris CEST
END:DAYLIGHT
BEGIN:DAYLIGHT
DTSTART:20230326T030000
RDATE:20231029T020000
TZOFFSETFROM:+0100
TZOFFSETTO:+0200
TZNAME:Europe/Paris CEST
END:DAYLIGHT
BEGIN:DAYLIGHT
DTSTART:20240331T030000
RDATE:20241027T020000
TZOFFSETFROM:+0100
TZOFFSETTO:+0200
TZNAME:Europe/Paris CEST
END:DAYLIGHT
BEGIN:DAYLIGHT
DTSTART:20250330T030000
RDATE:20251026T020000
TZOFFSETFROM:+0100
TZOFFSETTO:+0200
TZNAME:Europe/Paris CEST
END:DAYLIGHT
BEGIN:DAYLIGHT
DTSTART:20260329T030000
RDATE:20261025T020000
TZOFFSETFROM:+0100
TZOFFSETTO:+0200
TZNAME:Europe/Paris CEST
END:DAYLIGHT
END:VTIMEZONE
BEGIN:VEVENT
UID:ccd7a359cdab0f419ef24013ac6ed06b
CATEGORIES:Opens et Promos (alpin)
CREATED:20141127T000322
SUMMARY:OPEN  U8etU10-U12etU14     Open de Belmont / Trophée Auberge Hazeman
URL;VALUE=URI:https://skivosges.net/agenda/a-venir/detailevenement/349/-/open-u8etu10-u12
 etu14-open-de-belmont-trophee-auberge-hazeman?tmpl=component
DESCRIPTION:OPEN  U8etU10-U12etU14     Open de Belmont / Trophée Auberge Hazeman\n\nLie
 u : CHAMP DU FEU\nPiste : Stade\nOrganisateur : SKI CLUB BELMONT CHAMP DU F
 EU (14485 SKI CLUB BELMONT CHAMP DU FEU)\nEmail : RegularLabs.EmailProtecto
 r.unCloak("ep_3c78af5e");\n\nDossard à récupérer à l´auberge Hazemann.\n\nI
 nscriptions en cours sur ce site\n - AMVF0561  Slalom Geant U12/U14 Filles\
 n  OPEN  U8etU10-U12etU14     Open de Belmont / Trophée Auberge Hazeman\n -
  AMVM0561  Slalom Geant U12/U14 Garçons\n  OPEN  U8etU10-U12etU14     Open 
 de Belmont / Trophée Auberge Hazeman\n - AMVF0562  Slalom Geant U8/U10 Fill
 es\n  OPEN  U8etU10-U12etU14     Open de Belmont / Trophée Auberge Hazeman\
 n - AMVM0562  Slalom Geant U8/U10 Garçons\n  OPEN  U8etU10-U12etU14     Ope
 n de Belmont / Trophée Auberge Hazeman Cet évènement a été importé depuis :
 https://skivosges.net/agenda/a-venir/detailevenement/349/-/open-u8etu10-u12
 etu14-open-de-belmont-trophee-auberge-hazeman?tmpl=component
X-ALT-DESC;FMTTYPE=text/html:<strong>OPEN  U8etU10-U12etU14     Open de Belmont / Trophée Auberge Hazema
 n</strong><br /><br />Lieu : CHAMP DU FEU<br />Piste : Stade<br />Organisat
 eur : SKI CLUB BELMONT CHAMP DU FEU <small>(14485 SKI CLUB BELMONT CHAMP DU
  FEU)</small><br />Email : <!-- Cette adresse électronique est protégée con
 tre les robots spammeurs. --><span class="cloaked_email ep_3c78af5e"><span 
 data-ep-b="&#46;&#102;&#114;" data-ep-a="h&#97;l"><span data-ep-a="t&#106;&
 #117;" data-ep-b="&#97;&#105;l"><span data-ep-b="o&#116;&#109;" data-ep-a="
 &#108;&#64;h"></span></span></span></span><script>RegularLabs.EmailProtecto
 r.unCloak("ep_3c78af5e");</script><br /><br />Dossard à récupérer à l´auber
 ge Hazemann.<br /><br />Inscriptions en cours sur ce site<ul type="disc"><l
 i>AMVF0561  Slalom Geant <nobr>U12/U14</nobr> Filles<br />&nbsp;&nbsp;OPEN 
  U8etU10-U12etU14     Open de Belmont / Trophée Auberge Hazeman</li><li>AMV
 M0561  Slalom Geant <nobr>U12/U14</nobr> Garçons<br />&nbsp;&nbsp;OPEN  U8e
 tU10-U12etU14     Open de Belmont / Trophée Auberge Hazeman</li><li>AMVF056
 2  Slalom Geant <nobr>U8/U10</nobr> Filles<br />&nbsp;&nbsp;OPEN  U8etU10-U
 12etU14     Open de Belmont / Trophée Auberge Hazeman</li><li>AMVM0562  Sla
 lom Geant <nobr>U8/U10</nobr> Garçons<br />&nbsp;&nbsp;OPEN  U8etU10-U12etU
 14     Open de Belmont / Trophée Auberge Hazeman</li></ul> <a href="https:/
 /skivosges.net/agenda/a-venir/detailevenement/349/-/open-u8etu10-u12etu14-o
 pen-de-belmont-trophee-auberge-hazeman?tmpl=component">Cet évènement a été 
 importé depuis :https://skivosges.net/agenda/a-venir/detailevenement/349/-/
 open-u8etu10-u12etu14-open-de-belmont-trophee-auberge-hazeman?tmpl=componen
 t</a>DTSTAMP:20260424T073922
DTSTART;TZID=Europe/Paris:20150222T080000
DTEND;TZID=Europe/Paris:20150222T170000
SEQUENCE:0
TRANSP:OPAQUE
END:VEVENT
END:VCALENDAR