BEGIN:VCALENDAR
VERSION:2.0
PRODID:-//jEvents 2.0 for Joomla//EN
CALSCALE:GREGORIAN
METHOD:PUBLISH
BEGIN:VTIMEZONE
TZID:Europe/Paris
BEGIN:STANDARD
DTSTART:20140306T080000
RDATE:20140330T030000
TZOFFSETFROM:+0200
TZOFFSETTO:+0100
TZNAME:Europe/Paris CET
END:STANDARD
BEGIN:STANDARD
DTSTART:20141026T020000
RDATE:20150329T030000
TZOFFSETFROM:+0200
TZOFFSETTO:+0100
TZNAME:Europe/Paris CET
END:STANDARD
BEGIN:STANDARD
DTSTART:20151025T020000
RDATE:20160327T030000
TZOFFSETFROM:+0200
TZOFFSETTO:+0100
TZNAME:Europe/Paris CET
END:STANDARD
BEGIN:STANDARD
DTSTART:20161030T020000
RDATE:20170326T030000
TZOFFSETFROM:+0200
TZOFFSETTO:+0100
TZNAME:Europe/Paris CET
END:STANDARD
BEGIN:STANDARD
DTSTART:20171029T020000
RDATE:20180325T030000
TZOFFSETFROM:+0200
TZOFFSETTO:+0100
TZNAME:Europe/Paris CET
END:STANDARD
BEGIN:STANDARD
DTSTART:20181028T020000
RDATE:20190331T030000
TZOFFSETFROM:+0200
TZOFFSETTO:+0100
TZNAME:Europe/Paris CET
END:STANDARD
BEGIN:STANDARD
DTSTART:20191027T020000
RDATE:20200329T030000
TZOFFSETFROM:+0200
TZOFFSETTO:+0100
TZNAME:Europe/Paris CET
END:STANDARD
BEGIN:STANDARD
DTSTART:20201025T020000
RDATE:20210328T030000
TZOFFSETFROM:+0200
TZOFFSETTO:+0100
TZNAME:Europe/Paris CET
END:STANDARD
BEGIN:STANDARD
DTSTART:20211031T020000
RDATE:20220327T030000
TZOFFSETFROM:+0200
TZOFFSETTO:+0100
TZNAME:Europe/Paris CET
END:STANDARD
BEGIN:STANDARD
DTSTART:20221030T020000
RDATE:20230326T030000
TZOFFSETFROM:+0200
TZOFFSETTO:+0100
TZNAME:Europe/Paris CET
END:STANDARD
BEGIN:STANDARD
DTSTART:20231029T020000
RDATE:20240331T030000
TZOFFSETFROM:+0200
TZOFFSETTO:+0100
TZNAME:Europe/Paris CET
END:STANDARD
BEGIN:STANDARD
DTSTART:20241027T020000
RDATE:20250330T030000
TZOFFSETFROM:+0200
TZOFFSETTO:+0100
TZNAME:Europe/Paris CET
END:STANDARD
BEGIN:STANDARD
DTSTART:20251026T020000
RDATE:20260329T030000
TZOFFSETFROM:+0200
TZOFFSETTO:+0100
TZNAME:Europe/Paris CET
END:STANDARD
BEGIN:STANDARD
DTSTART:20261025T020000
RDATE:20270328T030000
TZOFFSETFROM:+0200
TZOFFSETTO:+0100
TZNAME:Europe/Paris CET
END:STANDARD
BEGIN:DAYLIGHT
DTSTART:20140330T030000
RDATE:20141026T020000
TZOFFSETFROM:+0100
TZOFFSETTO:+0200
TZNAME:Europe/Paris CEST
END:DAYLIGHT
BEGIN:DAYLIGHT
DTSTART:20150329T030000
RDATE:20151025T020000
TZOFFSETFROM:+0100
TZOFFSETTO:+0200
TZNAME:Europe/Paris CEST
END:DAYLIGHT
BEGIN:DAYLIGHT
DTSTART:20160327T030000
RDATE:20161030T020000
TZOFFSETFROM:+0100
TZOFFSETTO:+0200
TZNAME:Europe/Paris CEST
END:DAYLIGHT
BEGIN:DAYLIGHT
DTSTART:20170326T030000
RDATE:20171029T020000
TZOFFSETFROM:+0100
TZOFFSETTO:+0200
TZNAME:Europe/Paris CEST
END:DAYLIGHT
BEGIN:DAYLIGHT
DTSTART:20180325T030000
RDATE:20181028T020000
TZOFFSETFROM:+0100
TZOFFSETTO:+0200
TZNAME:Europe/Paris CEST
END:DAYLIGHT
BEGIN:DAYLIGHT
DTSTART:20190331T030000
RDATE:20191027T020000
TZOFFSETFROM:+0100
TZOFFSETTO:+0200
TZNAME:Europe/Paris CEST
END:DAYLIGHT
BEGIN:DAYLIGHT
DTSTART:20200329T030000
RDATE:20201025T020000
TZOFFSETFROM:+0100
TZOFFSETTO:+0200
TZNAME:Europe/Paris CEST
END:DAYLIGHT
BEGIN:DAYLIGHT
DTSTART:20210328T030000
RDATE:20211031T020000
TZOFFSETFROM:+0100
TZOFFSETTO:+0200
TZNAME:Europe/Paris CEST
END:DAYLIGHT
BEGIN:DAYLIGHT
DTSTART:20220327T030000
RDATE:20221030T020000
TZOFFSETFROM:+0100
TZOFFSETTO:+0200
TZNAME:Europe/Paris CEST
END:DAYLIGHT
BEGIN:DAYLIGHT
DTSTART:20230326T030000
RDATE:20231029T020000
TZOFFSETFROM:+0100
TZOFFSETTO:+0200
TZNAME:Europe/Paris CEST
END:DAYLIGHT
BEGIN:DAYLIGHT
DTSTART:20240331T030000
RDATE:20241027T020000
TZOFFSETFROM:+0100
TZOFFSETTO:+0200
TZNAME:Europe/Paris CEST
END:DAYLIGHT
BEGIN:DAYLIGHT
DTSTART:20250330T030000
RDATE:20251026T020000
TZOFFSETFROM:+0100
TZOFFSETTO:+0200
TZNAME:Europe/Paris CEST
END:DAYLIGHT
BEGIN:DAYLIGHT
DTSTART:20260329T030000
RDATE:20261025T020000
TZOFFSETFROM:+0100
TZOFFSETTO:+0200
TZNAME:Europe/Paris CEST
END:DAYLIGHT
END:VTIMEZONE
BEGIN:VEVENT
UID:cf9c41ef02d7adc480f0b0bc5abe0014
CATEGORIES:Compétition Saut
CREATED:20141127T000322
SUMMARY:Xonrupt Le Poli Jeux du Saut Crédit Mutuel + combiné
URL;VALUE=URI:https://skivosges.net/agenda/a-venir/detailevenement/359/-/xonrupt-le-poli-
 jeux-du-saut-credit-mutuel-combine?tmpl=component
DESCRIPTION:Xonrupt Le Poli Jeux du Saut Crédit Mutuel + combiné\n\nLieu : XONRUPT\nOrg
 anisateur : SKI CLUB XONRUPT (14102 SKI CLUB XONRUPT)\n - TMVF0101 épreuve 
 U11 (Poussin) Filles\n  Xonrupt Le Poli Jeux du Saut Crédit Mutuel + combin
 é\n - TMVF0102 épreuve U13 (Benjamin) Filles\n  Xonrupt Le Poli Jeux du Sau
 t Crédit Mutuel + combiné\n - TMVF0103 épreuve U15 (Minime) Filles\n  Xonru
 pt Le Poli Jeux du Saut Crédit Mutuel + combiné\n - TMVM0101 épreuve U11 (P
 oussin) Garçons\n  Xonrupt Le Poli Jeux du Saut Crédit Mutuel + combiné\n -
  TMVM0102 épreuve U13 (Benjamin) Garçons\n  Xonrupt Le Poli Jeux du Saut Cr
 édit Mutuel + combiné\n - TMVM0103 épreuve U15 (Minime) Garçons\n  Xonrupt 
 Le Poli Jeux du Saut Crédit Mutuel + combiné Cet évènement a été importé de
 puis :https://skivosges.net/agenda/a-venir/detailevenement/359/-/xonrupt-le
 -poli-jeux-du-saut-credit-mutuel-combine?tmpl=component (https://skivosges.
 net/agenda/a-venir/detailevenement/359/-/xonrupt-le-poli-jeux-du-saut-credi
 t-mutuel-combine?tmpl=component)
X-ALT-DESC;FMTTYPE=text/html:<strong>Xonrupt Le Poli Jeux du Saut Crédit Mutuel + combiné</strong><br />
 <br />Lieu : XONRUPT<br />Organisateur : SKI CLUB XONRUPT <small>(14102 SKI
  CLUB XONRUPT)</small><ul type="disc"><li>TMVF0101 épreuve <nobr>U11 (Pouss
 in)</nobr> Filles<br />&nbsp;&nbsp;Xonrupt Le Poli Jeux du Saut Crédit Mutu
 el + combiné</li><li>TMVF0102 épreuve <nobr>U13 (Benjamin)</nobr> Filles<br
  />&nbsp;&nbsp;Xonrupt Le Poli Jeux du Saut Crédit Mutuel + combiné</li><li
 >TMVF0103 épreuve <nobr>U15 (Minime)</nobr> Filles<br />&nbsp;&nbsp;Xonrupt
  Le Poli Jeux du Saut Crédit Mutuel + combiné</li><li>TMVM0101 épreuve <nob
 r>U11 (Poussin)</nobr> Garçons<br />&nbsp;&nbsp;Xonrupt Le Poli Jeux du Sau
 t Crédit Mutuel + combiné</li><li>TMVM0102 épreuve <nobr>U13 (Benjamin)</no
 br> Garçons<br />&nbsp;&nbsp;Xonrupt Le Poli Jeux du Saut Crédit Mutuel + c
 ombiné</li><li>TMVM0103 épreuve <nobr>U15 (Minime)</nobr> Garçons<br />&nbs
 p;&nbsp;Xonrupt Le Poli Jeux du Saut Crédit Mutuel + combiné</li></ul> <a h
 ref="https://skivosges.net/agenda/a-venir/detailevenement/359/-/xonrupt-le-
 poli-jeux-du-saut-credit-mutuel-combine?tmpl=component">Cet évènement a été
  importé depuis :https://skivosges.net/agenda/a-venir/detailevenement/359/-
 /xonrupt-le-poli-jeux-du-saut-credit-mutuel-combine?tmpl=component</a>DTSTAMP:20260424T073910
DTSTART;TZID=Europe/Paris:20150307T080000
DTEND;TZID=Europe/Paris:20150307T170000
SEQUENCE:0
TRANSP:OPAQUE
END:VEVENT
END:VCALENDAR