BEGIN:VCALENDAR
VERSION:2.0
PRODID:-//jEvents 2.0 for Joomla//EN
CALSCALE:GREGORIAN
METHOD:PUBLISH
BEGIN:VTIMEZONE
TZID:Europe/Paris
BEGIN:STANDARD
DTSTART:20140328T070000
RDATE:20140330T030000
TZOFFSETFROM:+0200
TZOFFSETTO:+0100
TZNAME:Europe/Paris CET
END:STANDARD
BEGIN:STANDARD
DTSTART:20141026T020000
RDATE:20150329T030000
TZOFFSETFROM:+0200
TZOFFSETTO:+0100
TZNAME:Europe/Paris CET
END:STANDARD
BEGIN:STANDARD
DTSTART:20151025T020000
RDATE:20160327T030000
TZOFFSETFROM:+0200
TZOFFSETTO:+0100
TZNAME:Europe/Paris CET
END:STANDARD
BEGIN:STANDARD
DTSTART:20161030T020000
RDATE:20170326T030000
TZOFFSETFROM:+0200
TZOFFSETTO:+0100
TZNAME:Europe/Paris CET
END:STANDARD
BEGIN:STANDARD
DTSTART:20171029T020000
RDATE:20180325T030000
TZOFFSETFROM:+0200
TZOFFSETTO:+0100
TZNAME:Europe/Paris CET
END:STANDARD
BEGIN:STANDARD
DTSTART:20181028T020000
RDATE:20190331T030000
TZOFFSETFROM:+0200
TZOFFSETTO:+0100
TZNAME:Europe/Paris CET
END:STANDARD
BEGIN:STANDARD
DTSTART:20191027T020000
RDATE:20200329T030000
TZOFFSETFROM:+0200
TZOFFSETTO:+0100
TZNAME:Europe/Paris CET
END:STANDARD
BEGIN:STANDARD
DTSTART:20201025T020000
RDATE:20210328T030000
TZOFFSETFROM:+0200
TZOFFSETTO:+0100
TZNAME:Europe/Paris CET
END:STANDARD
BEGIN:STANDARD
DTSTART:20211031T020000
RDATE:20220327T030000
TZOFFSETFROM:+0200
TZOFFSETTO:+0100
TZNAME:Europe/Paris CET
END:STANDARD
BEGIN:STANDARD
DTSTART:20221030T020000
RDATE:20230326T030000
TZOFFSETFROM:+0200
TZOFFSETTO:+0100
TZNAME:Europe/Paris CET
END:STANDARD
BEGIN:STANDARD
DTSTART:20231029T020000
RDATE:20240331T030000
TZOFFSETFROM:+0200
TZOFFSETTO:+0100
TZNAME:Europe/Paris CET
END:STANDARD
BEGIN:STANDARD
DTSTART:20241027T020000
RDATE:20250330T030000
TZOFFSETFROM:+0200
TZOFFSETTO:+0100
TZNAME:Europe/Paris CET
END:STANDARD
BEGIN:STANDARD
DTSTART:20251026T020000
RDATE:20260329T030000
TZOFFSETFROM:+0200
TZOFFSETTO:+0100
TZNAME:Europe/Paris CET
END:STANDARD
BEGIN:STANDARD
DTSTART:20261025T020000
RDATE:20270328T030000
TZOFFSETFROM:+0200
TZOFFSETTO:+0100
TZNAME:Europe/Paris CET
END:STANDARD
BEGIN:DAYLIGHT
DTSTART:20140330T030000
RDATE:20141026T020000
TZOFFSETFROM:+0100
TZOFFSETTO:+0200
TZNAME:Europe/Paris CEST
END:DAYLIGHT
BEGIN:DAYLIGHT
DTSTART:20150329T030000
RDATE:20151025T020000
TZOFFSETFROM:+0100
TZOFFSETTO:+0200
TZNAME:Europe/Paris CEST
END:DAYLIGHT
BEGIN:DAYLIGHT
DTSTART:20160327T030000
RDATE:20161030T020000
TZOFFSETFROM:+0100
TZOFFSETTO:+0200
TZNAME:Europe/Paris CEST
END:DAYLIGHT
BEGIN:DAYLIGHT
DTSTART:20170326T030000
RDATE:20171029T020000
TZOFFSETFROM:+0100
TZOFFSETTO:+0200
TZNAME:Europe/Paris CEST
END:DAYLIGHT
BEGIN:DAYLIGHT
DTSTART:20180325T030000
RDATE:20181028T020000
TZOFFSETFROM:+0100
TZOFFSETTO:+0200
TZNAME:Europe/Paris CEST
END:DAYLIGHT
BEGIN:DAYLIGHT
DTSTART:20190331T030000
RDATE:20191027T020000
TZOFFSETFROM:+0100
TZOFFSETTO:+0200
TZNAME:Europe/Paris CEST
END:DAYLIGHT
BEGIN:DAYLIGHT
DTSTART:20200329T030000
RDATE:20201025T020000
TZOFFSETFROM:+0100
TZOFFSETTO:+0200
TZNAME:Europe/Paris CEST
END:DAYLIGHT
BEGIN:DAYLIGHT
DTSTART:20210328T030000
RDATE:20211031T020000
TZOFFSETFROM:+0100
TZOFFSETTO:+0200
TZNAME:Europe/Paris CEST
END:DAYLIGHT
BEGIN:DAYLIGHT
DTSTART:20220327T030000
RDATE:20221030T020000
TZOFFSETFROM:+0100
TZOFFSETTO:+0200
TZNAME:Europe/Paris CEST
END:DAYLIGHT
BEGIN:DAYLIGHT
DTSTART:20230326T030000
RDATE:20231029T020000
TZOFFSETFROM:+0100
TZOFFSETTO:+0200
TZNAME:Europe/Paris CEST
END:DAYLIGHT
BEGIN:DAYLIGHT
DTSTART:20240331T030000
RDATE:20241027T020000
TZOFFSETFROM:+0100
TZOFFSETTO:+0200
TZNAME:Europe/Paris CEST
END:DAYLIGHT
BEGIN:DAYLIGHT
DTSTART:20250330T030000
RDATE:20251026T020000
TZOFFSETFROM:+0100
TZOFFSETTO:+0200
TZNAME:Europe/Paris CEST
END:DAYLIGHT
BEGIN:DAYLIGHT
DTSTART:20260329T030000
RDATE:20261025T020000
TZOFFSETFROM:+0100
TZOFFSETTO:+0200
TZNAME:Europe/Paris CEST
END:DAYLIGHT
END:VTIMEZONE
BEGIN:VEVENT
UID:eb859bcb7aef630ff5a9dbece7075429
CATEGORIES:Circuit Massif Adultes (alpin)
CREATED:20141127T000323
SUMMARY:GPA     GP SCOSEG - Speck / Sports / Qualif CFFS
URL;VALUE=URI:https://skivosges.net/agenda/a-venir/detailevenement/388/-/gpa-gp-scoseg-sp
 eck-sports-qualif-cffs?tmpl=component
DESCRIPTION:GPA     GP SCOSEG - Speck / Sports / Qualif CFFS \n(Grand Prix Adultes)\n\n
 Lieu : MARKSTEIN\nOrganisateur : S.C.O.S.E.G. GUEBWILLER (14356 S.C.O.S.E.G
 . GUEBWILLER)\nEmail : RegularLabs.EmailProtector.unCloak("ep_303d5cff");\n
 Telecopie : 03 89 76 09 25\n - AMVF0841  Slalom (Coupe de la Federation) U1
 6 a Masters Dames\n  GPA     GP SCOSEG - Speck / Sports / Qualif CFFS\n - A
 MVM0841  Slalom (Coupe de la Federation) U16 a Masters Hommes\n  GPA     GP
  SCOSEG - Speck / Sports / Qualif CFFS Cet évènement a été importé depuis :
 https://skivosges.net/agenda/a-venir/detailevenement/388/-/gpa-gp-scoseg-sp
 eck-sports-qualif-cffs?tmpl=component (https://skivosges.net/agenda/a-venir
 /detailevenement/388/-/gpa-gp-scoseg-speck-sports-qualif-cffs?tmpl=componen
 t)
X-ALT-DESC;FMTTYPE=text/html:<strong>GPA     GP SCOSEG - Speck / Sports / Qualif CFFS</strong> <br /><i>
 (Grand Prix Adultes)</i><br /><br />Lieu : MARKSTEIN<br />Organisateur : S.
 C.O.S.E.G. GUEBWILLER <small>(14356 S.C.O.S.E.G. GUEBWILLER)</small><br />E
 mail : <!-- Cette adresse électronique est protégée contre les robots spamm
 eurs. --><span class="cloaked_email ep_303d5cff"><span data-ep-b="f&#114;" 
 data-ep-a="&#115;&#99;&#111;"><span data-ep-a="&#115;&#101;&#103;" data-ep-
 b="o&#111;."><span data-ep-a="&#64;&#119;a" data-ep-b="n&#97;&#100;"></span
 ></span></span></span><script>RegularLabs.EmailProtector.unCloak("ep_303d5c
 ff");</script><br />Telecopie : 03 89 76 09 25<ul type="disc"><li>AMVF0841 
  Slalom <nobr><i>(Coupe de la Federation)</i></nobr> <nobr>U16 a Masters</n
 obr> Dames<br />&nbsp;&nbsp;GPA     GP SCOSEG - Speck / Sports / Qualif CFF
 S</li><li>AMVM0841  Slalom <nobr><i>(Coupe de la Federation)</i></nobr> <no
 br>U16 a Masters</nobr> Hommes<br />&nbsp;&nbsp;GPA     GP SCOSEG - Speck /
  Sports / Qualif CFFS</li></ul> <a href="https://skivosges.net/agenda/a-ven
 ir/detailevenement/388/-/gpa-gp-scoseg-speck-sports-qualif-cffs?tmpl=compon
 ent">Cet évènement a été importé depuis :https://skivosges.net/agenda/a-ven
 ir/detailevenement/388/-/gpa-gp-scoseg-speck-sports-qualif-cffs?tmpl=compon
 ent</a>DTSTAMP:20260424T012442
DTSTART;TZID=Europe/Paris:20150329T080000
DTEND;TZID=Europe/Paris:20150329T170000
SEQUENCE:0
TRANSP:OPAQUE
END:VEVENT
END:VCALENDAR