BEGIN:VCALENDAR
VERSION:2.0
PRODID:-//jEvents 2.0 for Joomla//EN
CALSCALE:GREGORIAN
METHOD:PUBLISH
BEGIN:VTIMEZONE
TZID:Europe/Paris
BEGIN:STANDARD
DTSTART:20140328T070000
RDATE:20140330T030000
TZOFFSETFROM:+0200
TZOFFSETTO:+0100
TZNAME:Europe/Paris CET
END:STANDARD
BEGIN:STANDARD
DTSTART:20141026T020000
RDATE:20150329T030000
TZOFFSETFROM:+0200
TZOFFSETTO:+0100
TZNAME:Europe/Paris CET
END:STANDARD
BEGIN:STANDARD
DTSTART:20151025T020000
RDATE:20160327T030000
TZOFFSETFROM:+0200
TZOFFSETTO:+0100
TZNAME:Europe/Paris CET
END:STANDARD
BEGIN:STANDARD
DTSTART:20161030T020000
RDATE:20170326T030000
TZOFFSETFROM:+0200
TZOFFSETTO:+0100
TZNAME:Europe/Paris CET
END:STANDARD
BEGIN:STANDARD
DTSTART:20171029T020000
RDATE:20180325T030000
TZOFFSETFROM:+0200
TZOFFSETTO:+0100
TZNAME:Europe/Paris CET
END:STANDARD
BEGIN:STANDARD
DTSTART:20181028T020000
RDATE:20190331T030000
TZOFFSETFROM:+0200
TZOFFSETTO:+0100
TZNAME:Europe/Paris CET
END:STANDARD
BEGIN:STANDARD
DTSTART:20191027T020000
RDATE:20200329T030000
TZOFFSETFROM:+0200
TZOFFSETTO:+0100
TZNAME:Europe/Paris CET
END:STANDARD
BEGIN:STANDARD
DTSTART:20201025T020000
RDATE:20210328T030000
TZOFFSETFROM:+0200
TZOFFSETTO:+0100
TZNAME:Europe/Paris CET
END:STANDARD
BEGIN:STANDARD
DTSTART:20211031T020000
RDATE:20220327T030000
TZOFFSETFROM:+0200
TZOFFSETTO:+0100
TZNAME:Europe/Paris CET
END:STANDARD
BEGIN:STANDARD
DTSTART:20221030T020000
RDATE:20230326T030000
TZOFFSETFROM:+0200
TZOFFSETTO:+0100
TZNAME:Europe/Paris CET
END:STANDARD
BEGIN:STANDARD
DTSTART:20231029T020000
RDATE:20240331T030000
TZOFFSETFROM:+0200
TZOFFSETTO:+0100
TZNAME:Europe/Paris CET
END:STANDARD
BEGIN:STANDARD
DTSTART:20241027T020000
RDATE:20250330T030000
TZOFFSETFROM:+0200
TZOFFSETTO:+0100
TZNAME:Europe/Paris CET
END:STANDARD
BEGIN:STANDARD
DTSTART:20251026T020000
RDATE:20260329T030000
TZOFFSETFROM:+0200
TZOFFSETTO:+0100
TZNAME:Europe/Paris CET
END:STANDARD
BEGIN:STANDARD
DTSTART:20261025T020000
RDATE:20270328T030000
TZOFFSETFROM:+0200
TZOFFSETTO:+0100
TZNAME:Europe/Paris CET
END:STANDARD
BEGIN:DAYLIGHT
DTSTART:20140330T030000
RDATE:20141026T020000
TZOFFSETFROM:+0100
TZOFFSETTO:+0200
TZNAME:Europe/Paris CEST
END:DAYLIGHT
BEGIN:DAYLIGHT
DTSTART:20150329T030000
RDATE:20151025T020000
TZOFFSETFROM:+0100
TZOFFSETTO:+0200
TZNAME:Europe/Paris CEST
END:DAYLIGHT
BEGIN:DAYLIGHT
DTSTART:20160327T030000
RDATE:20161030T020000
TZOFFSETFROM:+0100
TZOFFSETTO:+0200
TZNAME:Europe/Paris CEST
END:DAYLIGHT
BEGIN:DAYLIGHT
DTSTART:20170326T030000
RDATE:20171029T020000
TZOFFSETFROM:+0100
TZOFFSETTO:+0200
TZNAME:Europe/Paris CEST
END:DAYLIGHT
BEGIN:DAYLIGHT
DTSTART:20180325T030000
RDATE:20181028T020000
TZOFFSETFROM:+0100
TZOFFSETTO:+0200
TZNAME:Europe/Paris CEST
END:DAYLIGHT
BEGIN:DAYLIGHT
DTSTART:20190331T030000
RDATE:20191027T020000
TZOFFSETFROM:+0100
TZOFFSETTO:+0200
TZNAME:Europe/Paris CEST
END:DAYLIGHT
BEGIN:DAYLIGHT
DTSTART:20200329T030000
RDATE:20201025T020000
TZOFFSETFROM:+0100
TZOFFSETTO:+0200
TZNAME:Europe/Paris CEST
END:DAYLIGHT
BEGIN:DAYLIGHT
DTSTART:20210328T030000
RDATE:20211031T020000
TZOFFSETFROM:+0100
TZOFFSETTO:+0200
TZNAME:Europe/Paris CEST
END:DAYLIGHT
BEGIN:DAYLIGHT
DTSTART:20220327T030000
RDATE:20221030T020000
TZOFFSETFROM:+0100
TZOFFSETTO:+0200
TZNAME:Europe/Paris CEST
END:DAYLIGHT
BEGIN:DAYLIGHT
DTSTART:20230326T030000
RDATE:20231029T020000
TZOFFSETFROM:+0100
TZOFFSETTO:+0200
TZNAME:Europe/Paris CEST
END:DAYLIGHT
BEGIN:DAYLIGHT
DTSTART:20240331T030000
RDATE:20241027T020000
TZOFFSETFROM:+0100
TZOFFSETTO:+0200
TZNAME:Europe/Paris CEST
END:DAYLIGHT
BEGIN:DAYLIGHT
DTSTART:20250330T030000
RDATE:20251026T020000
TZOFFSETFROM:+0100
TZOFFSETTO:+0200
TZNAME:Europe/Paris CEST
END:DAYLIGHT
BEGIN:DAYLIGHT
DTSTART:20260329T030000
RDATE:20261025T020000
TZOFFSETFROM:+0100
TZOFFSETTO:+0200
TZNAME:Europe/Paris CEST
END:DAYLIGHT
END:VTIMEZONE
BEGIN:VEVENT
UID:a56d38b748892227f15367285ee03824
CATEGORIES:Autres Épreuves (alpin)
CREATED:20141127T000323
SUMMARY:Finale  U8etU10-U12etU14-U16     Finale et Palmares de la Coupe d'Alsace Jeunes
URL;VALUE=URI:https://skivosges.net/agenda/a-venir/detailevenement/389/-/finale-u8etu10-u
 12etu14-u16-finale-et-palmares-de-la-coupe-dalsace-jeunes?tmpl=component
DESCRIPTION:Finale  U8etU10-U12etU14-U16     Finale et Palmares de la Coupe d'Alsace Je
 unes\n\nLieu : MARKSTEIN\nOrganisateur : S.C VALLEE DE WESSERLING (14186 S.
 C VALLEE DE WESSERLING)\nEmail : RegularLabs.EmailProtector.unCloak("ep_3a1
 dd418");\nTelecopie : 03 89 82 78 08\nTelecopie : 03 89 82 78 08\n - AMVF08
 31  Slalom Geant U12/U14 Filles\n  Finale  U8etU10-U12etU14-U16     Finale 
 et Palmares de la Coupe d'Alsace Jeunes\n - AMVM0831  Slalom Geant U12/U14 
 Garçons\n  Finale  U8etU10-U12etU14-U16     Finale et Palmares de la Coupe 
 d'Alsace Jeunes\n - AMVF0832  Slalom Geant U8/U10 Filles\n  Finale  U8etU10
 -U12etU14-U16     Finale et Palmares de la Coupe d'Alsace Jeunes\n - AMVM08
 32  Slalom Geant U8/U10 Garçons\n  Finale  U8etU10-U12etU14-U16     Finale 
 et Palmares de la Coupe d'Alsace Jeunes\n - AMVF0833  Slalom Geant U16 Fill
 es\n  Finale  U8etU10-U12etU14-U16     Finale et Palmares de la Coupe d'Als
 ace Jeunes\n - AMVM0833  Slalom Geant U16 Garçons\n  Finale  U8etU10-U12etU
 14-U16     Finale et Palmares de la Coupe d'Alsace Jeunes Cet évènement a é
 té importé depuis :https://skivosges.net/agenda/a-venir/detailevenement/389
 /-/finale-u8etu10-u12etu14-u16-finale-et-palmares-de-la-coupe-dalsace-jeune
 s?tmpl=component
X-ALT-DESC;FMTTYPE=text/html:<strong>Finale  U8etU10-U12etU14-U16     Finale et Palmares de la Coupe d'A
 lsace Jeunes</strong><br /><br />Lieu : MARKSTEIN<br />Organisateur : S.C V
 ALLEE DE WESSERLING <small>(14186 S.C VALLEE DE WESSERLING)</small><br />Em
 ail : <!-- Cette adresse électronique est protégée contre les robots spamme
 urs. --><span class="cloaked_email ep_3a1dd418"><span data-ep-b="&#109;" da
 ta-ep-a="&#115;&#99;&#118;&#119;"><span data-ep-b="&#108;&#46;&#99;o" data-
 ep-a="e&#115;&#115;&#101;"><span data-ep-b="&#103;&#64;&#97;o" data-ep-a="&
 #114;&#108;i&#110;"></span></span></span></span><script>RegularLabs.EmailPr
 otector.unCloak("ep_3a1dd418");</script><br />Telecopie : 03 89 82 78 08<br
  />Telecopie : 03 89 82 78 08<ul type="disc"><li>AMVF0831  Slalom Geant <no
 br>U12/U14</nobr> Filles<br />&nbsp;&nbsp;Finale  U8etU10-U12etU14-U16     
 Finale et Palmares de la Coupe d'Alsace Jeunes</li><li>AMVM0831  Slalom Gea
 nt <nobr>U12/U14</nobr> Garçons<br />&nbsp;&nbsp;Finale  U8etU10-U12etU14-U
 16     Finale et Palmares de la Coupe d'Alsace Jeunes</li><li>AMVF0832  Sla
 lom Geant <nobr>U8/U10</nobr> Filles<br />&nbsp;&nbsp;Finale  U8etU10-U12et
 U14-U16     Finale et Palmares de la Coupe d'Alsace Jeunes</li><li>AMVM0832
   Slalom Geant <nobr>U8/U10</nobr> Garçons<br />&nbsp;&nbsp;Finale  U8etU10
 -U12etU14-U16     Finale et Palmares de la Coupe d'Alsace Jeunes</li><li>AM
 VF0833  Slalom Geant <nobr>U16</nobr> Filles<br />&nbsp;&nbsp;Finale  U8etU
 10-U12etU14-U16     Finale et Palmares de la Coupe d'Alsace Jeunes</li><li>
 AMVM0833  Slalom Geant <nobr>U16</nobr> Garçons<br />&nbsp;&nbsp;Finale  U8
 etU10-U12etU14-U16     Finale et Palmares de la Coupe d'Alsace Jeunes</li><
 /ul> <a href="https://skivosges.net/agenda/a-venir/detailevenement/389/-/fi
 nale-u8etu10-u12etu14-u16-finale-et-palmares-de-la-coupe-dalsace-jeunes?tmp
 l=component">Cet évènement a été importé depuis :https://skivosges.net/agen
 da/a-venir/detailevenement/389/-/finale-u8etu10-u12etu14-u16-finale-et-palm
 ares-de-la-coupe-dalsace-jeunes?tmpl=component</a>DTSTAMP:20260424T073927
DTSTART;TZID=Europe/Paris:20150329T080000
DTEND;TZID=Europe/Paris:20150329T170000
SEQUENCE:0
TRANSP:OPAQUE
END:VEVENT
END:VCALENDAR