BEGIN:VCALENDAR
VERSION:2.0
PRODID:-//jEvents 2.0 for Joomla//EN
CALSCALE:GREGORIAN
METHOD:PUBLISH
BEGIN:VTIMEZONE
TZID:Europe/Paris
BEGIN:STANDARD
DTSTART:20141026T020000
RDATE:20150329T030000
TZOFFSETFROM:+0200
TZOFFSETTO:+0100
TZNAME:Europe/Paris CET
END:STANDARD
BEGIN:STANDARD
DTSTART:20151025T020000
RDATE:20160327T030000
TZOFFSETFROM:+0200
TZOFFSETTO:+0100
TZNAME:Europe/Paris CET
END:STANDARD
BEGIN:STANDARD
DTSTART:20161030T020000
RDATE:20170326T030000
TZOFFSETFROM:+0200
TZOFFSETTO:+0100
TZNAME:Europe/Paris CET
END:STANDARD
BEGIN:STANDARD
DTSTART:20171029T020000
RDATE:20180325T030000
TZOFFSETFROM:+0200
TZOFFSETTO:+0100
TZNAME:Europe/Paris CET
END:STANDARD
BEGIN:STANDARD
DTSTART:20181028T020000
RDATE:20190331T030000
TZOFFSETFROM:+0200
TZOFFSETTO:+0100
TZNAME:Europe/Paris CET
END:STANDARD
BEGIN:STANDARD
DTSTART:20191027T020000
RDATE:20200329T030000
TZOFFSETFROM:+0200
TZOFFSETTO:+0100
TZNAME:Europe/Paris CET
END:STANDARD
BEGIN:STANDARD
DTSTART:20201025T020000
RDATE:20210328T030000
TZOFFSETFROM:+0200
TZOFFSETTO:+0100
TZNAME:Europe/Paris CET
END:STANDARD
BEGIN:STANDARD
DTSTART:20211031T020000
RDATE:20220327T030000
TZOFFSETFROM:+0200
TZOFFSETTO:+0100
TZNAME:Europe/Paris CET
END:STANDARD
BEGIN:STANDARD
DTSTART:20221030T020000
RDATE:20230326T030000
TZOFFSETFROM:+0200
TZOFFSETTO:+0100
TZNAME:Europe/Paris CET
END:STANDARD
BEGIN:STANDARD
DTSTART:20231029T020000
RDATE:20240331T030000
TZOFFSETFROM:+0200
TZOFFSETTO:+0100
TZNAME:Europe/Paris CET
END:STANDARD
BEGIN:STANDARD
DTSTART:20241027T020000
RDATE:20250330T030000
TZOFFSETFROM:+0200
TZOFFSETTO:+0100
TZNAME:Europe/Paris CET
END:STANDARD
BEGIN:STANDARD
DTSTART:20251026T020000
RDATE:20260329T030000
TZOFFSETFROM:+0200
TZOFFSETTO:+0100
TZNAME:Europe/Paris CET
END:STANDARD
BEGIN:STANDARD
DTSTART:20261025T020000
RDATE:20270328T030000
TZOFFSETFROM:+0200
TZOFFSETTO:+0100
TZNAME:Europe/Paris CET
END:STANDARD
BEGIN:DAYLIGHT
DTSTART:20140403T080000
RDATE:20141026T020000
TZOFFSETFROM:+0100
TZOFFSETTO:+0200
TZNAME:Europe/Paris CEST
END:DAYLIGHT
BEGIN:DAYLIGHT
DTSTART:20150329T030000
RDATE:20151025T020000
TZOFFSETFROM:+0100
TZOFFSETTO:+0200
TZNAME:Europe/Paris CEST
END:DAYLIGHT
BEGIN:DAYLIGHT
DTSTART:20160327T030000
RDATE:20161030T020000
TZOFFSETFROM:+0100
TZOFFSETTO:+0200
TZNAME:Europe/Paris CEST
END:DAYLIGHT
BEGIN:DAYLIGHT
DTSTART:20170326T030000
RDATE:20171029T020000
TZOFFSETFROM:+0100
TZOFFSETTO:+0200
TZNAME:Europe/Paris CEST
END:DAYLIGHT
BEGIN:DAYLIGHT
DTSTART:20180325T030000
RDATE:20181028T020000
TZOFFSETFROM:+0100
TZOFFSETTO:+0200
TZNAME:Europe/Paris CEST
END:DAYLIGHT
BEGIN:DAYLIGHT
DTSTART:20190331T030000
RDATE:20191027T020000
TZOFFSETFROM:+0100
TZOFFSETTO:+0200
TZNAME:Europe/Paris CEST
END:DAYLIGHT
BEGIN:DAYLIGHT
DTSTART:20200329T030000
RDATE:20201025T020000
TZOFFSETFROM:+0100
TZOFFSETTO:+0200
TZNAME:Europe/Paris CEST
END:DAYLIGHT
BEGIN:DAYLIGHT
DTSTART:20210328T030000
RDATE:20211031T020000
TZOFFSETFROM:+0100
TZOFFSETTO:+0200
TZNAME:Europe/Paris CEST
END:DAYLIGHT
BEGIN:DAYLIGHT
DTSTART:20220327T030000
RDATE:20221030T020000
TZOFFSETFROM:+0100
TZOFFSETTO:+0200
TZNAME:Europe/Paris CEST
END:DAYLIGHT
BEGIN:DAYLIGHT
DTSTART:20230326T030000
RDATE:20231029T020000
TZOFFSETFROM:+0100
TZOFFSETTO:+0200
TZNAME:Europe/Paris CEST
END:DAYLIGHT
BEGIN:DAYLIGHT
DTSTART:20240331T030000
RDATE:20241027T020000
TZOFFSETFROM:+0100
TZOFFSETTO:+0200
TZNAME:Europe/Paris CEST
END:DAYLIGHT
BEGIN:DAYLIGHT
DTSTART:20250330T030000
RDATE:20251026T020000
TZOFFSETFROM:+0100
TZOFFSETTO:+0200
TZNAME:Europe/Paris CEST
END:DAYLIGHT
BEGIN:DAYLIGHT
DTSTART:20260329T030000
RDATE:20261025T020000
TZOFFSETFROM:+0100
TZOFFSETTO:+0200
TZNAME:Europe/Paris CEST
END:DAYLIGHT
END:VTIMEZONE
BEGIN:VEVENT
UID:fa91a1c62326b9e9b3b156f810ba628e
CATEGORIES:Opens et Promos (alpin)
CREATED:20141127T000323
SUMMARY:OPEN  U12 et U 14     30ème Journées Françaises de Mellau  Géant
URL;VALUE=URI:https://skivosges.net/agenda/a-venir/detailevenement/394/-/open-u12-et-u-14
 -30eme-journees-francaises-de-mellau-geant?tmpl=component
DESCRIPTION:OPEN  U12 et U 14     30ème Journées Françaises de Mellau  Géant\n\nLieu : 
 MELLAU (Autriche)\nPiste : Wilgunden\nOrganisateur : ALSACE SKI PLUS COLMAR
  (14434 ALSACE SKI PLUS COLMAR)\nEmail : RegularLabs.EmailProtector.unCloak
 ("ep_0a02a726");\nTelecopie : 06 14 02 59 53\n\nAttention une seul inscript
 ion pour les 2 courses U12 et U14 des 30è Journées Françaises de Mellau \n\
 nInscriptions en cours sur ce site\n  Piste:MELLAU (AUT)\n - AMVF0861  Slal
 om Geant U12/U14 Filles\n  OPEN  U12 et U 14     30ème Journées Françaises 
 de Mellau  Géant\n  Piste:MELLAU (AUT)\n - AMVM0861  Slalom Geant U12/U14 G
 arçons\n  OPEN  U12 et U 14     30ème Journées Françaises de Mellau  Géant 
 Cet évènement a été importé depuis :https://skivosges.net/agenda/a-venir/de
 tailevenement/394/-/open-u12-et-u-14-30eme-journees-francaises-de-mellau-ge
 ant?tmpl=component
X-ALT-DESC;FMTTYPE=text/html:<strong>OPEN  U12 et U 14     30ème Journées Françaises de Mellau  Géant</s
 trong><br /><br />Lieu : MELLAU (Autriche)<br />Piste : Wilgunden<br />Orga
 nisateur : ALSACE SKI PLUS COLMAR <small>(14434 ALSACE SKI PLUS COLMAR)</sm
 all><br />Email : <!-- Cette adresse électronique est protégée contre les r
 obots spammeurs. --><span class="cloaked_email ep_0a02a726"><span data-ep-a
 ="&#118;tn" data-ep-b=""><span data-ep-a="&#64;&#119;&#97;" data-ep-b="&#10
 2;r"><span data-ep-a="&#110;&#97;d" data-ep-b="&#111;o."></span></span></sp
 an></span><script>RegularLabs.EmailProtector.unCloak("ep_0a02a726");</scrip
 t><br />Telecopie : 06 14 02 59 53<br /><br />Attention une seul inscriptio
 n pour les 2 courses U12 et U14 des 30è Journées Françaises de Mellau <br /
 ><br />Inscriptions en cours sur ce site<ul type="disc"><br />&nbsp;&nbsp;P
 iste:MELLAU (AUT)<li>AMVF0861  Slalom Geant <nobr>U12/U14</nobr> Filles<br 
 />&nbsp;&nbsp;OPEN  U12 et U 14     30ème Journées Françaises de Mellau  Gé
 ant</li><br />&nbsp;&nbsp;Piste:MELLAU (AUT)<li>AMVM0861  Slalom Geant <nob
 r>U12/U14</nobr> Garçons<br />&nbsp;&nbsp;OPEN  U12 et U 14     30ème Journ
 ées Françaises de Mellau  Géant</li></ul> <a href="https://skivosges.net/ag
 enda/a-venir/detailevenement/394/-/open-u12-et-u-14-30eme-journees-francais
 es-de-mellau-geant?tmpl=component">Cet évènement a été importé depuis :http
 s://skivosges.net/agenda/a-venir/detailevenement/394/-/open-u12-et-u-14-30e
 me-journees-francaises-de-mellau-geant?tmpl=component</a>DTSTAMP:20260424T073935
DTSTART;TZID=Europe/Paris:20150404T080000
DTEND;TZID=Europe/Paris:20150404T170000
SEQUENCE:0
TRANSP:OPAQUE
END:VEVENT
END:VCALENDAR