BEGIN:VCALENDAR
VERSION:2.0
PRODID:-//jEvents 2.0 for Joomla//EN
CALSCALE:GREGORIAN
METHOD:PUBLISH
BEGIN:VTIMEZONE
TZID:Europe/Paris
BEGIN:STANDARD
DTSTART:20140320T080000
RDATE:20140330T030000
TZOFFSETFROM:+0200
TZOFFSETTO:+0100
TZNAME:Europe/Paris CET
END:STANDARD
BEGIN:STANDARD
DTSTART:20141026T020000
RDATE:20150329T030000
TZOFFSETFROM:+0200
TZOFFSETTO:+0100
TZNAME:Europe/Paris CET
END:STANDARD
BEGIN:STANDARD
DTSTART:20151025T020000
RDATE:20160327T030000
TZOFFSETFROM:+0200
TZOFFSETTO:+0100
TZNAME:Europe/Paris CET
END:STANDARD
BEGIN:STANDARD
DTSTART:20161030T020000
RDATE:20170326T030000
TZOFFSETFROM:+0200
TZOFFSETTO:+0100
TZNAME:Europe/Paris CET
END:STANDARD
BEGIN:STANDARD
DTSTART:20171029T020000
RDATE:20180325T030000
TZOFFSETFROM:+0200
TZOFFSETTO:+0100
TZNAME:Europe/Paris CET
END:STANDARD
BEGIN:STANDARD
DTSTART:20181028T020000
RDATE:20190331T030000
TZOFFSETFROM:+0200
TZOFFSETTO:+0100
TZNAME:Europe/Paris CET
END:STANDARD
BEGIN:STANDARD
DTSTART:20191027T020000
RDATE:20200329T030000
TZOFFSETFROM:+0200
TZOFFSETTO:+0100
TZNAME:Europe/Paris CET
END:STANDARD
BEGIN:STANDARD
DTSTART:20201025T020000
RDATE:20210328T030000
TZOFFSETFROM:+0200
TZOFFSETTO:+0100
TZNAME:Europe/Paris CET
END:STANDARD
BEGIN:STANDARD
DTSTART:20211031T020000
RDATE:20220327T030000
TZOFFSETFROM:+0200
TZOFFSETTO:+0100
TZNAME:Europe/Paris CET
END:STANDARD
BEGIN:STANDARD
DTSTART:20221030T020000
RDATE:20230326T030000
TZOFFSETFROM:+0200
TZOFFSETTO:+0100
TZNAME:Europe/Paris CET
END:STANDARD
BEGIN:STANDARD
DTSTART:20231029T020000
RDATE:20240331T030000
TZOFFSETFROM:+0200
TZOFFSETTO:+0100
TZNAME:Europe/Paris CET
END:STANDARD
BEGIN:STANDARD
DTSTART:20241027T020000
RDATE:20250330T030000
TZOFFSETFROM:+0200
TZOFFSETTO:+0100
TZNAME:Europe/Paris CET
END:STANDARD
BEGIN:STANDARD
DTSTART:20251026T020000
RDATE:20260329T030000
TZOFFSETFROM:+0200
TZOFFSETTO:+0100
TZNAME:Europe/Paris CET
END:STANDARD
BEGIN:STANDARD
DTSTART:20261025T020000
RDATE:20270328T030000
TZOFFSETFROM:+0200
TZOFFSETTO:+0100
TZNAME:Europe/Paris CET
END:STANDARD
BEGIN:DAYLIGHT
DTSTART:20140330T030000
RDATE:20141026T020000
TZOFFSETFROM:+0100
TZOFFSETTO:+0200
TZNAME:Europe/Paris CEST
END:DAYLIGHT
BEGIN:DAYLIGHT
DTSTART:20150329T030000
RDATE:20151025T020000
TZOFFSETFROM:+0100
TZOFFSETTO:+0200
TZNAME:Europe/Paris CEST
END:DAYLIGHT
BEGIN:DAYLIGHT
DTSTART:20160327T030000
RDATE:20161030T020000
TZOFFSETFROM:+0100
TZOFFSETTO:+0200
TZNAME:Europe/Paris CEST
END:DAYLIGHT
BEGIN:DAYLIGHT
DTSTART:20170326T030000
RDATE:20171029T020000
TZOFFSETFROM:+0100
TZOFFSETTO:+0200
TZNAME:Europe/Paris CEST
END:DAYLIGHT
BEGIN:DAYLIGHT
DTSTART:20180325T030000
RDATE:20181028T020000
TZOFFSETFROM:+0100
TZOFFSETTO:+0200
TZNAME:Europe/Paris CEST
END:DAYLIGHT
BEGIN:DAYLIGHT
DTSTART:20190331T030000
RDATE:20191027T020000
TZOFFSETFROM:+0100
TZOFFSETTO:+0200
TZNAME:Europe/Paris CEST
END:DAYLIGHT
BEGIN:DAYLIGHT
DTSTART:20200329T030000
RDATE:20201025T020000
TZOFFSETFROM:+0100
TZOFFSETTO:+0200
TZNAME:Europe/Paris CEST
END:DAYLIGHT
BEGIN:DAYLIGHT
DTSTART:20210328T030000
RDATE:20211031T020000
TZOFFSETFROM:+0100
TZOFFSETTO:+0200
TZNAME:Europe/Paris CEST
END:DAYLIGHT
BEGIN:DAYLIGHT
DTSTART:20220327T030000
RDATE:20221030T020000
TZOFFSETFROM:+0100
TZOFFSETTO:+0200
TZNAME:Europe/Paris CEST
END:DAYLIGHT
BEGIN:DAYLIGHT
DTSTART:20230326T030000
RDATE:20231029T020000
TZOFFSETFROM:+0100
TZOFFSETTO:+0200
TZNAME:Europe/Paris CEST
END:DAYLIGHT
BEGIN:DAYLIGHT
DTSTART:20240331T030000
RDATE:20241027T020000
TZOFFSETFROM:+0100
TZOFFSETTO:+0200
TZNAME:Europe/Paris CEST
END:DAYLIGHT
BEGIN:DAYLIGHT
DTSTART:20250330T030000
RDATE:20251026T020000
TZOFFSETFROM:+0100
TZOFFSETTO:+0200
TZNAME:Europe/Paris CEST
END:DAYLIGHT
BEGIN:DAYLIGHT
DTSTART:20260329T030000
RDATE:20261025T020000
TZOFFSETFROM:+0100
TZOFFSETTO:+0200
TZNAME:Europe/Paris CEST
END:DAYLIGHT
END:VTIMEZONE
BEGIN:VEVENT
UID:78ee0941af30a656987417495e88974a
CATEGORIES:Circuit Massif Masters (alpin)
CREATED:20141205T112740
SUMMARY:GPM  +U30            GP du Valtin
URL;VALUE=URI:https://skivosges.net/agenda/a-venir/detailevenement/404/-/gpm-u30-gp-du-va
 ltin?tmpl=component
DESCRIPTION:GPM  +U30            GP du Valtin \n(Grand Prix Masters)\n\nLieu : LE VALTI
 N\nOrganisateur : A.S DU VALTIN (14409 A.S DU VALTIN)\nEmail : RegularLabs.
 EmailProtector.unCloak("ep_607a0066");\nTelecopie : 03829609404\n\nInscript
 ions closes, les listes de départ sont visualisables sur ce site\n - AMVF09
 41  Slalom (Courses Masters) Tous les Masters Dames Dames\n  GPM  +U30     
        GP du Valtin\n - AMVM0941  Slalom (Courses Masters) Master A1 a A5 H
 ommes Hommes\n  GPM  +U30            GP du Valtin\n - AMVM0942  Slalom (Cou
 rses Masters) Master B6 a B13 Hommes Hommes\n  GPM  +U30            GP du V
 altin Cet évènement a été importé depuis :https://skivosges.net/agenda/a-ve
 nir/detailevenement/404/-/gpm-u30-gp-du-valtin?tmpl=component (https://skiv
 osges.net/agenda/a-venir/detailevenement/404/-/gpm-u30-gp-du-valtin?tmpl=co
 mponent)
X-ALT-DESC;FMTTYPE=text/html:<strong>GPM  +U30            GP du Valtin</strong> <br /><i>(Grand Prix Mas
 ters)</i><br /><br />Lieu : LE VALTIN<br />Organisateur : A.S DU VALTIN <sm
 all>(14409 A.S DU VALTIN)</small><br />Email : <!-- Cette adresse électroni
 que est protégée contre les robots spammeurs. --><span class="cloaked_email
  ep_607a0066"><span data-ep-b="&#114;" data-ep-a="&#97;&#115;&#103;&#115;k"
 ><span data-ep-a="&#105;.&#103;&#101;r" data-ep-b="&#97;&#111;o&#46;f"><spa
 n data-ep-b="r&#64;&#119;&#97;&#110;" data-ep-a="&#97;&#114;d&#109;e"></spa
 n></span></span></span><script>RegularLabs.EmailProtector.unCloak("ep_607a0
 066");</script><br />Telecopie : 03829609404<br /><br />Inscriptions closes
 , les listes de départ sont visualisables sur ce site<ul type="disc"><li>AM
 VF0941  Slalom <nobr><i>(Courses Masters)</i></nobr> <nobr>Tous les Masters
  Dames</nobr> Dames<br />&nbsp;&nbsp;GPM  +U30            GP du Valtin</li>
 <li>AMVM0941  Slalom <nobr><i>(Courses Masters)</i></nobr> <nobr>Master A1 
 a A5 Hommes</nobr> Hommes<br />&nbsp;&nbsp;GPM  +U30            GP du Valti
 n</li><li>AMVM0942  Slalom <nobr><i>(Courses Masters)</i></nobr> <nobr>Mast
 er B6 a B13 Hommes</nobr> Hommes<br />&nbsp;&nbsp;GPM  +U30            GP d
 u Valtin</li></ul> <a href="https://skivosges.net/agenda/a-venir/detaileven
 ement/404/-/gpm-u30-gp-du-valtin?tmpl=component">Cet évènement a été import
 é depuis :https://skivosges.net/agenda/a-venir/detailevenement/404/-/gpm-u3
 0-gp-du-valtin?tmpl=component</a>DTSTAMP:20260424T073225
DTSTART;TZID=Europe/Paris:20150321T080000
DTEND;TZID=Europe/Paris:20150321T170000
SEQUENCE:0
TRANSP:OPAQUE
END:VEVENT
END:VCALENDAR