BEGIN:VCALENDAR
VERSION:2.0
PRODID:-//jEvents 2.0 for Joomla//EN
CALSCALE:GREGORIAN
METHOD:PUBLISH
BEGIN:VTIMEZONE
TZID:Europe/Paris
BEGIN:STANDARD
DTSTART:20140117T080000
RDATE:20140330T030000
TZOFFSETFROM:+0200
TZOFFSETTO:+0100
TZNAME:Europe/Paris CET
END:STANDARD
BEGIN:STANDARD
DTSTART:20141026T020000
RDATE:20150329T030000
TZOFFSETFROM:+0200
TZOFFSETTO:+0100
TZNAME:Europe/Paris CET
END:STANDARD
BEGIN:STANDARD
DTSTART:20151025T020000
RDATE:20160327T030000
TZOFFSETFROM:+0200
TZOFFSETTO:+0100
TZNAME:Europe/Paris CET
END:STANDARD
BEGIN:STANDARD
DTSTART:20161030T020000
RDATE:20170326T030000
TZOFFSETFROM:+0200
TZOFFSETTO:+0100
TZNAME:Europe/Paris CET
END:STANDARD
BEGIN:STANDARD
DTSTART:20171029T020000
RDATE:20180325T030000
TZOFFSETFROM:+0200
TZOFFSETTO:+0100
TZNAME:Europe/Paris CET
END:STANDARD
BEGIN:STANDARD
DTSTART:20181028T020000
RDATE:20190331T030000
TZOFFSETFROM:+0200
TZOFFSETTO:+0100
TZNAME:Europe/Paris CET
END:STANDARD
BEGIN:STANDARD
DTSTART:20191027T020000
RDATE:20200329T030000
TZOFFSETFROM:+0200
TZOFFSETTO:+0100
TZNAME:Europe/Paris CET
END:STANDARD
BEGIN:STANDARD
DTSTART:20201025T020000
RDATE:20210328T030000
TZOFFSETFROM:+0200
TZOFFSETTO:+0100
TZNAME:Europe/Paris CET
END:STANDARD
BEGIN:STANDARD
DTSTART:20211031T020000
RDATE:20220327T030000
TZOFFSETFROM:+0200
TZOFFSETTO:+0100
TZNAME:Europe/Paris CET
END:STANDARD
BEGIN:STANDARD
DTSTART:20221030T020000
RDATE:20230326T030000
TZOFFSETFROM:+0200
TZOFFSETTO:+0100
TZNAME:Europe/Paris CET
END:STANDARD
BEGIN:STANDARD
DTSTART:20231029T020000
RDATE:20240331T030000
TZOFFSETFROM:+0200
TZOFFSETTO:+0100
TZNAME:Europe/Paris CET
END:STANDARD
BEGIN:STANDARD
DTSTART:20241027T020000
RDATE:20250330T030000
TZOFFSETFROM:+0200
TZOFFSETTO:+0100
TZNAME:Europe/Paris CET
END:STANDARD
BEGIN:STANDARD
DTSTART:20251026T020000
RDATE:20260329T030000
TZOFFSETFROM:+0200
TZOFFSETTO:+0100
TZNAME:Europe/Paris CET
END:STANDARD
BEGIN:STANDARD
DTSTART:20261025T020000
RDATE:20270328T030000
TZOFFSETFROM:+0200
TZOFFSETTO:+0100
TZNAME:Europe/Paris CET
END:STANDARD
BEGIN:DAYLIGHT
DTSTART:20140330T030000
RDATE:20141026T020000
TZOFFSETFROM:+0100
TZOFFSETTO:+0200
TZNAME:Europe/Paris CEST
END:DAYLIGHT
BEGIN:DAYLIGHT
DTSTART:20150329T030000
RDATE:20151025T020000
TZOFFSETFROM:+0100
TZOFFSETTO:+0200
TZNAME:Europe/Paris CEST
END:DAYLIGHT
BEGIN:DAYLIGHT
DTSTART:20160327T030000
RDATE:20161030T020000
TZOFFSETFROM:+0100
TZOFFSETTO:+0200
TZNAME:Europe/Paris CEST
END:DAYLIGHT
BEGIN:DAYLIGHT
DTSTART:20170326T030000
RDATE:20171029T020000
TZOFFSETFROM:+0100
TZOFFSETTO:+0200
TZNAME:Europe/Paris CEST
END:DAYLIGHT
BEGIN:DAYLIGHT
DTSTART:20180325T030000
RDATE:20181028T020000
TZOFFSETFROM:+0100
TZOFFSETTO:+0200
TZNAME:Europe/Paris CEST
END:DAYLIGHT
BEGIN:DAYLIGHT
DTSTART:20190331T030000
RDATE:20191027T020000
TZOFFSETFROM:+0100
TZOFFSETTO:+0200
TZNAME:Europe/Paris CEST
END:DAYLIGHT
BEGIN:DAYLIGHT
DTSTART:20200329T030000
RDATE:20201025T020000
TZOFFSETFROM:+0100
TZOFFSETTO:+0200
TZNAME:Europe/Paris CEST
END:DAYLIGHT
BEGIN:DAYLIGHT
DTSTART:20210328T030000
RDATE:20211031T020000
TZOFFSETFROM:+0100
TZOFFSETTO:+0200
TZNAME:Europe/Paris CEST
END:DAYLIGHT
BEGIN:DAYLIGHT
DTSTART:20220327T030000
RDATE:20221030T020000
TZOFFSETFROM:+0100
TZOFFSETTO:+0200
TZNAME:Europe/Paris CEST
END:DAYLIGHT
BEGIN:DAYLIGHT
DTSTART:20230326T030000
RDATE:20231029T020000
TZOFFSETFROM:+0100
TZOFFSETTO:+0200
TZNAME:Europe/Paris CEST
END:DAYLIGHT
BEGIN:DAYLIGHT
DTSTART:20240331T030000
RDATE:20241027T020000
TZOFFSETFROM:+0100
TZOFFSETTO:+0200
TZNAME:Europe/Paris CEST
END:DAYLIGHT
BEGIN:DAYLIGHT
DTSTART:20250330T030000
RDATE:20251026T020000
TZOFFSETFROM:+0100
TZOFFSETTO:+0200
TZNAME:Europe/Paris CEST
END:DAYLIGHT
BEGIN:DAYLIGHT
DTSTART:20260329T030000
RDATE:20261025T020000
TZOFFSETFROM:+0100
TZOFFSETTO:+0200
TZNAME:Europe/Paris CEST
END:DAYLIGHT
END:VTIMEZONE
BEGIN:VEVENT
UID:591ab93154cd5d870862a7d23db426cd
CATEGORIES:Circuit Lorraine Jeunes (alpin)
CREATED:20150114T175242
SUMMARY:CLJ Coupe du CDVS
URL;VALUE=URI:https://skivosges.net/agenda/a-venir/detailevenement/408/-/clj-coupe-du-cdv
 s?tmpl=component
DESCRIPTION:CLJ Coupe du CDVS \n(Coupe de Lorraine Jeunes)\n\nLieu : VENTRON\nPiste : T
 herese Leduc\nOrganisateur : CDVS (14024 LA BRESSAUDE SECTION SKI)\nTelecop
 ie : 0608855252\n\n \n\nInscriptions closes, tirage des dossards en cours\n
  - AMVF0000  Slalom (Coupe de Bronze) U12/U14 Filles\n  CLJ  U8etU10-U12etU
 14  Coupe du CDVS\n - AMVM0000  Slalom (Coupe de Bronze) U12/U14 Garçons\n 
  CLJ  U8etU10-U12etU14  Coupe du CDVS\n - AMVF0000  Slalom (Coupe de Bronze
 ) U8/U10 Filles\n  CLJ  U8etU10-U12etU14  Coupe du CDVS\n - AMVM0000  Slalo
 m (Coupe de Bronze) U8/U10 Garçons\n  CLJ  U8etU10-U12etU14  Coupe du CDVS 
 Cet évènement a été importé depuis :https://skivosges.net/agenda/a-venir/de
 tailevenement/408/-/clj-coupe-du-cdvs?tmpl=component (https://skivosges.net
 /agenda/a-venir/detailevenement/408/-/clj-coupe-du-cdvs?tmpl=component)
X-ALT-DESC;FMTTYPE=text/html:<strong>CLJ Coupe du CDVS</strong> <br /><i>(Coupe de Lorraine Jeunes)</i><
 br /><br />Lieu : VENTRON<br />Piste : Therese Leduc<br />Organisateur : CD
 VS <small>(14024 LA BRESSAUDE SECTION SKI)</small><br />Telecopie : 0608855
 252<br /><br /> <br /><br />Inscriptions closes, tirage des dossards en cou
 rs<ul type="disc"><li>AMVF0000  Slalom <nobr><i>(Coupe de Bronze)</i></nobr
 > <nobr>U12/U14</nobr> Filles<br />&nbsp;&nbsp;CLJ  U8etU10-U12etU14  Coupe
  du CDVS</li><li>AMVM0000  Slalom <nobr><i>(Coupe de Bronze)</i></nobr> <no
 br>U12/U14</nobr> Garçons<br />&nbsp;&nbsp;CLJ  U8etU10-U12etU14  Coupe du 
 CDVS</li><li>AMVF0000  Slalom <nobr><i>(Coupe de Bronze)</i></nobr> <nobr>U
 8/U10</nobr> Filles<br />&nbsp;&nbsp;CLJ  U8etU10-U12etU14  Coupe du CDVS</
 li><li>AMVM0000  Slalom <nobr><i>(Coupe de Bronze)</i></nobr> <nobr>U8/U10<
 /nobr> Garçons<br />&nbsp;&nbsp;CLJ  U8etU10-U12etU14  Coupe du CDVS</li></
 ul> <a href="https://skivosges.net/agenda/a-venir/detailevenement/408/-/clj
 -coupe-du-cdvs?tmpl=component">Cet évènement a été importé depuis :https://
 skivosges.net/agenda/a-venir/detailevenement/408/-/clj-coupe-du-cdvs?tmpl=c
 omponent</a>DTSTAMP:20260424T083700
DTSTART;TZID=Europe/Paris:20150118T080000
DTEND;TZID=Europe/Paris:20150118T170000
SEQUENCE:0
TRANSP:OPAQUE
END:VEVENT
END:VCALENDAR