BEGIN:VCALENDAR
VERSION:2.0
PRODID:-//jEvents 2.0 for Joomla//EN
CALSCALE:GREGORIAN
METHOD:PUBLISH
BEGIN:VTIMEZONE
TZID:Europe/Paris
BEGIN:STANDARD
DTSTART:20121122T100000
RDATE:20130331T030000
TZOFFSETFROM:+0200
TZOFFSETTO:+0100
TZNAME:Europe/Paris CET
END:STANDARD
BEGIN:STANDARD
DTSTART:20131027T020000
RDATE:20140330T030000
TZOFFSETFROM:+0200
TZOFFSETTO:+0100
TZNAME:Europe/Paris CET
END:STANDARD
BEGIN:STANDARD
DTSTART:20141026T020000
RDATE:20150329T030000
TZOFFSETFROM:+0200
TZOFFSETTO:+0100
TZNAME:Europe/Paris CET
END:STANDARD
BEGIN:STANDARD
DTSTART:20151025T020000
RDATE:20160327T030000
TZOFFSETFROM:+0200
TZOFFSETTO:+0100
TZNAME:Europe/Paris CET
END:STANDARD
BEGIN:STANDARD
DTSTART:20161030T020000
RDATE:20170326T030000
TZOFFSETFROM:+0200
TZOFFSETTO:+0100
TZNAME:Europe/Paris CET
END:STANDARD
BEGIN:STANDARD
DTSTART:20171029T020000
RDATE:20180325T030000
TZOFFSETFROM:+0200
TZOFFSETTO:+0100
TZNAME:Europe/Paris CET
END:STANDARD
BEGIN:STANDARD
DTSTART:20181028T020000
RDATE:20190331T030000
TZOFFSETFROM:+0200
TZOFFSETTO:+0100
TZNAME:Europe/Paris CET
END:STANDARD
BEGIN:STANDARD
DTSTART:20191027T020000
RDATE:20200329T030000
TZOFFSETFROM:+0200
TZOFFSETTO:+0100
TZNAME:Europe/Paris CET
END:STANDARD
BEGIN:STANDARD
DTSTART:20201025T020000
RDATE:20210328T030000
TZOFFSETFROM:+0200
TZOFFSETTO:+0100
TZNAME:Europe/Paris CET
END:STANDARD
BEGIN:STANDARD
DTSTART:20211031T020000
RDATE:20220327T030000
TZOFFSETFROM:+0200
TZOFFSETTO:+0100
TZNAME:Europe/Paris CET
END:STANDARD
BEGIN:STANDARD
DTSTART:20221030T020000
RDATE:20230326T030000
TZOFFSETFROM:+0200
TZOFFSETTO:+0100
TZNAME:Europe/Paris CET
END:STANDARD
BEGIN:STANDARD
DTSTART:20231029T020000
RDATE:20240331T030000
TZOFFSETFROM:+0200
TZOFFSETTO:+0100
TZNAME:Europe/Paris CET
END:STANDARD
BEGIN:STANDARD
DTSTART:20241027T020000
RDATE:20250330T030000
TZOFFSETFROM:+0200
TZOFFSETTO:+0100
TZNAME:Europe/Paris CET
END:STANDARD
BEGIN:STANDARD
DTSTART:20251026T020000
RDATE:20260329T030000
TZOFFSETFROM:+0200
TZOFFSETTO:+0100
TZNAME:Europe/Paris CET
END:STANDARD
BEGIN:STANDARD
DTSTART:20261025T020000
RDATE:20270328T030000
TZOFFSETFROM:+0200
TZOFFSETTO:+0100
TZNAME:Europe/Paris CET
END:STANDARD
BEGIN:DAYLIGHT
DTSTART:20130331T030000
RDATE:20131027T020000
TZOFFSETFROM:+0100
TZOFFSETTO:+0200
TZNAME:Europe/Paris CEST
END:DAYLIGHT
BEGIN:DAYLIGHT
DTSTART:20140330T030000
RDATE:20141026T020000
TZOFFSETFROM:+0100
TZOFFSETTO:+0200
TZNAME:Europe/Paris CEST
END:DAYLIGHT
BEGIN:DAYLIGHT
DTSTART:20150329T030000
RDATE:20151025T020000
TZOFFSETFROM:+0100
TZOFFSETTO:+0200
TZNAME:Europe/Paris CEST
END:DAYLIGHT
BEGIN:DAYLIGHT
DTSTART:20160327T030000
RDATE:20161030T020000
TZOFFSETFROM:+0100
TZOFFSETTO:+0200
TZNAME:Europe/Paris CEST
END:DAYLIGHT
BEGIN:DAYLIGHT
DTSTART:20170326T030000
RDATE:20171029T020000
TZOFFSETFROM:+0100
TZOFFSETTO:+0200
TZNAME:Europe/Paris CEST
END:DAYLIGHT
BEGIN:DAYLIGHT
DTSTART:20180325T030000
RDATE:20181028T020000
TZOFFSETFROM:+0100
TZOFFSETTO:+0200
TZNAME:Europe/Paris CEST
END:DAYLIGHT
BEGIN:DAYLIGHT
DTSTART:20190331T030000
RDATE:20191027T020000
TZOFFSETFROM:+0100
TZOFFSETTO:+0200
TZNAME:Europe/Paris CEST
END:DAYLIGHT
BEGIN:DAYLIGHT
DTSTART:20200329T030000
RDATE:20201025T020000
TZOFFSETFROM:+0100
TZOFFSETTO:+0200
TZNAME:Europe/Paris CEST
END:DAYLIGHT
BEGIN:DAYLIGHT
DTSTART:20210328T030000
RDATE:20211031T020000
TZOFFSETFROM:+0100
TZOFFSETTO:+0200
TZNAME:Europe/Paris CEST
END:DAYLIGHT
BEGIN:DAYLIGHT
DTSTART:20220327T030000
RDATE:20221030T020000
TZOFFSETFROM:+0100
TZOFFSETTO:+0200
TZNAME:Europe/Paris CEST
END:DAYLIGHT
BEGIN:DAYLIGHT
DTSTART:20230326T030000
RDATE:20231029T020000
TZOFFSETFROM:+0100
TZOFFSETTO:+0200
TZNAME:Europe/Paris CEST
END:DAYLIGHT
BEGIN:DAYLIGHT
DTSTART:20240331T030000
RDATE:20241027T020000
TZOFFSETFROM:+0100
TZOFFSETTO:+0200
TZNAME:Europe/Paris CEST
END:DAYLIGHT
BEGIN:DAYLIGHT
DTSTART:20250330T030000
RDATE:20251026T020000
TZOFFSETFROM:+0100
TZOFFSETTO:+0200
TZNAME:Europe/Paris CEST
END:DAYLIGHT
BEGIN:DAYLIGHT
DTSTART:20260329T030000
RDATE:20261025T020000
TZOFFSETFROM:+0100
TZOFFSETTO:+0200
TZNAME:Europe/Paris CEST
END:DAYLIGHT
END:VTIMEZONE
BEGIN:VEVENT
UID:b6360821022d777d47e08e22a25d48bb
CATEGORIES:Formation Officiels - Chronos - Gestionnaires
CREATED:20131030T180422
SUMMARY:Journée Technique Régionale (Sessions de Formation Initiales Juges -Matin-)
LOCATION:Gérardmer / Maison de la Montagne
URL;VALUE=URI:https://skivosges.net/agenda/a-venir/detailevenement/43/-/journee-technique
 -regionale-sessions-de-formation-initiales-juges-matin?tmpl=component
DESCRIPTION:Sessions de formations initiales Juges de Compétition (Alpin et Nordique) o
 rganisées dans le cadre de la Journée Technique Régionale.\n(Mais independa
 ntes des sessions de l'après-midi, dont la participation est facultative).\
 n(Informations et ordre du jour à venir...)\n\n\nHoraires : 10H00 à 12H\n\n
 \nATTENTION : l'emplacement est bien à Gérardmer et pas à La Bresse comme l
 es années précédentes.\nL'inscription la l'après midi est à réaliser sur ce
  formulaire : Journée Technique Régionale (y compris sessions de recyclages
 ) (index.php?option=com_jevents&amp;task=icalrepeat.detail&amp;evid=44&amp;
 Itemid=1&amp;year=2013&amp;month=11&amp;day=23&amp;title=journee-technique-
 regionale-y-compris-sessions-de-recyclages&amp;uid=466096ce876454f0a606259a
 1ad4efc4)\n\n\nRemarque :\nIl est fortement recommandé de vous identifier (
 /identification) sur le site avant de vous inscrire à un événement.\nLe fai
 t d'être inscrit et identifié sur skivosges permet d'avoir accès à vos insc
 riptions, de les modifier, voire les supprimer selon l'evenement.\n Cet évè
 nement a été importé depuis :https://skivosges.net/agenda/a-venir/detaileve
 nement/43/-/journee-technique-regionale-sessions-de-formation-initiales-jug
 es-matin?tmpl=component (https://skivosges.net/agenda/a-venir/detaileveneme
 nt/43/-/journee-technique-regionale-sessions-de-formation-initiales-juges-m
 atin?tmpl=component)
X-ALT-DESC;FMTTYPE=text/html:<p>Sessions de formations initiales Juges de Compétition (Alpin et Nordique
 ) organisées dans le cadre de la Journée Technique Régionale.</p><p>(Mais i
 ndependantes des sessions de l'après-midi, dont la participation est facult
 ative).</p><p><em>(Informations et ordre du jour à venir...)<br /><br /></e
 m></p><p>Horaires : 10H00 à 12H<br /><br /></p><p class="avertissement">ATT
 ENTION : l'emplacement est bien à Gérardmer et pas à La Bresse comme les an
 nées précédentes.</p><p>L'inscription la l'après midi est à réaliser sur ce
  formulaire : <a href="https://skivosges.net/index.php?option=com_jevents&t
 ask=icalrepeat.detail&evid=44&Itemid=1&year=2013&month=11&day=23&title=jour
 nee-technique-regionale-y-compris-sessions-de-recyclages&uid=466096ce876454
 f0a606259a1ad4efc4">Journée Technique Régionale (y compris sessions de recy
 clages)</a><br /><br /></p><p class="attention">Remarque :<br />Il est fort
 ement recommandé de <a href="https://skivosges.net/identification">vous ide
 ntifier</a> sur le site avant de vous inscrire à un événement.<br />Le fait
  d'être inscrit et identifié sur skivosges permet d'avoir accès à vos inscr
 iptions, de les modifier, voire les supprimer selon l'evenement.</p> <a hre
 f="https://skivosges.net/agenda/a-venir/detailevenement/43/-/journee-techni
 que-regionale-sessions-de-formation-initiales-juges-matin?tmpl=component">C
 et évènement a été importé depuis :https://skivosges.net/agenda/a-venir/det
 ailevenement/43/-/journee-technique-regionale-sessions-de-formation-initial
 es-juges-matin?tmpl=component</a>CONTACT:RegularLabs.EmailProtector.unCloak("ep_bf4f16a4");
DTSTAMP:20260424T073223
DTSTART;TZID=Europe/Paris:20131123T100000
DTEND;TZID=Europe/Paris:20131123T120000
SEQUENCE:0
TRANSP:OPAQUE
END:VEVENT
END:VCALENDAR