BEGIN:VCALENDAR
VERSION:2.0
PRODID:-//jEvents 2.0 for Joomla//EN
CALSCALE:GREGORIAN
METHOD:PUBLISH
BEGIN:VTIMEZONE
TZID:Europe/Paris
BEGIN:STANDARD
DTSTART:20141026T020000
RDATE:20150329T030000
TZOFFSETFROM:+0200
TZOFFSETTO:+0100
TZNAME:Europe/Paris CET
END:STANDARD
BEGIN:STANDARD
DTSTART:20151025T020000
RDATE:20160327T030000
TZOFFSETFROM:+0200
TZOFFSETTO:+0100
TZNAME:Europe/Paris CET
END:STANDARD
BEGIN:STANDARD
DTSTART:20161030T020000
RDATE:20170326T030000
TZOFFSETFROM:+0200
TZOFFSETTO:+0100
TZNAME:Europe/Paris CET
END:STANDARD
BEGIN:STANDARD
DTSTART:20171029T020000
RDATE:20180325T030000
TZOFFSETFROM:+0200
TZOFFSETTO:+0100
TZNAME:Europe/Paris CET
END:STANDARD
BEGIN:STANDARD
DTSTART:20181028T020000
RDATE:20190331T030000
TZOFFSETFROM:+0200
TZOFFSETTO:+0100
TZNAME:Europe/Paris CET
END:STANDARD
BEGIN:STANDARD
DTSTART:20191027T020000
RDATE:20200329T030000
TZOFFSETFROM:+0200
TZOFFSETTO:+0100
TZNAME:Europe/Paris CET
END:STANDARD
BEGIN:STANDARD
DTSTART:20201025T020000
RDATE:20210328T030000
TZOFFSETFROM:+0200
TZOFFSETTO:+0100
TZNAME:Europe/Paris CET
END:STANDARD
BEGIN:STANDARD
DTSTART:20211031T020000
RDATE:20220327T030000
TZOFFSETFROM:+0200
TZOFFSETTO:+0100
TZNAME:Europe/Paris CET
END:STANDARD
BEGIN:STANDARD
DTSTART:20221030T020000
RDATE:20230326T030000
TZOFFSETFROM:+0200
TZOFFSETTO:+0100
TZNAME:Europe/Paris CET
END:STANDARD
BEGIN:STANDARD
DTSTART:20231029T020000
RDATE:20240331T030000
TZOFFSETFROM:+0200
TZOFFSETTO:+0100
TZNAME:Europe/Paris CET
END:STANDARD
BEGIN:STANDARD
DTSTART:20241027T020000
RDATE:20250330T030000
TZOFFSETFROM:+0200
TZOFFSETTO:+0100
TZNAME:Europe/Paris CET
END:STANDARD
BEGIN:STANDARD
DTSTART:20251026T020000
RDATE:20260329T030000
TZOFFSETFROM:+0200
TZOFFSETTO:+0100
TZNAME:Europe/Paris CET
END:STANDARD
BEGIN:STANDARD
DTSTART:20261025T020000
RDATE:20270328T030000
TZOFFSETFROM:+0200
TZOFFSETTO:+0100
TZNAME:Europe/Paris CET
END:STANDARD
BEGIN:DAYLIGHT
DTSTART:20140704T000000
RDATE:20141026T020000
TZOFFSETFROM:+0100
TZOFFSETTO:+0200
TZNAME:Europe/Paris CEST
END:DAYLIGHT
BEGIN:DAYLIGHT
DTSTART:20150329T030000
RDATE:20151025T020000
TZOFFSETFROM:+0100
TZOFFSETTO:+0200
TZNAME:Europe/Paris CEST
END:DAYLIGHT
BEGIN:DAYLIGHT
DTSTART:20160327T030000
RDATE:20161030T020000
TZOFFSETFROM:+0100
TZOFFSETTO:+0200
TZNAME:Europe/Paris CEST
END:DAYLIGHT
BEGIN:DAYLIGHT
DTSTART:20170326T030000
RDATE:20171029T020000
TZOFFSETFROM:+0100
TZOFFSETTO:+0200
TZNAME:Europe/Paris CEST
END:DAYLIGHT
BEGIN:DAYLIGHT
DTSTART:20180325T030000
RDATE:20181028T020000
TZOFFSETFROM:+0100
TZOFFSETTO:+0200
TZNAME:Europe/Paris CEST
END:DAYLIGHT
BEGIN:DAYLIGHT
DTSTART:20190331T030000
RDATE:20191027T020000
TZOFFSETFROM:+0100
TZOFFSETTO:+0200
TZNAME:Europe/Paris CEST
END:DAYLIGHT
BEGIN:DAYLIGHT
DTSTART:20200329T030000
RDATE:20201025T020000
TZOFFSETFROM:+0100
TZOFFSETTO:+0200
TZNAME:Europe/Paris CEST
END:DAYLIGHT
BEGIN:DAYLIGHT
DTSTART:20210328T030000
RDATE:20211031T020000
TZOFFSETFROM:+0100
TZOFFSETTO:+0200
TZNAME:Europe/Paris CEST
END:DAYLIGHT
BEGIN:DAYLIGHT
DTSTART:20220327T030000
RDATE:20221030T020000
TZOFFSETFROM:+0100
TZOFFSETTO:+0200
TZNAME:Europe/Paris CEST
END:DAYLIGHT
BEGIN:DAYLIGHT
DTSTART:20230326T030000
RDATE:20231029T020000
TZOFFSETFROM:+0100
TZOFFSETTO:+0200
TZNAME:Europe/Paris CEST
END:DAYLIGHT
BEGIN:DAYLIGHT
DTSTART:20240331T030000
RDATE:20241027T020000
TZOFFSETFROM:+0100
TZOFFSETTO:+0200
TZNAME:Europe/Paris CEST
END:DAYLIGHT
BEGIN:DAYLIGHT
DTSTART:20250330T030000
RDATE:20251026T020000
TZOFFSETFROM:+0100
TZOFFSETTO:+0200
TZNAME:Europe/Paris CEST
END:DAYLIGHT
BEGIN:DAYLIGHT
DTSTART:20260329T030000
RDATE:20261025T020000
TZOFFSETFROM:+0100
TZOFFSETTO:+0200
TZNAME:Europe/Paris CEST
END:DAYLIGHT
END:VTIMEZONE
BEGIN:VEVENT
UID:a8928d49d81c76cfbcb55946d2a1ec34
CATEGORIES:Ski Loisir - Sorties CRMVS
CREATED:20150626T113413
SUMMARY:Course Promo : Ski Sur Herbe
URL;VALUE=URI:https://skivosges.net/agenda/a-venir/detailevenement/438/-/course-promo-ski
 -sur-herbe?tmpl=component
DESCRIPTION:<p>Dans le cadre de la Fête d'Eté du Champ du Feu qui se déroulera le diman
 che 5 juillet prochain, le Comité de Ski du Bas-Rhin organise une course Pr
 omo de ski sur Herbe ouverte aux "anciennes gloires", mais aussi à tous les
  compétiteurs ou skieurs loisirs détenteurs d'une licence Carte Neige qui d
 ésirent découvrir cette pratique.</p><p><a class="dropbtn" data-background=
 "#0E83CD" data-background-hover="#0e83cd" data-border-color="#357ebd" data-
 border-radius="0" data-border-style="none" data-border-width="0" data-color
 ="#ffffff" data-font-size="13" data-padding="6px 12px 6px 12" data-padding-
 bottom="6" data-padding-left="12" data-padding-right="12" data-padding-top=
 "6" data-text="Plus dinformations..." data-text-hover="#ffffff" href="index
 .php?option=com_content&view=article&id=5168&catid=70&Itemid=1213" id="btn_
 31228ebf-df82-5aad-7306-2ec1b0b05f8d" type="button">Plus dinformations...</
 a></p> <a href="https://skivosges.net/agenda/a-venir/detailevenement/438/-/
 course-promo-ski-sur-herbe?tmpl=component">Cet évènement a été importé depu
 is :https://skivosges.net/agenda/a-venir/detailevenement/438/-/course-promo
 -ski-sur-herbe?tmpl=component</a>
X-ALT-DESC;FMTTYPE=text/html:<p>Dans le cadre de la Fête d'Eté du Champ du Feu qui se déroulera le diman
 che 5 juillet prochain, le Comité de Ski du Bas-Rhin organise une course Pr
 omo de ski sur Herbe ouverte aux "anciennes gloires", mais aussi à tous les
  compétiteurs ou skieurs loisirs détenteurs d'une licence Carte Neige qui d
 ésirent découvrir cette pratique.</p><p><a class="dropbtn" data-background=
 "#0E83CD" data-background-hover="#0e83cd" data-border-color="#357ebd" data-
 border-radius="0" data-border-style="none" data-border-width="0" data-color
 ="#ffffff" data-font-size="13" data-padding="6px 12px 6px 12" data-padding-
 bottom="6" data-padding-left="12" data-padding-right="12" data-padding-top=
 "6" data-text="Plus dinformations..." data-text-hover="#ffffff" href="https
 ://skivosges.net/index.php?option=com_content&view=article&id=5168&catid=70
 &Itemid=1213" id="btn_31228ebf-df82-5aad-7306-2ec1b0b05f8d" type="button">P
 lus dinformations...</a></p> <a href="https://skivosges.net/agenda/a-venir/
 detailevenement/438/-/course-promo-ski-sur-herbe?tmpl=component">Cet évènem
 ent a été importé depuis :https://skivosges.net/agenda/a-venir/detailevenem
 ent/438/-/course-promo-ski-sur-herbe?tmpl=component</a>DTSTAMP:20260424T074015
DTSTART;TZID=Europe/Paris;VALUE=DATE:20150705
DTEND;TZID=Europe/Paris;VALUE=DATE:20150706
SEQUENCE:0
TRANSP:OPAQUE
END:VEVENT
END:VCALENDAR