BEGIN:VCALENDAR
VERSION:2.0
PRODID:-//jEvents 2.0 for Joomla//EN
CALSCALE:GREGORIAN
METHOD:PUBLISH
BEGIN:VTIMEZONE
TZID:Europe/Paris
BEGIN:STANDARD
DTSTART:20121122T140000
RDATE:20130331T030000
TZOFFSETFROM:+0200
TZOFFSETTO:+0100
TZNAME:Europe/Paris CET
END:STANDARD
BEGIN:STANDARD
DTSTART:20131027T020000
RDATE:20140330T030000
TZOFFSETFROM:+0200
TZOFFSETTO:+0100
TZNAME:Europe/Paris CET
END:STANDARD
BEGIN:STANDARD
DTSTART:20141026T020000
RDATE:20150329T030000
TZOFFSETFROM:+0200
TZOFFSETTO:+0100
TZNAME:Europe/Paris CET
END:STANDARD
BEGIN:STANDARD
DTSTART:20151025T020000
RDATE:20160327T030000
TZOFFSETFROM:+0200
TZOFFSETTO:+0100
TZNAME:Europe/Paris CET
END:STANDARD
BEGIN:STANDARD
DTSTART:20161030T020000
RDATE:20170326T030000
TZOFFSETFROM:+0200
TZOFFSETTO:+0100
TZNAME:Europe/Paris CET
END:STANDARD
BEGIN:STANDARD
DTSTART:20171029T020000
RDATE:20180325T030000
TZOFFSETFROM:+0200
TZOFFSETTO:+0100
TZNAME:Europe/Paris CET
END:STANDARD
BEGIN:STANDARD
DTSTART:20181028T020000
RDATE:20190331T030000
TZOFFSETFROM:+0200
TZOFFSETTO:+0100
TZNAME:Europe/Paris CET
END:STANDARD
BEGIN:STANDARD
DTSTART:20191027T020000
RDATE:20200329T030000
TZOFFSETFROM:+0200
TZOFFSETTO:+0100
TZNAME:Europe/Paris CET
END:STANDARD
BEGIN:STANDARD
DTSTART:20201025T020000
RDATE:20210328T030000
TZOFFSETFROM:+0200
TZOFFSETTO:+0100
TZNAME:Europe/Paris CET
END:STANDARD
BEGIN:STANDARD
DTSTART:20211031T020000
RDATE:20220327T030000
TZOFFSETFROM:+0200
TZOFFSETTO:+0100
TZNAME:Europe/Paris CET
END:STANDARD
BEGIN:STANDARD
DTSTART:20221030T020000
RDATE:20230326T030000
TZOFFSETFROM:+0200
TZOFFSETTO:+0100
TZNAME:Europe/Paris CET
END:STANDARD
BEGIN:STANDARD
DTSTART:20231029T020000
RDATE:20240331T030000
TZOFFSETFROM:+0200
TZOFFSETTO:+0100
TZNAME:Europe/Paris CET
END:STANDARD
BEGIN:STANDARD
DTSTART:20241027T020000
RDATE:20250330T030000
TZOFFSETFROM:+0200
TZOFFSETTO:+0100
TZNAME:Europe/Paris CET
END:STANDARD
BEGIN:STANDARD
DTSTART:20251026T020000
RDATE:20260329T030000
TZOFFSETFROM:+0200
TZOFFSETTO:+0100
TZNAME:Europe/Paris CET
END:STANDARD
BEGIN:STANDARD
DTSTART:20261025T020000
RDATE:20270328T030000
TZOFFSETFROM:+0200
TZOFFSETTO:+0100
TZNAME:Europe/Paris CET
END:STANDARD
BEGIN:DAYLIGHT
DTSTART:20130331T030000
RDATE:20131027T020000
TZOFFSETFROM:+0100
TZOFFSETTO:+0200
TZNAME:Europe/Paris CEST
END:DAYLIGHT
BEGIN:DAYLIGHT
DTSTART:20140330T030000
RDATE:20141026T020000
TZOFFSETFROM:+0100
TZOFFSETTO:+0200
TZNAME:Europe/Paris CEST
END:DAYLIGHT
BEGIN:DAYLIGHT
DTSTART:20150329T030000
RDATE:20151025T020000
TZOFFSETFROM:+0100
TZOFFSETTO:+0200
TZNAME:Europe/Paris CEST
END:DAYLIGHT
BEGIN:DAYLIGHT
DTSTART:20160327T030000
RDATE:20161030T020000
TZOFFSETFROM:+0100
TZOFFSETTO:+0200
TZNAME:Europe/Paris CEST
END:DAYLIGHT
BEGIN:DAYLIGHT
DTSTART:20170326T030000
RDATE:20171029T020000
TZOFFSETFROM:+0100
TZOFFSETTO:+0200
TZNAME:Europe/Paris CEST
END:DAYLIGHT
BEGIN:DAYLIGHT
DTSTART:20180325T030000
RDATE:20181028T020000
TZOFFSETFROM:+0100
TZOFFSETTO:+0200
TZNAME:Europe/Paris CEST
END:DAYLIGHT
BEGIN:DAYLIGHT
DTSTART:20190331T030000
RDATE:20191027T020000
TZOFFSETFROM:+0100
TZOFFSETTO:+0200
TZNAME:Europe/Paris CEST
END:DAYLIGHT
BEGIN:DAYLIGHT
DTSTART:20200329T030000
RDATE:20201025T020000
TZOFFSETFROM:+0100
TZOFFSETTO:+0200
TZNAME:Europe/Paris CEST
END:DAYLIGHT
BEGIN:DAYLIGHT
DTSTART:20210328T030000
RDATE:20211031T020000
TZOFFSETFROM:+0100
TZOFFSETTO:+0200
TZNAME:Europe/Paris CEST
END:DAYLIGHT
BEGIN:DAYLIGHT
DTSTART:20220327T030000
RDATE:20221030T020000
TZOFFSETFROM:+0100
TZOFFSETTO:+0200
TZNAME:Europe/Paris CEST
END:DAYLIGHT
BEGIN:DAYLIGHT
DTSTART:20230326T030000
RDATE:20231029T020000
TZOFFSETFROM:+0100
TZOFFSETTO:+0200
TZNAME:Europe/Paris CEST
END:DAYLIGHT
BEGIN:DAYLIGHT
DTSTART:20240331T030000
RDATE:20241027T020000
TZOFFSETFROM:+0100
TZOFFSETTO:+0200
TZNAME:Europe/Paris CEST
END:DAYLIGHT
BEGIN:DAYLIGHT
DTSTART:20250330T030000
RDATE:20251026T020000
TZOFFSETFROM:+0100
TZOFFSETTO:+0200
TZNAME:Europe/Paris CEST
END:DAYLIGHT
BEGIN:DAYLIGHT
DTSTART:20260329T030000
RDATE:20261025T020000
TZOFFSETFROM:+0100
TZOFFSETTO:+0200
TZNAME:Europe/Paris CEST
END:DAYLIGHT
END:VTIMEZONE
BEGIN:VEVENT
UID:466096ce876454f0a606259a1ad4efc4
CATEGORIES:Formation Officiels - Chronos - Gestionnaires
CREATED:20131030T180759
SUMMARY:Journée Technique Régionale (y compris sessions de recyclages)
LOCATION:Gérardmer / Hotel de Ville
URL;VALUE=URI:https://skivosges.net/agenda/a-venir/detailevenement/44/-/journee-technique
 -regionale-y-compris-sessions-de-recyclages?tmpl=component
DESCRIPTION:Informations et ordre du jour à venir\nEmplacement : Hotel de Ville de Géra
 rdmer (Salle d'Armes)\nHoraires prévisionnels : 14H00 à 16H-16H30 (Journée 
 Technique / recyclage Juge de Compétition Alpin ou Nordique)\nSuivra une se
 ssion de recyclage DT (Alpin ou Nordique), horaire prévisionnel final 17H30
 \n(Precisions sur les sessions seront demandées dans le formulaire d'inscri
 ption)\nATTENTION : l'emplacement est bien à Gérardmer et pas à La Bresse c
 omme les années précédentes.\nDes sessions de formation Juge de Compétition
  Alpin ou Nordique pour les nouveaux Candidats sont proposées le matin (Jou
 rnée Technique Régionale (Sessions de Formation Initiales Juges -Matin-) (i
 ndex.php?option=com_jevents&amp;task=icalrepeat.detail&amp;evid=43&amp;Item
 id=1&amp;year=2013&amp;month=11&amp;day=23&amp;title=journee-technique-regi
 onale-sessions-de-formation-initiales-juges-matin&amp;uid=b6360821022d777d4
 7e08e22a25d48bb))\nRemarque :\nIl est fortement recommandé de vous identifi
 er sur le site (index.php?option=com_users&amp;view=login&amp;Itemid=204) a
 vant de vous inscrire à un evenement.\nLe fait d'être inscrit et identifié 
 sur skivosges permet d'avoir accès à vos inscriptions, de les modifier, voi
 re les supprimer selon l'evenement.\n Cet évènement a été importé depuis :h
 ttps://skivosges.net/agenda/a-venir/detailevenement/44/-/journee-technique-
 regionale-y-compris-sessions-de-recyclages?tmpl=component (https://skivosge
 s.net/agenda/a-venir/detailevenement/44/-/journee-technique-regionale-y-com
 pris-sessions-de-recyclages?tmpl=component)
X-ALT-DESC;FMTTYPE=text/html:<p><em>Informations et ordre du jour à venir</em></p><p>Emplacement : Hotel
  de Ville de Gérardmer (Salle d'Armes)</p><p>Horaires prévisionnels : 14H00
  à 16H-16H30 (Journée Technique / recyclage Juge de Compétition Alpin ou No
 rdique)</p><p>Suivra une session de recyclage DT (Alpin ou Nordique), horai
 re prévisionnel final 17H30</p><p>(Precisions sur les sessions seront deman
 dées dans le formulaire d'inscription)</p><p class="avertissement">ATTENTIO
 N : l'emplacement est bien à Gérardmer et pas à La Bresse comme les années 
 précédentes.</p><p>Des sessions de formation Juge de Compétition Alpin ou N
 ordique pour les nouveaux Candidats sont proposées le matin (<a href="https
 ://skivosges.net/index.php?option=com_jevents&task=icalrepeat.detail&evid=4
 3&Itemid=1&year=2013&month=11&day=23&title=journee-technique-regionale-sess
 ions-de-formation-initiales-juges-matin&uid=b6360821022d777d47e08e22a25d48b
 b">Journée Technique Régionale (Sessions de Formation Initiales Juges -Mati
 n-)</a>)</p><p><em><span class="attention">Remarque :<br />Il est fortement
  recommandé de <a href="https://skivosges.net/index.php?option=com_users&vi
 ew=login&Itemid=204" target="_parent">vous identifier sur le site</a> avant
  de vous inscrire à un evenement.<br />Le fait d'être inscrit et identifié 
 sur skivosges permet d'avoir accès à vos inscriptions, de les modifier, voi
 re les supprimer selon l'evenement.</span></em></p> <a href="https://skivos
 ges.net/agenda/a-venir/detailevenement/44/-/journee-technique-regionale-y-c
 ompris-sessions-de-recyclages?tmpl=component">Cet évènement a été importé d
 epuis :https://skivosges.net/agenda/a-venir/detailevenement/44/-/journee-te
 chnique-regionale-y-compris-sessions-de-recyclages?tmpl=component</a>CONTACT:RegularLabs.EmailProtector.unCloak("ep_b09bf48f");
DTSTAMP:20260424T060625
DTSTART;TZID=Europe/Paris:20131123T140000
SEQUENCE:0
TRANSP:OPAQUE
END:VEVENT
END:VCALENDAR