BEGIN:VCALENDAR
VERSION:2.0
PRODID:-//jEvents 2.0 for Joomla//EN
CALSCALE:GREGORIAN
METHOD:PUBLISH
BEGIN:VTIMEZONE
TZID:Europe/Paris
BEGIN:STANDARD
DTSTART:20150225T080000
RDATE:20150329T030000
TZOFFSETFROM:+0200
TZOFFSETTO:+0100
TZNAME:Europe/Paris CET
END:STANDARD
BEGIN:STANDARD
DTSTART:20151025T020000
RDATE:20160327T030000
TZOFFSETFROM:+0200
TZOFFSETTO:+0100
TZNAME:Europe/Paris CET
END:STANDARD
BEGIN:STANDARD
DTSTART:20161030T020000
RDATE:20170326T030000
TZOFFSETFROM:+0200
TZOFFSETTO:+0100
TZNAME:Europe/Paris CET
END:STANDARD
BEGIN:STANDARD
DTSTART:20171029T020000
RDATE:20180325T030000
TZOFFSETFROM:+0200
TZOFFSETTO:+0100
TZNAME:Europe/Paris CET
END:STANDARD
BEGIN:STANDARD
DTSTART:20181028T020000
RDATE:20190331T030000
TZOFFSETFROM:+0200
TZOFFSETTO:+0100
TZNAME:Europe/Paris CET
END:STANDARD
BEGIN:STANDARD
DTSTART:20191027T020000
RDATE:20200329T030000
TZOFFSETFROM:+0200
TZOFFSETTO:+0100
TZNAME:Europe/Paris CET
END:STANDARD
BEGIN:STANDARD
DTSTART:20201025T020000
RDATE:20210328T030000
TZOFFSETFROM:+0200
TZOFFSETTO:+0100
TZNAME:Europe/Paris CET
END:STANDARD
BEGIN:STANDARD
DTSTART:20211031T020000
RDATE:20220327T030000
TZOFFSETFROM:+0200
TZOFFSETTO:+0100
TZNAME:Europe/Paris CET
END:STANDARD
BEGIN:STANDARD
DTSTART:20221030T020000
RDATE:20230326T030000
TZOFFSETFROM:+0200
TZOFFSETTO:+0100
TZNAME:Europe/Paris CET
END:STANDARD
BEGIN:STANDARD
DTSTART:20231029T020000
RDATE:20240331T030000
TZOFFSETFROM:+0200
TZOFFSETTO:+0100
TZNAME:Europe/Paris CET
END:STANDARD
BEGIN:STANDARD
DTSTART:20241027T020000
RDATE:20250330T030000
TZOFFSETFROM:+0200
TZOFFSETTO:+0100
TZNAME:Europe/Paris CET
END:STANDARD
BEGIN:STANDARD
DTSTART:20251026T020000
RDATE:20260329T030000
TZOFFSETFROM:+0200
TZOFFSETTO:+0100
TZNAME:Europe/Paris CET
END:STANDARD
BEGIN:STANDARD
DTSTART:20261025T020000
RDATE:20270328T030000
TZOFFSETFROM:+0200
TZOFFSETTO:+0100
TZNAME:Europe/Paris CET
END:STANDARD
BEGIN:DAYLIGHT
DTSTART:20150329T030000
RDATE:20151025T020000
TZOFFSETFROM:+0100
TZOFFSETTO:+0200
TZNAME:Europe/Paris CEST
END:DAYLIGHT
BEGIN:DAYLIGHT
DTSTART:20160327T030000
RDATE:20161030T020000
TZOFFSETFROM:+0100
TZOFFSETTO:+0200
TZNAME:Europe/Paris CEST
END:DAYLIGHT
BEGIN:DAYLIGHT
DTSTART:20170326T030000
RDATE:20171029T020000
TZOFFSETFROM:+0100
TZOFFSETTO:+0200
TZNAME:Europe/Paris CEST
END:DAYLIGHT
BEGIN:DAYLIGHT
DTSTART:20180325T030000
RDATE:20181028T020000
TZOFFSETFROM:+0100
TZOFFSETTO:+0200
TZNAME:Europe/Paris CEST
END:DAYLIGHT
BEGIN:DAYLIGHT
DTSTART:20190331T030000
RDATE:20191027T020000
TZOFFSETFROM:+0100
TZOFFSETTO:+0200
TZNAME:Europe/Paris CEST
END:DAYLIGHT
BEGIN:DAYLIGHT
DTSTART:20200329T030000
RDATE:20201025T020000
TZOFFSETFROM:+0100
TZOFFSETTO:+0200
TZNAME:Europe/Paris CEST
END:DAYLIGHT
BEGIN:DAYLIGHT
DTSTART:20210328T030000
RDATE:20211031T020000
TZOFFSETFROM:+0100
TZOFFSETTO:+0200
TZNAME:Europe/Paris CEST
END:DAYLIGHT
BEGIN:DAYLIGHT
DTSTART:20220327T030000
RDATE:20221030T020000
TZOFFSETFROM:+0100
TZOFFSETTO:+0200
TZNAME:Europe/Paris CEST
END:DAYLIGHT
BEGIN:DAYLIGHT
DTSTART:20230326T030000
RDATE:20231029T020000
TZOFFSETFROM:+0100
TZOFFSETTO:+0200
TZNAME:Europe/Paris CEST
END:DAYLIGHT
BEGIN:DAYLIGHT
DTSTART:20240331T030000
RDATE:20241027T020000
TZOFFSETFROM:+0100
TZOFFSETTO:+0200
TZNAME:Europe/Paris CEST
END:DAYLIGHT
BEGIN:DAYLIGHT
DTSTART:20250330T030000
RDATE:20251026T020000
TZOFFSETFROM:+0100
TZOFFSETTO:+0200
TZNAME:Europe/Paris CEST
END:DAYLIGHT
BEGIN:DAYLIGHT
DTSTART:20260329T030000
RDATE:20261025T020000
TZOFFSETFROM:+0100
TZOFFSETTO:+0200
TZNAME:Europe/Paris CEST
END:DAYLIGHT
END:VTIMEZONE
BEGIN:VEVENT
UID:8c42baae555343a4cd3f7331b2658b67
CATEGORIES:Opens et Promos (alpin)
CREATED:20151110T133952
SUMMARY:PROMO  U8 à Masters     Les Filles Font du Ski
URL;VALUE=URI:https://skivosges.net/agenda/a-venir/detailevenement/538/-/promo-u8-a-maste
 rs-les-filles-font-du-ski?tmpl=component
DESCRIPTION:PROMO  U8 à Masters     Les Filles Font du Ski\n\nLieu : MARKSTEIN\nEmail :
  RegularLabs.EmailProtector.unCloak("ep_dc3aecbe");\nTelecopie : 03 89 43 2
 5 50\n - AMVF0601  Slalom Geant U8/U10 Filles\n  PROMO  U8 à Masters     Le
 s Filles Font du Ski\n - AMVF0602  Slalom Geant U12 a U16 Filles\n  PROMO  
 U8 à Masters     Les Filles Font du Ski\n - AMVF0603  Slalom Geant U18 a Ma
 sters Dames\n  PROMO  U8 à Masters     Les Filles Font du Ski Cet évènement
  a été importé depuis :https://skivosges.net/agenda/a-venir/detailevenement
 /538/-/promo-u8-a-masters-les-filles-font-du-ski?tmpl=component (https://sk
 ivosges.net/agenda/a-venir/detailevenement/538/-/promo-u8-a-masters-les-fil
 les-font-du-ski?tmpl=component)
X-ALT-DESC;FMTTYPE=text/html:<strong>PROMO  U8 à Masters     Les Filles Font du Ski</strong><br /><br />
 Lieu : MARKSTEIN<br />Email : <!-- Cette adresse électronique est protégée 
 contre les robots spammeurs. --><span class="cloaked_email ep_dc3aecbe"><sp
 an data-ep-a="&#108;&#101;&#115;&#102;&#105;" data-ep-b=".&#102;&#114;"><sp
 an data-ep-a="l&#108;&#101;&#115;f" data-ep-b="&#114;&#97;&#110;&#103;&#101
 ;"><span data-ep-b="s&#107;i&#64;o" data-ep-a="&#111;&#110;t&#100;u"></span
 ></span></span></span><script>RegularLabs.EmailProtector.unCloak("ep_dc3aec
 be");</script><br />Telecopie : 03 89 43 25 50<ul type="disc"><li>AMVF0601 
  Slalom Geant <nobr>U8/U10</nobr> Filles<br />&nbsp;&nbsp;PROMO  U8 à Maste
 rs     Les Filles Font du Ski</li><li>AMVF0602  Slalom Geant <nobr>U12 a U1
 6</nobr> Filles<br />&nbsp;&nbsp;PROMO  U8 à Masters     Les Filles Font du
  Ski</li><li>AMVF0603  Slalom Geant <nobr>U18 a Masters</nobr> Dames<br />&
 nbsp;&nbsp;PROMO  U8 à Masters     Les Filles Font du Ski</li></ul> <a href
 ="https://skivosges.net/agenda/a-venir/detailevenement/538/-/promo-u8-a-mas
 ters-les-filles-font-du-ski?tmpl=component">Cet évènement a été importé dep
 uis :https://skivosges.net/agenda/a-venir/detailevenement/538/-/promo-u8-a-
 masters-les-filles-font-du-ski?tmpl=component</a>DTSTAMP:20260424T083659
DTSTART;TZID=Europe/Paris:20160226T080000
DTEND;TZID=Europe/Paris:20160226T170000
SEQUENCE:0
TRANSP:OPAQUE
END:VEVENT
END:VCALENDAR