BEGIN:VCALENDAR
VERSION:2.0
PRODID:-//jEvents 2.0 for Joomla//EN
CALSCALE:GREGORIAN
METHOD:PUBLISH
BEGIN:VTIMEZONE
TZID:Europe/Paris
BEGIN:STANDARD
DTSTART:20150227T080000
RDATE:20150329T030000
TZOFFSETFROM:+0200
TZOFFSETTO:+0100
TZNAME:Europe/Paris CET
END:STANDARD
BEGIN:STANDARD
DTSTART:20151025T020000
RDATE:20160327T030000
TZOFFSETFROM:+0200
TZOFFSETTO:+0100
TZNAME:Europe/Paris CET
END:STANDARD
BEGIN:STANDARD
DTSTART:20161030T020000
RDATE:20170326T030000
TZOFFSETFROM:+0200
TZOFFSETTO:+0100
TZNAME:Europe/Paris CET
END:STANDARD
BEGIN:STANDARD
DTSTART:20171029T020000
RDATE:20180325T030000
TZOFFSETFROM:+0200
TZOFFSETTO:+0100
TZNAME:Europe/Paris CET
END:STANDARD
BEGIN:STANDARD
DTSTART:20181028T020000
RDATE:20190331T030000
TZOFFSETFROM:+0200
TZOFFSETTO:+0100
TZNAME:Europe/Paris CET
END:STANDARD
BEGIN:STANDARD
DTSTART:20191027T020000
RDATE:20200329T030000
TZOFFSETFROM:+0200
TZOFFSETTO:+0100
TZNAME:Europe/Paris CET
END:STANDARD
BEGIN:STANDARD
DTSTART:20201025T020000
RDATE:20210328T030000
TZOFFSETFROM:+0200
TZOFFSETTO:+0100
TZNAME:Europe/Paris CET
END:STANDARD
BEGIN:STANDARD
DTSTART:20211031T020000
RDATE:20220327T030000
TZOFFSETFROM:+0200
TZOFFSETTO:+0100
TZNAME:Europe/Paris CET
END:STANDARD
BEGIN:STANDARD
DTSTART:20221030T020000
RDATE:20230326T030000
TZOFFSETFROM:+0200
TZOFFSETTO:+0100
TZNAME:Europe/Paris CET
END:STANDARD
BEGIN:STANDARD
DTSTART:20231029T020000
RDATE:20240331T030000
TZOFFSETFROM:+0200
TZOFFSETTO:+0100
TZNAME:Europe/Paris CET
END:STANDARD
BEGIN:STANDARD
DTSTART:20241027T020000
RDATE:20250330T030000
TZOFFSETFROM:+0200
TZOFFSETTO:+0100
TZNAME:Europe/Paris CET
END:STANDARD
BEGIN:STANDARD
DTSTART:20251026T020000
RDATE:20260329T030000
TZOFFSETFROM:+0200
TZOFFSETTO:+0100
TZNAME:Europe/Paris CET
END:STANDARD
BEGIN:STANDARD
DTSTART:20261025T020000
RDATE:20270328T030000
TZOFFSETFROM:+0200
TZOFFSETTO:+0100
TZNAME:Europe/Paris CET
END:STANDARD
BEGIN:DAYLIGHT
DTSTART:20150329T030000
RDATE:20151025T020000
TZOFFSETFROM:+0100
TZOFFSETTO:+0200
TZNAME:Europe/Paris CEST
END:DAYLIGHT
BEGIN:DAYLIGHT
DTSTART:20160327T030000
RDATE:20161030T020000
TZOFFSETFROM:+0100
TZOFFSETTO:+0200
TZNAME:Europe/Paris CEST
END:DAYLIGHT
BEGIN:DAYLIGHT
DTSTART:20170326T030000
RDATE:20171029T020000
TZOFFSETFROM:+0100
TZOFFSETTO:+0200
TZNAME:Europe/Paris CEST
END:DAYLIGHT
BEGIN:DAYLIGHT
DTSTART:20180325T030000
RDATE:20181028T020000
TZOFFSETFROM:+0100
TZOFFSETTO:+0200
TZNAME:Europe/Paris CEST
END:DAYLIGHT
BEGIN:DAYLIGHT
DTSTART:20190331T030000
RDATE:20191027T020000
TZOFFSETFROM:+0100
TZOFFSETTO:+0200
TZNAME:Europe/Paris CEST
END:DAYLIGHT
BEGIN:DAYLIGHT
DTSTART:20200329T030000
RDATE:20201025T020000
TZOFFSETFROM:+0100
TZOFFSETTO:+0200
TZNAME:Europe/Paris CEST
END:DAYLIGHT
BEGIN:DAYLIGHT
DTSTART:20210328T030000
RDATE:20211031T020000
TZOFFSETFROM:+0100
TZOFFSETTO:+0200
TZNAME:Europe/Paris CEST
END:DAYLIGHT
BEGIN:DAYLIGHT
DTSTART:20220327T030000
RDATE:20221030T020000
TZOFFSETFROM:+0100
TZOFFSETTO:+0200
TZNAME:Europe/Paris CEST
END:DAYLIGHT
BEGIN:DAYLIGHT
DTSTART:20230326T030000
RDATE:20231029T020000
TZOFFSETFROM:+0100
TZOFFSETTO:+0200
TZNAME:Europe/Paris CEST
END:DAYLIGHT
BEGIN:DAYLIGHT
DTSTART:20240331T030000
RDATE:20241027T020000
TZOFFSETFROM:+0100
TZOFFSETTO:+0200
TZNAME:Europe/Paris CEST
END:DAYLIGHT
BEGIN:DAYLIGHT
DTSTART:20250330T030000
RDATE:20251026T020000
TZOFFSETFROM:+0100
TZOFFSETTO:+0200
TZNAME:Europe/Paris CEST
END:DAYLIGHT
BEGIN:DAYLIGHT
DTSTART:20260329T030000
RDATE:20261025T020000
TZOFFSETFROM:+0100
TZOFFSETTO:+0200
TZNAME:Europe/Paris CEST
END:DAYLIGHT
END:VTIMEZONE
BEGIN:VEVENT
UID:ba6aada0a1128170343a91222768b8a3
CATEGORIES:Circuit Lorraine Adultes (alpin)
CREATED:20151110T133952
SUMMARY:CLA  U16 à Masters    Mémorial Michel Mangel
URL;VALUE=URI:https://skivosges.net/agenda/a-venir/detailevenement/541/-/cla-u16-a-master
 s-memorial-michel-mangel?tmpl=component
DESCRIPTION:CLA  U16 à Masters    Mémorial Michel Mangel \n(Coupe de Lorraine Adultes)\
 n\nLieu : ROUGE GAZON\nOrganisateur : SKIEURS DE ST MAURICE/MOSELLE (14063 
 SKIEURS DE ST MAURICE/MOSELLE)\nEmail : RegularLabs.EmailProtector.unCloak(
 "ep_c3756d48");\nTelecopie : 0389463728\n\nInscriptions closes, les listes 
 de départ sont visualisables sur ce site\n - AMVM0621  Slalom (Courses FFS)
  U16 a Masters Hommes\n  CLA  U16 à Masters    Mémorial Michel Mangel\n - A
 MVF0621  Slalom (Courses FFS) U16 a Masters Dames\n  CLA  U16 à Masters    
 Mémorial Michel Mangel Cet évènement a été importé depuis :https://skivosge
 s.net/agenda/a-venir/detailevenement/541/-/cla-u16-a-masters-memorial-miche
 l-mangel?tmpl=component
X-ALT-DESC;FMTTYPE=text/html:<strong>CLA  U16 à Masters    Mémorial Michel Mangel</strong> <br /><i>(Cou
 pe de Lorraine Adultes)</i><br /><br />Lieu : ROUGE GAZON<br />Organisateur
  : SKIEURS DE ST MAURICE/MOSELLE <small>(14063 SKIEURS DE ST MAURICE/MOSELL
 E)</small><br />Email : <!-- Cette adresse électronique est protégée contre
  les robots spammeurs. --><span class="cloaked_email ep_c3756d48"><span dat
 a-ep-b="&#111;&#46;&#102;&#114;" data-ep-a="&#97;&#115;&#112;tt"><span data
 -ep-a="&#45;&#115;&#107;&#105;&#46;" data-ep-b="&#97;n&#97;&#100;&#111;"><s
 pan data-ep-b="&#117;s&#101;&#64;&#119;" data-ep-a="&#109;&#117;&#108;h&#11
 1;"></span></span></span></span><script>RegularLabs.EmailProtector.unCloak(
 "ep_c3756d48");</script><br />Telecopie : 0389463728<br /><br />Inscription
 s closes, les listes de départ sont visualisables sur ce site<ul type="disc
 "><li>AMVM0621  Slalom <nobr><i>(Courses FFS)</i></nobr> <nobr>U16 a Master
 s</nobr> Hommes<br />&nbsp;&nbsp;CLA  U16 à Masters    Mémorial Michel Mang
 el</li><li>AMVF0621  Slalom <nobr><i>(Courses FFS)</i></nobr> <nobr>U16 a M
 asters</nobr> Dames<br />&nbsp;&nbsp;CLA  U16 à Masters    Mémorial Michel 
 Mangel</li></ul> <a href="https://skivosges.net/agenda/a-venir/detailevenem
 ent/541/-/cla-u16-a-masters-memorial-michel-mangel?tmpl=component">Cet évèn
 ement a été importé depuis :https://skivosges.net/agenda/a-venir/detaileven
 ement/541/-/cla-u16-a-masters-memorial-michel-mangel?tmpl=component</a>DTSTAMP:20260424T083706
DTSTART;TZID=Europe/Paris:20160228T080000
DTEND;TZID=Europe/Paris:20160228T170000
SEQUENCE:0
TRANSP:OPAQUE
END:VEVENT
END:VCALENDAR