BEGIN:VCALENDAR
VERSION:2.0
PRODID:-//jEvents 2.0 for Joomla//EN
CALSCALE:GREGORIAN
METHOD:PUBLISH
BEGIN:VTIMEZONE
TZID:Europe/Paris
BEGIN:STANDARD
DTSTART:20150305T080000
RDATE:20150329T030000
TZOFFSETFROM:+0200
TZOFFSETTO:+0100
TZNAME:Europe/Paris CET
END:STANDARD
BEGIN:STANDARD
DTSTART:20151025T020000
RDATE:20160327T030000
TZOFFSETFROM:+0200
TZOFFSETTO:+0100
TZNAME:Europe/Paris CET
END:STANDARD
BEGIN:STANDARD
DTSTART:20161030T020000
RDATE:20170326T030000
TZOFFSETFROM:+0200
TZOFFSETTO:+0100
TZNAME:Europe/Paris CET
END:STANDARD
BEGIN:STANDARD
DTSTART:20171029T020000
RDATE:20180325T030000
TZOFFSETFROM:+0200
TZOFFSETTO:+0100
TZNAME:Europe/Paris CET
END:STANDARD
BEGIN:STANDARD
DTSTART:20181028T020000
RDATE:20190331T030000
TZOFFSETFROM:+0200
TZOFFSETTO:+0100
TZNAME:Europe/Paris CET
END:STANDARD
BEGIN:STANDARD
DTSTART:20191027T020000
RDATE:20200329T030000
TZOFFSETFROM:+0200
TZOFFSETTO:+0100
TZNAME:Europe/Paris CET
END:STANDARD
BEGIN:STANDARD
DTSTART:20201025T020000
RDATE:20210328T030000
TZOFFSETFROM:+0200
TZOFFSETTO:+0100
TZNAME:Europe/Paris CET
END:STANDARD
BEGIN:STANDARD
DTSTART:20211031T020000
RDATE:20220327T030000
TZOFFSETFROM:+0200
TZOFFSETTO:+0100
TZNAME:Europe/Paris CET
END:STANDARD
BEGIN:STANDARD
DTSTART:20221030T020000
RDATE:20230326T030000
TZOFFSETFROM:+0200
TZOFFSETTO:+0100
TZNAME:Europe/Paris CET
END:STANDARD
BEGIN:STANDARD
DTSTART:20231029T020000
RDATE:20240331T030000
TZOFFSETFROM:+0200
TZOFFSETTO:+0100
TZNAME:Europe/Paris CET
END:STANDARD
BEGIN:STANDARD
DTSTART:20241027T020000
RDATE:20250330T030000
TZOFFSETFROM:+0200
TZOFFSETTO:+0100
TZNAME:Europe/Paris CET
END:STANDARD
BEGIN:STANDARD
DTSTART:20251026T020000
RDATE:20260329T030000
TZOFFSETFROM:+0200
TZOFFSETTO:+0100
TZNAME:Europe/Paris CET
END:STANDARD
BEGIN:STANDARD
DTSTART:20261025T020000
RDATE:20270328T030000
TZOFFSETFROM:+0200
TZOFFSETTO:+0100
TZNAME:Europe/Paris CET
END:STANDARD
BEGIN:DAYLIGHT
DTSTART:20150329T030000
RDATE:20151025T020000
TZOFFSETFROM:+0100
TZOFFSETTO:+0200
TZNAME:Europe/Paris CEST
END:DAYLIGHT
BEGIN:DAYLIGHT
DTSTART:20160327T030000
RDATE:20161030T020000
TZOFFSETFROM:+0100
TZOFFSETTO:+0200
TZNAME:Europe/Paris CEST
END:DAYLIGHT
BEGIN:DAYLIGHT
DTSTART:20170326T030000
RDATE:20171029T020000
TZOFFSETFROM:+0100
TZOFFSETTO:+0200
TZNAME:Europe/Paris CEST
END:DAYLIGHT
BEGIN:DAYLIGHT
DTSTART:20180325T030000
RDATE:20181028T020000
TZOFFSETFROM:+0100
TZOFFSETTO:+0200
TZNAME:Europe/Paris CEST
END:DAYLIGHT
BEGIN:DAYLIGHT
DTSTART:20190331T030000
RDATE:20191027T020000
TZOFFSETFROM:+0100
TZOFFSETTO:+0200
TZNAME:Europe/Paris CEST
END:DAYLIGHT
BEGIN:DAYLIGHT
DTSTART:20200329T030000
RDATE:20201025T020000
TZOFFSETFROM:+0100
TZOFFSETTO:+0200
TZNAME:Europe/Paris CEST
END:DAYLIGHT
BEGIN:DAYLIGHT
DTSTART:20210328T030000
RDATE:20211031T020000
TZOFFSETFROM:+0100
TZOFFSETTO:+0200
TZNAME:Europe/Paris CEST
END:DAYLIGHT
BEGIN:DAYLIGHT
DTSTART:20220327T030000
RDATE:20221030T020000
TZOFFSETFROM:+0100
TZOFFSETTO:+0200
TZNAME:Europe/Paris CEST
END:DAYLIGHT
BEGIN:DAYLIGHT
DTSTART:20230326T030000
RDATE:20231029T020000
TZOFFSETFROM:+0100
TZOFFSETTO:+0200
TZNAME:Europe/Paris CEST
END:DAYLIGHT
BEGIN:DAYLIGHT
DTSTART:20240331T030000
RDATE:20241027T020000
TZOFFSETFROM:+0100
TZOFFSETTO:+0200
TZNAME:Europe/Paris CEST
END:DAYLIGHT
BEGIN:DAYLIGHT
DTSTART:20250330T030000
RDATE:20251026T020000
TZOFFSETFROM:+0100
TZOFFSETTO:+0200
TZNAME:Europe/Paris CEST
END:DAYLIGHT
BEGIN:DAYLIGHT
DTSTART:20260329T030000
RDATE:20261025T020000
TZOFFSETFROM:+0100
TZOFFSETTO:+0200
TZNAME:Europe/Paris CEST
END:DAYLIGHT
END:VTIMEZONE
BEGIN:VEVENT
UID:be59f8f37d34fc0fb077a1f7d43a1ab1
CATEGORIES:Opens et Promos (alpin)
CREATED:20151110T133952
SUMMARY:PROMO  U8 à U16     Haribo Kids Snow Cup 2016 **REPORTE**
URL;VALUE=URI:https://skivosges.net/agenda/a-venir/detailevenement/549/-/promo-u8-a-u16-h
 aribo-kids-snow-cup-2016-reporte?tmpl=component
DESCRIPTION:PROMO  U8 à U16     Haribo Kids Snow Cup 2016 (Epreuve reportée)\n\nLieu : 
 MARKSTEIN\nOrganisateur : S.C VALLEE DE WESSERLING (14186 S.C VALLEE DE WES
 SERLING)\nEmail : RegularLabs.EmailProtector.unCloak("ep_f412c626");\nTelec
 opie : 03 89 82 78 08\n - AMVM0691  Slalom Geant U8/U10 Garçons\n  PROMO  U
 8 à U16     Haribo Kids Snow Cup 2016\n - AMVM0692  Slalom Geant U12 a U16 
 Garçons\n  PROMO  U8 à U16     Haribo Kids Snow Cup 2016\n - AMVF0691  Slal
 om Geant U8/U10 Filles\n  PROMO  U8 à U16     Haribo Kids Snow Cup 2016\n -
  AMVF0692  Slalom Geant U12 a U16 Filles\n  PROMO  U8 à U16     Haribo Kids
  Snow Cup 2016 Cet évènement a été importé depuis :https://skivosges.net/ag
 enda/a-venir/detailevenement/549/-/promo-u8-a-u16-haribo-kids-snow-cup-2016
 -reporte?tmpl=component
X-ALT-DESC;FMTTYPE=text/html:<strong>PROMO  U8 à U16     Haribo Kids Snow Cup 2016</strong> <font class=
 "attention4">(Epreuve reportée)</font><br /><br />Lieu : MARKSTEIN<br />Org
 anisateur : S.C VALLEE DE WESSERLING <small>(14186 S.C VALLEE DE WESSERLING
 )</small><br />Email : <!-- Cette adresse électronique est protégée contre 
 les robots spammeurs. --><span class="cloaked_email ep_f412c626"><span data
 -ep-a="sc&#118;w" data-ep-b="m"><span data-ep-a="e&#115;s&#101;" data-ep-b=
 "&#108;.c&#111;"><span data-ep-a="&#114;&#108;&#105;n" data-ep-b="&#103;&#6
 4;&#97;&#111;"></span></span></span></span><script>RegularLabs.EmailProtect
 or.unCloak("ep_f412c626");</script><br />Telecopie : 03 89 82 78 08<ul type
 ="disc"><li>AMVM0691  Slalom Geant <nobr>U8/U10</nobr> Garçons<br />&nbsp;&
 nbsp;PROMO  U8 à U16     Haribo Kids Snow Cup 2016</li><li>AMVM0692  Slalom
  Geant <nobr>U12 a U16</nobr> Garçons<br />&nbsp;&nbsp;PROMO  U8 à U16     
 Haribo Kids Snow Cup 2016</li><li>AMVF0691  Slalom Geant <nobr>U8/U10</nobr
 > Filles<br />&nbsp;&nbsp;PROMO  U8 à U16     Haribo Kids Snow Cup 2016</li
 ><li>AMVF0692  Slalom Geant <nobr>U12 a U16</nobr> Filles<br />&nbsp;&nbsp;
 PROMO  U8 à U16     Haribo Kids Snow Cup 2016</li></ul> <a href="https://sk
 ivosges.net/agenda/a-venir/detailevenement/549/-/promo-u8-a-u16-haribo-kids
 -snow-cup-2016-reporte?tmpl=component">Cet évènement a été importé depuis :
 https://skivosges.net/agenda/a-venir/detailevenement/549/-/promo-u8-a-u16-h
 aribo-kids-snow-cup-2016-reporte?tmpl=component</a>DTSTAMP:20260424T083700
DTSTART;TZID=Europe/Paris:20160305T080000
DTEND;TZID=Europe/Paris:20160305T170000
SEQUENCE:0
TRANSP:OPAQUE
END:VEVENT
END:VCALENDAR