BEGIN:VCALENDAR
VERSION:2.0
PRODID:-//jEvents 2.0 for Joomla//EN
CALSCALE:GREGORIAN
METHOD:PUBLISH
BEGIN:VTIMEZONE
TZID:Europe/Paris
BEGIN:STANDARD
DTSTART:20150305T080000
RDATE:20150329T030000
TZOFFSETFROM:+0200
TZOFFSETTO:+0100
TZNAME:Europe/Paris CET
END:STANDARD
BEGIN:STANDARD
DTSTART:20151025T020000
RDATE:20160327T030000
TZOFFSETFROM:+0200
TZOFFSETTO:+0100
TZNAME:Europe/Paris CET
END:STANDARD
BEGIN:STANDARD
DTSTART:20161030T020000
RDATE:20170326T030000
TZOFFSETFROM:+0200
TZOFFSETTO:+0100
TZNAME:Europe/Paris CET
END:STANDARD
BEGIN:STANDARD
DTSTART:20171029T020000
RDATE:20180325T030000
TZOFFSETFROM:+0200
TZOFFSETTO:+0100
TZNAME:Europe/Paris CET
END:STANDARD
BEGIN:STANDARD
DTSTART:20181028T020000
RDATE:20190331T030000
TZOFFSETFROM:+0200
TZOFFSETTO:+0100
TZNAME:Europe/Paris CET
END:STANDARD
BEGIN:STANDARD
DTSTART:20191027T020000
RDATE:20200329T030000
TZOFFSETFROM:+0200
TZOFFSETTO:+0100
TZNAME:Europe/Paris CET
END:STANDARD
BEGIN:STANDARD
DTSTART:20201025T020000
RDATE:20210328T030000
TZOFFSETFROM:+0200
TZOFFSETTO:+0100
TZNAME:Europe/Paris CET
END:STANDARD
BEGIN:STANDARD
DTSTART:20211031T020000
RDATE:20220327T030000
TZOFFSETFROM:+0200
TZOFFSETTO:+0100
TZNAME:Europe/Paris CET
END:STANDARD
BEGIN:STANDARD
DTSTART:20221030T020000
RDATE:20230326T030000
TZOFFSETFROM:+0200
TZOFFSETTO:+0100
TZNAME:Europe/Paris CET
END:STANDARD
BEGIN:STANDARD
DTSTART:20231029T020000
RDATE:20240331T030000
TZOFFSETFROM:+0200
TZOFFSETTO:+0100
TZNAME:Europe/Paris CET
END:STANDARD
BEGIN:STANDARD
DTSTART:20241027T020000
RDATE:20250330T030000
TZOFFSETFROM:+0200
TZOFFSETTO:+0100
TZNAME:Europe/Paris CET
END:STANDARD
BEGIN:STANDARD
DTSTART:20251026T020000
RDATE:20260329T030000
TZOFFSETFROM:+0200
TZOFFSETTO:+0100
TZNAME:Europe/Paris CET
END:STANDARD
BEGIN:STANDARD
DTSTART:20261025T020000
RDATE:20270328T030000
TZOFFSETFROM:+0200
TZOFFSETTO:+0100
TZNAME:Europe/Paris CET
END:STANDARD
BEGIN:DAYLIGHT
DTSTART:20150329T030000
RDATE:20151025T020000
TZOFFSETFROM:+0100
TZOFFSETTO:+0200
TZNAME:Europe/Paris CEST
END:DAYLIGHT
BEGIN:DAYLIGHT
DTSTART:20160327T030000
RDATE:20161030T020000
TZOFFSETFROM:+0100
TZOFFSETTO:+0200
TZNAME:Europe/Paris CEST
END:DAYLIGHT
BEGIN:DAYLIGHT
DTSTART:20170326T030000
RDATE:20171029T020000
TZOFFSETFROM:+0100
TZOFFSETTO:+0200
TZNAME:Europe/Paris CEST
END:DAYLIGHT
BEGIN:DAYLIGHT
DTSTART:20180325T030000
RDATE:20181028T020000
TZOFFSETFROM:+0100
TZOFFSETTO:+0200
TZNAME:Europe/Paris CEST
END:DAYLIGHT
BEGIN:DAYLIGHT
DTSTART:20190331T030000
RDATE:20191027T020000
TZOFFSETFROM:+0100
TZOFFSETTO:+0200
TZNAME:Europe/Paris CEST
END:DAYLIGHT
BEGIN:DAYLIGHT
DTSTART:20200329T030000
RDATE:20201025T020000
TZOFFSETFROM:+0100
TZOFFSETTO:+0200
TZNAME:Europe/Paris CEST
END:DAYLIGHT
BEGIN:DAYLIGHT
DTSTART:20210328T030000
RDATE:20211031T020000
TZOFFSETFROM:+0100
TZOFFSETTO:+0200
TZNAME:Europe/Paris CEST
END:DAYLIGHT
BEGIN:DAYLIGHT
DTSTART:20220327T030000
RDATE:20221030T020000
TZOFFSETFROM:+0100
TZOFFSETTO:+0200
TZNAME:Europe/Paris CEST
END:DAYLIGHT
BEGIN:DAYLIGHT
DTSTART:20230326T030000
RDATE:20231029T020000
TZOFFSETFROM:+0100
TZOFFSETTO:+0200
TZNAME:Europe/Paris CEST
END:DAYLIGHT
BEGIN:DAYLIGHT
DTSTART:20240331T030000
RDATE:20241027T020000
TZOFFSETFROM:+0100
TZOFFSETTO:+0200
TZNAME:Europe/Paris CEST
END:DAYLIGHT
BEGIN:DAYLIGHT
DTSTART:20250330T030000
RDATE:20251026T020000
TZOFFSETFROM:+0100
TZOFFSETTO:+0200
TZNAME:Europe/Paris CEST
END:DAYLIGHT
BEGIN:DAYLIGHT
DTSTART:20260329T030000
RDATE:20261025T020000
TZOFFSETFROM:+0100
TZOFFSETTO:+0200
TZNAME:Europe/Paris CEST
END:DAYLIGHT
END:VTIMEZONE
BEGIN:VEVENT
UID:2733d5a9f392a6e2970f8bf7b66e432b
CATEGORIES:Opens et Promos (alpin)
CREATED:20151110T133952
SUMMARY:PROMO  U8 à U21    Promo'J Crédit Mutuel **REPORTE**
URL;VALUE=URI:https://skivosges.net/agenda/a-venir/detailevenement/550/-/promo-u8-a-u21-p
 romoj-credit-mutuel-reporte?tmpl=component
DESCRIPTION:PROMO  U8 à U21    Promo'J Crédit Mutuel (Epreuve reportée)\n\nLieu : MARKS
 TEIN\nOrganisateur : S.C VALLEE DE WESSERLING (14186 S.C VALLEE DE WESSERLI
 NG)\nEmail : RegularLabs.EmailProtector.unCloak("ep_e0bf1977");\nTelecopie 
 : 03 89 82 78 08\n - AMVM0671  Slalom Geant U8/U10 Garçons\n  PROMO  U8 à U
 21    Promo'J Crédit Mutuel\n - AMVM0672  Slalom Geant U12/U14 Garçons\n  P
 ROMO  U8 à U21    Promo'J Crédit Mutuel\n - AMVM0673  Slalom Geant U16 a U2
 1 Hommes\n  PROMO  U8 à U21    Promo'J Crédit Mutuel\n - AMVF0671  Slalom G
 eant U8/U10 Filles\n  PROMO  U8 à U21    Promo'J Crédit Mutuel\n - AMVF0672
   Slalom Geant U12/U14 Filles\n  PROMO  U8 à U21    Promo'J Crédit Mutuel\n
  - AMVF0673  Slalom Geant U16 a U21 Dames\n  PROMO  U8 à U21    Promo'J Cré
 dit Mutuel Cet évènement a été importé depuis :https://skivosges.net/agenda
 /a-venir/detailevenement/550/-/promo-u8-a-u21-promoj-credit-mutuel-reporte?
 tmpl=component
X-ALT-DESC;FMTTYPE=text/html:<strong>PROMO  U8 à U21    Promo'J Crédit Mutuel</strong> <font class="atte
 ntion4">(Epreuve reportée)</font><br /><br />Lieu : MARKSTEIN<br />Organisa
 teur : S.C VALLEE DE WESSERLING <small>(14186 S.C VALLEE DE WESSERLING)</sm
 all><br />Email : <!-- Cette adresse électronique est protégée contre les r
 obots spammeurs. --><span class="cloaked_email ep_e0bf1977"><span data-ep-a
 ="&#115;&#99;&#118;w" data-ep-b="&#109;"><span data-ep-a="&#101;s&#115;&#10
 1;" data-ep-b="l&#46;co"><span data-ep-a="rlin" data-ep-b="g&#64;&#97;&#111
 ;"></span></span></span></span><script>RegularLabs.EmailProtector.unCloak("
 ep_e0bf1977");</script><br />Telecopie : 03 89 82 78 08<ul type="disc"><li>
 AMVM0671  Slalom Geant <nobr>U8/U10</nobr> Garçons<br />&nbsp;&nbsp;PROMO  
 U8 à U21    Promo'J Crédit Mutuel</li><li>AMVM0672  Slalom Geant <nobr>U12/
 U14</nobr> Garçons<br />&nbsp;&nbsp;PROMO  U8 à U21    Promo'J Crédit Mutue
 l</li><li>AMVM0673  Slalom Geant <nobr>U16 a U21</nobr> Hommes<br />&nbsp;&
 nbsp;PROMO  U8 à U21    Promo'J Crédit Mutuel</li><li>AMVF0671  Slalom Gean
 t <nobr>U8/U10</nobr> Filles<br />&nbsp;&nbsp;PROMO  U8 à U21    Promo'J Cr
 édit Mutuel</li><li>AMVF0672  Slalom Geant <nobr>U12/U14</nobr> Filles<br /
 >&nbsp;&nbsp;PROMO  U8 à U21    Promo'J Crédit Mutuel</li><li>AMVF0673  Sla
 lom Geant <nobr>U16 a U21</nobr> Dames<br />&nbsp;&nbsp;PROMO  U8 à U21    
 Promo'J Crédit Mutuel</li></ul> <a href="https://skivosges.net/agenda/a-ven
 ir/detailevenement/550/-/promo-u8-a-u21-promoj-credit-mutuel-reporte?tmpl=c
 omponent">Cet évènement a été importé depuis :https://skivosges.net/agenda/
 a-venir/detailevenement/550/-/promo-u8-a-u21-promoj-credit-mutuel-reporte?t
 mpl=component</a>DTSTAMP:20260424T073936
DTSTART;TZID=Europe/Paris:20160305T080000
DTEND;TZID=Europe/Paris:20160305T170000
SEQUENCE:0
TRANSP:OPAQUE
END:VEVENT
END:VCALENDAR