BEGIN:VCALENDAR
VERSION:2.0
PRODID:-//jEvents 2.0 for Joomla//EN
CALSCALE:GREGORIAN
METHOD:PUBLISH
BEGIN:VTIMEZONE
TZID:Europe/Paris
BEGIN:STANDARD
DTSTART:20150306T080000
RDATE:20150329T030000
TZOFFSETFROM:+0200
TZOFFSETTO:+0100
TZNAME:Europe/Paris CET
END:STANDARD
BEGIN:STANDARD
DTSTART:20151025T020000
RDATE:20160327T030000
TZOFFSETFROM:+0200
TZOFFSETTO:+0100
TZNAME:Europe/Paris CET
END:STANDARD
BEGIN:STANDARD
DTSTART:20161030T020000
RDATE:20170326T030000
TZOFFSETFROM:+0200
TZOFFSETTO:+0100
TZNAME:Europe/Paris CET
END:STANDARD
BEGIN:STANDARD
DTSTART:20171029T020000
RDATE:20180325T030000
TZOFFSETFROM:+0200
TZOFFSETTO:+0100
TZNAME:Europe/Paris CET
END:STANDARD
BEGIN:STANDARD
DTSTART:20181028T020000
RDATE:20190331T030000
TZOFFSETFROM:+0200
TZOFFSETTO:+0100
TZNAME:Europe/Paris CET
END:STANDARD
BEGIN:STANDARD
DTSTART:20191027T020000
RDATE:20200329T030000
TZOFFSETFROM:+0200
TZOFFSETTO:+0100
TZNAME:Europe/Paris CET
END:STANDARD
BEGIN:STANDARD
DTSTART:20201025T020000
RDATE:20210328T030000
TZOFFSETFROM:+0200
TZOFFSETTO:+0100
TZNAME:Europe/Paris CET
END:STANDARD
BEGIN:STANDARD
DTSTART:20211031T020000
RDATE:20220327T030000
TZOFFSETFROM:+0200
TZOFFSETTO:+0100
TZNAME:Europe/Paris CET
END:STANDARD
BEGIN:STANDARD
DTSTART:20221030T020000
RDATE:20230326T030000
TZOFFSETFROM:+0200
TZOFFSETTO:+0100
TZNAME:Europe/Paris CET
END:STANDARD
BEGIN:STANDARD
DTSTART:20231029T020000
RDATE:20240331T030000
TZOFFSETFROM:+0200
TZOFFSETTO:+0100
TZNAME:Europe/Paris CET
END:STANDARD
BEGIN:STANDARD
DTSTART:20241027T020000
RDATE:20250330T030000
TZOFFSETFROM:+0200
TZOFFSETTO:+0100
TZNAME:Europe/Paris CET
END:STANDARD
BEGIN:STANDARD
DTSTART:20251026T020000
RDATE:20260329T030000
TZOFFSETFROM:+0200
TZOFFSETTO:+0100
TZNAME:Europe/Paris CET
END:STANDARD
BEGIN:STANDARD
DTSTART:20261025T020000
RDATE:20270328T030000
TZOFFSETFROM:+0200
TZOFFSETTO:+0100
TZNAME:Europe/Paris CET
END:STANDARD
BEGIN:DAYLIGHT
DTSTART:20150329T030000
RDATE:20151025T020000
TZOFFSETFROM:+0100
TZOFFSETTO:+0200
TZNAME:Europe/Paris CEST
END:DAYLIGHT
BEGIN:DAYLIGHT
DTSTART:20160327T030000
RDATE:20161030T020000
TZOFFSETFROM:+0100
TZOFFSETTO:+0200
TZNAME:Europe/Paris CEST
END:DAYLIGHT
BEGIN:DAYLIGHT
DTSTART:20170326T030000
RDATE:20171029T020000
TZOFFSETFROM:+0100
TZOFFSETTO:+0200
TZNAME:Europe/Paris CEST
END:DAYLIGHT
BEGIN:DAYLIGHT
DTSTART:20180325T030000
RDATE:20181028T020000
TZOFFSETFROM:+0100
TZOFFSETTO:+0200
TZNAME:Europe/Paris CEST
END:DAYLIGHT
BEGIN:DAYLIGHT
DTSTART:20190331T030000
RDATE:20191027T020000
TZOFFSETFROM:+0100
TZOFFSETTO:+0200
TZNAME:Europe/Paris CEST
END:DAYLIGHT
BEGIN:DAYLIGHT
DTSTART:20200329T030000
RDATE:20201025T020000
TZOFFSETFROM:+0100
TZOFFSETTO:+0200
TZNAME:Europe/Paris CEST
END:DAYLIGHT
BEGIN:DAYLIGHT
DTSTART:20210328T030000
RDATE:20211031T020000
TZOFFSETFROM:+0100
TZOFFSETTO:+0200
TZNAME:Europe/Paris CEST
END:DAYLIGHT
BEGIN:DAYLIGHT
DTSTART:20220327T030000
RDATE:20221030T020000
TZOFFSETFROM:+0100
TZOFFSETTO:+0200
TZNAME:Europe/Paris CEST
END:DAYLIGHT
BEGIN:DAYLIGHT
DTSTART:20230326T030000
RDATE:20231029T020000
TZOFFSETFROM:+0100
TZOFFSETTO:+0200
TZNAME:Europe/Paris CEST
END:DAYLIGHT
BEGIN:DAYLIGHT
DTSTART:20240331T030000
RDATE:20241027T020000
TZOFFSETFROM:+0100
TZOFFSETTO:+0200
TZNAME:Europe/Paris CEST
END:DAYLIGHT
BEGIN:DAYLIGHT
DTSTART:20250330T030000
RDATE:20251026T020000
TZOFFSETFROM:+0100
TZOFFSETTO:+0200
TZNAME:Europe/Paris CEST
END:DAYLIGHT
BEGIN:DAYLIGHT
DTSTART:20260329T030000
RDATE:20261025T020000
TZOFFSETFROM:+0100
TZOFFSETTO:+0200
TZNAME:Europe/Paris CEST
END:DAYLIGHT
END:VTIMEZONE
BEGIN:VEVENT
UID:0e0774ac9b6c7c7ce5223351ca647d49
CATEGORIES:Circuit Lorraine Adultes (alpin)
CREATED:20151110T133952
SUMMARY:CLA  U16 à Masters    Prix DECOBOIS
URL;VALUE=URI:https://skivosges.net/agenda/a-venir/detailevenement/554/-/cla-u16-a-master
 s-prix-decobois?tmpl=component
DESCRIPTION:CLA  U16 à Masters    Prix DECOBOIS \n(Coupe de Lorraine Adultes)\n\nLieu :
  FRERE JOSEPH\nOrganisateur : U.S VENTRON (14083 U.S VENTRON)\nEmail : Regu
 larLabs.EmailProtector.unCloak("ep_a56f1536");\n\nPériode d´inscription éte
 ndue jusqu´au samedi 5 mars à 15h00.\n\nInscriptions closes, les listes de 
 départ sont visualisables sur ce site\n - AMVM0731  Slalom (Courses FFS) U1
 6 a Masters Hommes\n  CLA  U16 à Masters    Prix DECOBOIS\n - AMVF0731  Sla
 lom (Courses FFS) U16 a Masters Dames\n  CLA  U16 à Masters    Prix DECOBOI
 S Cet évènement a été importé depuis :https://skivosges.net/agenda/a-venir/
 detailevenement/554/-/cla-u16-a-masters-prix-decobois?tmpl=component
X-ALT-DESC;FMTTYPE=text/html:<strong>CLA  U16 à Masters    Prix DECOBOIS</strong> <br /><i>(Coupe de Lor
 raine Adultes)</i><br /><br />Lieu : FRERE JOSEPH<br />Organisateur : U.S V
 ENTRON <small>(14083 U.S VENTRON)</small><br />Email : <!-- Cette adresse é
 lectronique est protégée contre les robots spammeurs. --><span class="cloak
 ed_email ep_a56f1536"><span data-ep-b="&#108;&#101;.f&#114;" data-ep-a="&#1
 15;t&#101;&#112;&#104;"><span data-ep-b="r&#105;&#99;&#97;&#98;" data-ep-a=
 "&#97;&#110;e&#46;&#103;"><span data-ep-b="&#64;&#110;u&#109;&#101;" data-e
 p-a="i&#103;&#97;nt"></span></span></span></span><script>RegularLabs.EmailP
 rotector.unCloak("ep_a56f1536");</script><br /><br />Période d´inscription 
 étendue jusqu´au samedi 5 mars à 15h00.<br /><br />Inscriptions closes, les
  listes de départ sont visualisables sur ce site<ul type="disc"><li>AMVM073
 1  Slalom <nobr><i>(Courses FFS)</i></nobr> <nobr>U16 a Masters</nobr> Homm
 es<br />&nbsp;&nbsp;CLA  U16 à Masters    Prix DECOBOIS</li><li>AMVF0731  S
 lalom <nobr><i>(Courses FFS)</i></nobr> <nobr>U16 a Masters</nobr> Dames<br
  />&nbsp;&nbsp;CLA  U16 à Masters    Prix DECOBOIS</li></ul> <a href="https
 ://skivosges.net/agenda/a-venir/detailevenement/554/-/cla-u16-a-masters-pri
 x-decobois?tmpl=component">Cet évènement a été importé depuis :https://skiv
 osges.net/agenda/a-venir/detailevenement/554/-/cla-u16-a-masters-prix-decob
 ois?tmpl=component</a>DTSTAMP:20260424T083714
DTSTART;TZID=Europe/Paris:20160306T080000
DTEND;TZID=Europe/Paris:20160306T170000
SEQUENCE:0
TRANSP:OPAQUE
END:VEVENT
END:VCALENDAR