BEGIN:VCALENDAR
VERSION:2.0
PRODID:-//jEvents 2.0 for Joomla//EN
CALSCALE:GREGORIAN
METHOD:PUBLISH
BEGIN:VTIMEZONE
TZID:Europe/Paris
BEGIN:STANDARD
DTSTART:20150306T080000
RDATE:20150329T030000
TZOFFSETFROM:+0200
TZOFFSETTO:+0100
TZNAME:Europe/Paris CET
END:STANDARD
BEGIN:STANDARD
DTSTART:20151025T020000
RDATE:20160327T030000
TZOFFSETFROM:+0200
TZOFFSETTO:+0100
TZNAME:Europe/Paris CET
END:STANDARD
BEGIN:STANDARD
DTSTART:20161030T020000
RDATE:20170326T030000
TZOFFSETFROM:+0200
TZOFFSETTO:+0100
TZNAME:Europe/Paris CET
END:STANDARD
BEGIN:STANDARD
DTSTART:20171029T020000
RDATE:20180325T030000
TZOFFSETFROM:+0200
TZOFFSETTO:+0100
TZNAME:Europe/Paris CET
END:STANDARD
BEGIN:STANDARD
DTSTART:20181028T020000
RDATE:20190331T030000
TZOFFSETFROM:+0200
TZOFFSETTO:+0100
TZNAME:Europe/Paris CET
END:STANDARD
BEGIN:STANDARD
DTSTART:20191027T020000
RDATE:20200329T030000
TZOFFSETFROM:+0200
TZOFFSETTO:+0100
TZNAME:Europe/Paris CET
END:STANDARD
BEGIN:STANDARD
DTSTART:20201025T020000
RDATE:20210328T030000
TZOFFSETFROM:+0200
TZOFFSETTO:+0100
TZNAME:Europe/Paris CET
END:STANDARD
BEGIN:STANDARD
DTSTART:20211031T020000
RDATE:20220327T030000
TZOFFSETFROM:+0200
TZOFFSETTO:+0100
TZNAME:Europe/Paris CET
END:STANDARD
BEGIN:STANDARD
DTSTART:20221030T020000
RDATE:20230326T030000
TZOFFSETFROM:+0200
TZOFFSETTO:+0100
TZNAME:Europe/Paris CET
END:STANDARD
BEGIN:STANDARD
DTSTART:20231029T020000
RDATE:20240331T030000
TZOFFSETFROM:+0200
TZOFFSETTO:+0100
TZNAME:Europe/Paris CET
END:STANDARD
BEGIN:STANDARD
DTSTART:20241027T020000
RDATE:20250330T030000
TZOFFSETFROM:+0200
TZOFFSETTO:+0100
TZNAME:Europe/Paris CET
END:STANDARD
BEGIN:STANDARD
DTSTART:20251026T020000
RDATE:20260329T030000
TZOFFSETFROM:+0200
TZOFFSETTO:+0100
TZNAME:Europe/Paris CET
END:STANDARD
BEGIN:STANDARD
DTSTART:20261025T020000
RDATE:20270328T030000
TZOFFSETFROM:+0200
TZOFFSETTO:+0100
TZNAME:Europe/Paris CET
END:STANDARD
BEGIN:DAYLIGHT
DTSTART:20150329T030000
RDATE:20151025T020000
TZOFFSETFROM:+0100
TZOFFSETTO:+0200
TZNAME:Europe/Paris CEST
END:DAYLIGHT
BEGIN:DAYLIGHT
DTSTART:20160327T030000
RDATE:20161030T020000
TZOFFSETFROM:+0100
TZOFFSETTO:+0200
TZNAME:Europe/Paris CEST
END:DAYLIGHT
BEGIN:DAYLIGHT
DTSTART:20170326T030000
RDATE:20171029T020000
TZOFFSETFROM:+0100
TZOFFSETTO:+0200
TZNAME:Europe/Paris CEST
END:DAYLIGHT
BEGIN:DAYLIGHT
DTSTART:20180325T030000
RDATE:20181028T020000
TZOFFSETFROM:+0100
TZOFFSETTO:+0200
TZNAME:Europe/Paris CEST
END:DAYLIGHT
BEGIN:DAYLIGHT
DTSTART:20190331T030000
RDATE:20191027T020000
TZOFFSETFROM:+0100
TZOFFSETTO:+0200
TZNAME:Europe/Paris CEST
END:DAYLIGHT
BEGIN:DAYLIGHT
DTSTART:20200329T030000
RDATE:20201025T020000
TZOFFSETFROM:+0100
TZOFFSETTO:+0200
TZNAME:Europe/Paris CEST
END:DAYLIGHT
BEGIN:DAYLIGHT
DTSTART:20210328T030000
RDATE:20211031T020000
TZOFFSETFROM:+0100
TZOFFSETTO:+0200
TZNAME:Europe/Paris CEST
END:DAYLIGHT
BEGIN:DAYLIGHT
DTSTART:20220327T030000
RDATE:20221030T020000
TZOFFSETFROM:+0100
TZOFFSETTO:+0200
TZNAME:Europe/Paris CEST
END:DAYLIGHT
BEGIN:DAYLIGHT
DTSTART:20230326T030000
RDATE:20231029T020000
TZOFFSETFROM:+0100
TZOFFSETTO:+0200
TZNAME:Europe/Paris CEST
END:DAYLIGHT
BEGIN:DAYLIGHT
DTSTART:20240331T030000
RDATE:20241027T020000
TZOFFSETFROM:+0100
TZOFFSETTO:+0200
TZNAME:Europe/Paris CEST
END:DAYLIGHT
BEGIN:DAYLIGHT
DTSTART:20250330T030000
RDATE:20251026T020000
TZOFFSETFROM:+0100
TZOFFSETTO:+0200
TZNAME:Europe/Paris CEST
END:DAYLIGHT
BEGIN:DAYLIGHT
DTSTART:20260329T030000
RDATE:20261025T020000
TZOFFSETFROM:+0100
TZOFFSETTO:+0200
TZNAME:Europe/Paris CEST
END:DAYLIGHT
END:VTIMEZONE
BEGIN:VEVENT
UID:a62698255f6caa6967e4ef37d7c41307
CATEGORIES:Opens et Promos (alpin)
CREATED:20151110T133952
SUMMARY:PROMO  U8 à U16     Les dimanches de la Glisse  Trophée du St Kochersberg
URL;VALUE=URI:https://skivosges.net/agenda/a-venir/detailevenement/557/-/promo-u8-a-u16-l
 es-dimanches-de-la-glisse-trophee-du-st-kochersberg?tmpl=component
DESCRIPTION:PROMO  U8 à U16     Les dimanches de la Glisse  Trophée du St Kochersberg\n
 \nLieu : CHAMP DU FEU\nOrganisateur : SKI TEAM KOCHERSBERG (14492 SKI TEAM 
 KOCHERSBERG)\nEmail : RegularLabs.EmailProtector.unCloak("ep_361e040b");\nT
 elecopie : 08 88 51 23 19\n - AMVM0701  Slalom Geant U8/U10 Garçons\n  PROM
 O  U8 à U16     Les dimanches de la Glisse  Trophée du St Kochersberg\n - A
 MVM0702  Slalom Geant U12 a U16 Garçons\n  PROMO  U8 à U16     Les dimanche
 s de la Glisse  Trophée du St Kochersberg\n - AMVF0701  Slalom Geant U8/U10
  Filles\n  PROMO  U8 à U16     Les dimanches de la Glisse  Trophée du St Ko
 chersberg\n - AMVF0702  Slalom Geant U12 a U16 Filles\n  PROMO  U8 à U16   
   Les dimanches de la Glisse  Trophée du St Kochersberg Cet évènement a été
  importé depuis :https://skivosges.net/agenda/a-venir/detailevenement/557/-
 /promo-u8-a-u16-les-dimanches-de-la-glisse-trophee-du-st-kochersberg?tmpl=c
 omponent
X-ALT-DESC;FMTTYPE=text/html:<strong>PROMO  U8 à U16     Les dimanches de la Glisse  Trophée du St Koche
 rsberg</strong><br /><br />Lieu : CHAMP DU FEU<br />Organisateur : SKI TEAM
  KOCHERSBERG <small>(14492 SKI TEAM KOCHERSBERG)</small><br />Email : <!-- 
 Cette adresse électronique est protégée contre les robots spammeurs. --><sp
 an class="cloaked_email ep_361e040b"><span data-ep-a="&#103;er&#97;" data-e
 p-b="&#102;&#114;"><span data-ep-a="&#114;dc&#108;" data-ep-b="n&#103;e&#46
 ;"><span data-ep-a="&#97;&#117;&#115;&#115;" data-ep-b="&#64;&#111;&#114;&#
 97;"></span></span></span></span><script>RegularLabs.EmailProtector.unCloak
 ("ep_361e040b");</script><br />Telecopie : 08 88 51 23 19<ul type="disc"><l
 i>AMVM0701  Slalom Geant <nobr>U8/U10</nobr> Garçons<br />&nbsp;&nbsp;PROMO
   U8 à U16     Les dimanches de la Glisse  Trophée du St Kochersberg</li><l
 i>AMVM0702  Slalom Geant <nobr>U12 a U16</nobr> Garçons<br />&nbsp;&nbsp;PR
 OMO  U8 à U16     Les dimanches de la Glisse  Trophée du St Kochersberg</li
 ><li>AMVF0701  Slalom Geant <nobr>U8/U10</nobr> Filles<br />&nbsp;&nbsp;PRO
 MO  U8 à U16     Les dimanches de la Glisse  Trophée du St Kochersberg</li>
 <li>AMVF0702  Slalom Geant <nobr>U12 a U16</nobr> Filles<br />&nbsp;&nbsp;P
 ROMO  U8 à U16     Les dimanches de la Glisse  Trophée du St Kochersberg</l
 i></ul> <a href="https://skivosges.net/agenda/a-venir/detailevenement/557/-
 /promo-u8-a-u16-les-dimanches-de-la-glisse-trophee-du-st-kochersberg?tmpl=c
 omponent">Cet évènement a été importé depuis :https://skivosges.net/agenda/
 a-venir/detailevenement/557/-/promo-u8-a-u16-les-dimanches-de-la-glisse-tro
 phee-du-st-kochersberg?tmpl=component</a>DTSTAMP:20260424T083659
DTSTART;TZID=Europe/Paris:20160306T080000
DTEND;TZID=Europe/Paris:20160306T170000
SEQUENCE:0
TRANSP:OPAQUE
END:VEVENT
END:VCALENDAR