BEGIN:VCALENDAR
VERSION:2.0
PRODID:-//jEvents 2.0 for Joomla//EN
CALSCALE:GREGORIAN
METHOD:PUBLISH
BEGIN:VTIMEZONE
TZID:Europe/Paris
BEGIN:STANDARD
DTSTART:20150306T080000
RDATE:20150329T030000
TZOFFSETFROM:+0200
TZOFFSETTO:+0100
TZNAME:Europe/Paris CET
END:STANDARD
BEGIN:STANDARD
DTSTART:20151025T020000
RDATE:20160327T030000
TZOFFSETFROM:+0200
TZOFFSETTO:+0100
TZNAME:Europe/Paris CET
END:STANDARD
BEGIN:STANDARD
DTSTART:20161030T020000
RDATE:20170326T030000
TZOFFSETFROM:+0200
TZOFFSETTO:+0100
TZNAME:Europe/Paris CET
END:STANDARD
BEGIN:STANDARD
DTSTART:20171029T020000
RDATE:20180325T030000
TZOFFSETFROM:+0200
TZOFFSETTO:+0100
TZNAME:Europe/Paris CET
END:STANDARD
BEGIN:STANDARD
DTSTART:20181028T020000
RDATE:20190331T030000
TZOFFSETFROM:+0200
TZOFFSETTO:+0100
TZNAME:Europe/Paris CET
END:STANDARD
BEGIN:STANDARD
DTSTART:20191027T020000
RDATE:20200329T030000
TZOFFSETFROM:+0200
TZOFFSETTO:+0100
TZNAME:Europe/Paris CET
END:STANDARD
BEGIN:STANDARD
DTSTART:20201025T020000
RDATE:20210328T030000
TZOFFSETFROM:+0200
TZOFFSETTO:+0100
TZNAME:Europe/Paris CET
END:STANDARD
BEGIN:STANDARD
DTSTART:20211031T020000
RDATE:20220327T030000
TZOFFSETFROM:+0200
TZOFFSETTO:+0100
TZNAME:Europe/Paris CET
END:STANDARD
BEGIN:STANDARD
DTSTART:20221030T020000
RDATE:20230326T030000
TZOFFSETFROM:+0200
TZOFFSETTO:+0100
TZNAME:Europe/Paris CET
END:STANDARD
BEGIN:STANDARD
DTSTART:20231029T020000
RDATE:20240331T030000
TZOFFSETFROM:+0200
TZOFFSETTO:+0100
TZNAME:Europe/Paris CET
END:STANDARD
BEGIN:STANDARD
DTSTART:20241027T020000
RDATE:20250330T030000
TZOFFSETFROM:+0200
TZOFFSETTO:+0100
TZNAME:Europe/Paris CET
END:STANDARD
BEGIN:STANDARD
DTSTART:20251026T020000
RDATE:20260329T030000
TZOFFSETFROM:+0200
TZOFFSETTO:+0100
TZNAME:Europe/Paris CET
END:STANDARD
BEGIN:STANDARD
DTSTART:20261025T020000
RDATE:20270328T030000
TZOFFSETFROM:+0200
TZOFFSETTO:+0100
TZNAME:Europe/Paris CET
END:STANDARD
BEGIN:DAYLIGHT
DTSTART:20150329T030000
RDATE:20151025T020000
TZOFFSETFROM:+0100
TZOFFSETTO:+0200
TZNAME:Europe/Paris CEST
END:DAYLIGHT
BEGIN:DAYLIGHT
DTSTART:20160327T030000
RDATE:20161030T020000
TZOFFSETFROM:+0100
TZOFFSETTO:+0200
TZNAME:Europe/Paris CEST
END:DAYLIGHT
BEGIN:DAYLIGHT
DTSTART:20170326T030000
RDATE:20171029T020000
TZOFFSETFROM:+0100
TZOFFSETTO:+0200
TZNAME:Europe/Paris CEST
END:DAYLIGHT
BEGIN:DAYLIGHT
DTSTART:20180325T030000
RDATE:20181028T020000
TZOFFSETFROM:+0100
TZOFFSETTO:+0200
TZNAME:Europe/Paris CEST
END:DAYLIGHT
BEGIN:DAYLIGHT
DTSTART:20190331T030000
RDATE:20191027T020000
TZOFFSETFROM:+0100
TZOFFSETTO:+0200
TZNAME:Europe/Paris CEST
END:DAYLIGHT
BEGIN:DAYLIGHT
DTSTART:20200329T030000
RDATE:20201025T020000
TZOFFSETFROM:+0100
TZOFFSETTO:+0200
TZNAME:Europe/Paris CEST
END:DAYLIGHT
BEGIN:DAYLIGHT
DTSTART:20210328T030000
RDATE:20211031T020000
TZOFFSETFROM:+0100
TZOFFSETTO:+0200
TZNAME:Europe/Paris CEST
END:DAYLIGHT
BEGIN:DAYLIGHT
DTSTART:20220327T030000
RDATE:20221030T020000
TZOFFSETFROM:+0100
TZOFFSETTO:+0200
TZNAME:Europe/Paris CEST
END:DAYLIGHT
BEGIN:DAYLIGHT
DTSTART:20230326T030000
RDATE:20231029T020000
TZOFFSETFROM:+0100
TZOFFSETTO:+0200
TZNAME:Europe/Paris CEST
END:DAYLIGHT
BEGIN:DAYLIGHT
DTSTART:20240331T030000
RDATE:20241027T020000
TZOFFSETFROM:+0100
TZOFFSETTO:+0200
TZNAME:Europe/Paris CEST
END:DAYLIGHT
BEGIN:DAYLIGHT
DTSTART:20250330T030000
RDATE:20251026T020000
TZOFFSETFROM:+0100
TZOFFSETTO:+0200
TZNAME:Europe/Paris CEST
END:DAYLIGHT
BEGIN:DAYLIGHT
DTSTART:20260329T030000
RDATE:20261025T020000
TZOFFSETFROM:+0100
TZOFFSETTO:+0200
TZNAME:Europe/Paris CEST
END:DAYLIGHT
END:VTIMEZONE
BEGIN:VEVENT
UID:ed43166c720ae7fc4b3b456eea85e2ee
CATEGORIES:Compétition Ski de Fond
CREATED:20151110T133952
SUMMARY:Coupe Hahnenbrunen Roedelen  relais chpt Vosges
URL;VALUE=URI:https://skivosges.net/agenda/a-venir/detailevenement/559/-/coupe-hahnenbrun
 en-roedelen-relais-chpt-vosges?tmpl=component
DESCRIPTION:Coupe Hahnenbrunen Roedelen  relais chpt Vosges\n\nLieu : MARKSTEIN\nOrgani
 sateur : TOURING CLUB MULHOUSE (14044 TOURING CLUB MULHOUSE)\nTelecopie : 0
 389595556\n\nVeuillez bien spécifiervos équipes en précisant l´ordre des re
 lais\n\nInscriptions closes, tirage des dossards en cours\n - FMVF0201  Mas
 s Start (Depart ligne) Dames\n  Coupe Hahnenbrunen Roedelen  relais chpt Vo
 sges\n - FMVF0202  Mass Start (Depart ligne) U18 a SEN (Jeune a Senior) Dam
 es\n  Coupe Hahnenbrunen Roedelen  relais chpt Vosges\n - FMVM0201  Mass St
 art (Depart ligne) Hommes\n  Coupe Hahnenbrunen Roedelen  relais chpt Vosge
 s\n - FMVM0202  Mass Start (Depart ligne) U18 a SEN (Jeune a Senior) Hommes
 \n  Coupe Hahnenbrunen Roedelen  relais chpt Vosges Cet évènement a été imp
 orté depuis :https://skivosges.net/agenda/a-venir/detailevenement/559/-/cou
 pe-hahnenbrunen-roedelen-relais-chpt-vosges?tmpl=component (https://skivosg
 es.net/agenda/a-venir/detailevenement/559/-/coupe-hahnenbrunen-roedelen-rel
 ais-chpt-vosges?tmpl=component)
X-ALT-DESC;FMTTYPE=text/html:<strong>Coupe Hahnenbrunen Roedelen  relais chpt Vosges</strong><br /><br /
 >Lieu : MARKSTEIN<br />Organisateur : TOURING CLUB MULHOUSE <small>(14044 T
 OURING CLUB MULHOUSE)</small><br />Telecopie : 0389595556<br /><br />Veuill
 ez bien spécifiervos équipes en précisant l´ordre des relais<br /><br />Ins
 criptions closes, tirage des dossards en cours<ul type="disc"><li>FMVF0201 
  Mass Start (Depart ligne) Dames<br />&nbsp;&nbsp;Coupe Hahnenbrunen Roedel
 en  relais chpt Vosges</li><li>FMVF0202  Mass Start (Depart ligne) <nobr>U1
 8 a SEN (Jeune a Senior)</nobr> Dames<br />&nbsp;&nbsp;Coupe Hahnenbrunen R
 oedelen  relais chpt Vosges</li><li>FMVM0201  Mass Start (Depart ligne) Hom
 mes<br />&nbsp;&nbsp;Coupe Hahnenbrunen Roedelen  relais chpt Vosges</li><l
 i>FMVM0202  Mass Start (Depart ligne) <nobr>U18 a SEN (Jeune a Senior)</nob
 r> Hommes<br />&nbsp;&nbsp;Coupe Hahnenbrunen Roedelen  relais chpt Vosges<
 /li></ul> <a href="https://skivosges.net/agenda/a-venir/detailevenement/559
 /-/coupe-hahnenbrunen-roedelen-relais-chpt-vosges?tmpl=component">Cet évène
 ment a été importé depuis :https://skivosges.net/agenda/a-venir/detailevene
 ment/559/-/coupe-hahnenbrunen-roedelen-relais-chpt-vosges?tmpl=component</a
 >DTSTAMP:20260424T083700
DTSTART;TZID=Europe/Paris:20160306T080000
DTEND;TZID=Europe/Paris:20160306T170000
SEQUENCE:0
TRANSP:OPAQUE
END:VEVENT
END:VCALENDAR