BEGIN:VCALENDAR
VERSION:2.0
PRODID:-//jEvents 2.0 for Joomla//EN
CALSCALE:GREGORIAN
METHOD:PUBLISH
BEGIN:VTIMEZONE
TZID:Europe/Paris
BEGIN:STANDARD
DTSTART:20150306T080000
RDATE:20150329T030000
TZOFFSETFROM:+0200
TZOFFSETTO:+0100
TZNAME:Europe/Paris CET
END:STANDARD
BEGIN:STANDARD
DTSTART:20151025T020000
RDATE:20160327T030000
TZOFFSETFROM:+0200
TZOFFSETTO:+0100
TZNAME:Europe/Paris CET
END:STANDARD
BEGIN:STANDARD
DTSTART:20161030T020000
RDATE:20170326T030000
TZOFFSETFROM:+0200
TZOFFSETTO:+0100
TZNAME:Europe/Paris CET
END:STANDARD
BEGIN:STANDARD
DTSTART:20171029T020000
RDATE:20180325T030000
TZOFFSETFROM:+0200
TZOFFSETTO:+0100
TZNAME:Europe/Paris CET
END:STANDARD
BEGIN:STANDARD
DTSTART:20181028T020000
RDATE:20190331T030000
TZOFFSETFROM:+0200
TZOFFSETTO:+0100
TZNAME:Europe/Paris CET
END:STANDARD
BEGIN:STANDARD
DTSTART:20191027T020000
RDATE:20200329T030000
TZOFFSETFROM:+0200
TZOFFSETTO:+0100
TZNAME:Europe/Paris CET
END:STANDARD
BEGIN:STANDARD
DTSTART:20201025T020000
RDATE:20210328T030000
TZOFFSETFROM:+0200
TZOFFSETTO:+0100
TZNAME:Europe/Paris CET
END:STANDARD
BEGIN:STANDARD
DTSTART:20211031T020000
RDATE:20220327T030000
TZOFFSETFROM:+0200
TZOFFSETTO:+0100
TZNAME:Europe/Paris CET
END:STANDARD
BEGIN:STANDARD
DTSTART:20221030T020000
RDATE:20230326T030000
TZOFFSETFROM:+0200
TZOFFSETTO:+0100
TZNAME:Europe/Paris CET
END:STANDARD
BEGIN:STANDARD
DTSTART:20231029T020000
RDATE:20240331T030000
TZOFFSETFROM:+0200
TZOFFSETTO:+0100
TZNAME:Europe/Paris CET
END:STANDARD
BEGIN:STANDARD
DTSTART:20241027T020000
RDATE:20250330T030000
TZOFFSETFROM:+0200
TZOFFSETTO:+0100
TZNAME:Europe/Paris CET
END:STANDARD
BEGIN:STANDARD
DTSTART:20251026T020000
RDATE:20260329T030000
TZOFFSETFROM:+0200
TZOFFSETTO:+0100
TZNAME:Europe/Paris CET
END:STANDARD
BEGIN:STANDARD
DTSTART:20261025T020000
RDATE:20270328T030000
TZOFFSETFROM:+0200
TZOFFSETTO:+0100
TZNAME:Europe/Paris CET
END:STANDARD
BEGIN:DAYLIGHT
DTSTART:20150329T030000
RDATE:20151025T020000
TZOFFSETFROM:+0100
TZOFFSETTO:+0200
TZNAME:Europe/Paris CEST
END:DAYLIGHT
BEGIN:DAYLIGHT
DTSTART:20160327T030000
RDATE:20161030T020000
TZOFFSETFROM:+0100
TZOFFSETTO:+0200
TZNAME:Europe/Paris CEST
END:DAYLIGHT
BEGIN:DAYLIGHT
DTSTART:20170326T030000
RDATE:20171029T020000
TZOFFSETFROM:+0100
TZOFFSETTO:+0200
TZNAME:Europe/Paris CEST
END:DAYLIGHT
BEGIN:DAYLIGHT
DTSTART:20180325T030000
RDATE:20181028T020000
TZOFFSETFROM:+0100
TZOFFSETTO:+0200
TZNAME:Europe/Paris CEST
END:DAYLIGHT
BEGIN:DAYLIGHT
DTSTART:20190331T030000
RDATE:20191027T020000
TZOFFSETFROM:+0100
TZOFFSETTO:+0200
TZNAME:Europe/Paris CEST
END:DAYLIGHT
BEGIN:DAYLIGHT
DTSTART:20200329T030000
RDATE:20201025T020000
TZOFFSETFROM:+0100
TZOFFSETTO:+0200
TZNAME:Europe/Paris CEST
END:DAYLIGHT
BEGIN:DAYLIGHT
DTSTART:20210328T030000
RDATE:20211031T020000
TZOFFSETFROM:+0100
TZOFFSETTO:+0200
TZNAME:Europe/Paris CEST
END:DAYLIGHT
BEGIN:DAYLIGHT
DTSTART:20220327T030000
RDATE:20221030T020000
TZOFFSETFROM:+0100
TZOFFSETTO:+0200
TZNAME:Europe/Paris CEST
END:DAYLIGHT
BEGIN:DAYLIGHT
DTSTART:20230326T030000
RDATE:20231029T020000
TZOFFSETFROM:+0100
TZOFFSETTO:+0200
TZNAME:Europe/Paris CEST
END:DAYLIGHT
BEGIN:DAYLIGHT
DTSTART:20240331T030000
RDATE:20241027T020000
TZOFFSETFROM:+0100
TZOFFSETTO:+0200
TZNAME:Europe/Paris CEST
END:DAYLIGHT
BEGIN:DAYLIGHT
DTSTART:20250330T030000
RDATE:20251026T020000
TZOFFSETFROM:+0100
TZOFFSETTO:+0200
TZNAME:Europe/Paris CEST
END:DAYLIGHT
BEGIN:DAYLIGHT
DTSTART:20260329T030000
RDATE:20261025T020000
TZOFFSETFROM:+0100
TZOFFSETTO:+0200
TZNAME:Europe/Paris CEST
END:DAYLIGHT
END:VTIMEZONE
BEGIN:VEVENT
UID:4ff763778f45f3b0b9ef1789566fe858
CATEGORIES:Compétitions Snowboard
CREATED:20151110T133952
SUMMARY:Coupe des Vosges / Bank slalom
URL;VALUE=URI:https://skivosges.net/agenda/a-venir/detailevenement/560/-/coupe-des-vosges
 -bank-slalom?tmpl=component
DESCRIPTION:Coupe des Vosges / Bank slalom\nOrganisateur : LA BRESSAUDE SECTION SKI (14
 024 LA BRESSAUDE SECTION SKI)\nEmail : RegularLabs.EmailProtector.unCloak("
 ep_90b84213");\n  Piste:La Schlucht\n - NMVF0041 épreuve Toutes les Categor
 ies Dames\n  Coupe des Vosges / Bank slalom\n  Piste:La Schlucht\n - NMVM00
 41 épreuve Toutes les Categories Hommes\n  Coupe des Vosges / Bank slalom\n
   Piste:La Schlucht\n - NMVF0042 épreuve Toutes les Categories Dames\n  Cou
 pe des Vosges / Bank slalom\n  Piste:La Schlucht\n - NMVM0042 épreuve Toute
 s les Categories Hommes\n  Coupe des Vosges / Bank slalom Cet évènement a é
 té importé depuis :https://skivosges.net/agenda/a-venir/detailevenement/560
 /-/coupe-des-vosges-bank-slalom?tmpl=component (https://skivosges.net/agend
 a/a-venir/detailevenement/560/-/coupe-des-vosges-bank-slalom?tmpl=component
 )
X-ALT-DESC;FMTTYPE=text/html:<strong>Coupe des Vosges / Bank slalom</strong><br />Organisateur : LA BRES
 SAUDE SECTION SKI <small>(14024 LA BRESSAUDE SECTION SKI)</small><br />Emai
 l : <!-- Cette adresse électronique est protégée contre les robots spammeur
 s. --><span class="cloaked_email ep_90b84213"><span data-ep-b="fr" data-ep-
 a="&#108;&#101;&#98;"><span data-ep-a="l&#97;u" data-ep-b="&#103;e."><span 
 data-ep-a="&#100;&#64;&#111;" data-ep-b="&#114;&#97;n"></span></span></span
 ></span><script>RegularLabs.EmailProtector.unCloak("ep_90b84213");</script>
 <ul type="disc"><br />&nbsp;&nbsp;Piste:La Schlucht<li>NMVF0041 épreuve <no
 br>Toutes les Categories</nobr> Dames<br />&nbsp;&nbsp;Coupe des Vosges / B
 ank slalom</li><br />&nbsp;&nbsp;Piste:La Schlucht<li>NMVM0041 épreuve <nob
 r>Toutes les Categories</nobr> Hommes<br />&nbsp;&nbsp;Coupe des Vosges / B
 ank slalom</li><br />&nbsp;&nbsp;Piste:La Schlucht<li>NMVF0042 épreuve <nob
 r>Toutes les Categories</nobr> Dames<br />&nbsp;&nbsp;Coupe des Vosges / Ba
 nk slalom</li><br />&nbsp;&nbsp;Piste:La Schlucht<li>NMVM0042 épreuve <nobr
 >Toutes les Categories</nobr> Hommes<br />&nbsp;&nbsp;Coupe des Vosges / Ba
 nk slalom</li></ul> <a href="https://skivosges.net/agenda/a-venir/detaileve
 nement/560/-/coupe-des-vosges-bank-slalom?tmpl=component">Cet évènement a é
 té importé depuis :https://skivosges.net/agenda/a-venir/detailevenement/560
 /-/coupe-des-vosges-bank-slalom?tmpl=component</a>DTSTAMP:20260424T083654
DTSTART;TZID=Europe/Paris:20160306T080000
DTEND;TZID=Europe/Paris:20160306T170000
SEQUENCE:0
TRANSP:OPAQUE
END:VEVENT
END:VCALENDAR