BEGIN:VCALENDAR
VERSION:2.0
PRODID:-//jEvents 2.0 for Joomla//EN
CALSCALE:GREGORIAN
METHOD:PUBLISH
BEGIN:VTIMEZONE
TZID:Europe/Paris
BEGIN:STANDARD
DTSTART:20150312T080000
RDATE:20150329T030000
TZOFFSETFROM:+0200
TZOFFSETTO:+0100
TZNAME:Europe/Paris CET
END:STANDARD
BEGIN:STANDARD
DTSTART:20151025T020000
RDATE:20160327T030000
TZOFFSETFROM:+0200
TZOFFSETTO:+0100
TZNAME:Europe/Paris CET
END:STANDARD
BEGIN:STANDARD
DTSTART:20161030T020000
RDATE:20170326T030000
TZOFFSETFROM:+0200
TZOFFSETTO:+0100
TZNAME:Europe/Paris CET
END:STANDARD
BEGIN:STANDARD
DTSTART:20171029T020000
RDATE:20180325T030000
TZOFFSETFROM:+0200
TZOFFSETTO:+0100
TZNAME:Europe/Paris CET
END:STANDARD
BEGIN:STANDARD
DTSTART:20181028T020000
RDATE:20190331T030000
TZOFFSETFROM:+0200
TZOFFSETTO:+0100
TZNAME:Europe/Paris CET
END:STANDARD
BEGIN:STANDARD
DTSTART:20191027T020000
RDATE:20200329T030000
TZOFFSETFROM:+0200
TZOFFSETTO:+0100
TZNAME:Europe/Paris CET
END:STANDARD
BEGIN:STANDARD
DTSTART:20201025T020000
RDATE:20210328T030000
TZOFFSETFROM:+0200
TZOFFSETTO:+0100
TZNAME:Europe/Paris CET
END:STANDARD
BEGIN:STANDARD
DTSTART:20211031T020000
RDATE:20220327T030000
TZOFFSETFROM:+0200
TZOFFSETTO:+0100
TZNAME:Europe/Paris CET
END:STANDARD
BEGIN:STANDARD
DTSTART:20221030T020000
RDATE:20230326T030000
TZOFFSETFROM:+0200
TZOFFSETTO:+0100
TZNAME:Europe/Paris CET
END:STANDARD
BEGIN:STANDARD
DTSTART:20231029T020000
RDATE:20240331T030000
TZOFFSETFROM:+0200
TZOFFSETTO:+0100
TZNAME:Europe/Paris CET
END:STANDARD
BEGIN:STANDARD
DTSTART:20241027T020000
RDATE:20250330T030000
TZOFFSETFROM:+0200
TZOFFSETTO:+0100
TZNAME:Europe/Paris CET
END:STANDARD
BEGIN:STANDARD
DTSTART:20251026T020000
RDATE:20260329T030000
TZOFFSETFROM:+0200
TZOFFSETTO:+0100
TZNAME:Europe/Paris CET
END:STANDARD
BEGIN:STANDARD
DTSTART:20261025T020000
RDATE:20270328T030000
TZOFFSETFROM:+0200
TZOFFSETTO:+0100
TZNAME:Europe/Paris CET
END:STANDARD
BEGIN:DAYLIGHT
DTSTART:20150329T030000
RDATE:20151025T020000
TZOFFSETFROM:+0100
TZOFFSETTO:+0200
TZNAME:Europe/Paris CEST
END:DAYLIGHT
BEGIN:DAYLIGHT
DTSTART:20160327T030000
RDATE:20161030T020000
TZOFFSETFROM:+0100
TZOFFSETTO:+0200
TZNAME:Europe/Paris CEST
END:DAYLIGHT
BEGIN:DAYLIGHT
DTSTART:20170326T030000
RDATE:20171029T020000
TZOFFSETFROM:+0100
TZOFFSETTO:+0200
TZNAME:Europe/Paris CEST
END:DAYLIGHT
BEGIN:DAYLIGHT
DTSTART:20180325T030000
RDATE:20181028T020000
TZOFFSETFROM:+0100
TZOFFSETTO:+0200
TZNAME:Europe/Paris CEST
END:DAYLIGHT
BEGIN:DAYLIGHT
DTSTART:20190331T030000
RDATE:20191027T020000
TZOFFSETFROM:+0100
TZOFFSETTO:+0200
TZNAME:Europe/Paris CEST
END:DAYLIGHT
BEGIN:DAYLIGHT
DTSTART:20200329T030000
RDATE:20201025T020000
TZOFFSETFROM:+0100
TZOFFSETTO:+0200
TZNAME:Europe/Paris CEST
END:DAYLIGHT
BEGIN:DAYLIGHT
DTSTART:20210328T030000
RDATE:20211031T020000
TZOFFSETFROM:+0100
TZOFFSETTO:+0200
TZNAME:Europe/Paris CEST
END:DAYLIGHT
BEGIN:DAYLIGHT
DTSTART:20220327T030000
RDATE:20221030T020000
TZOFFSETFROM:+0100
TZOFFSETTO:+0200
TZNAME:Europe/Paris CEST
END:DAYLIGHT
BEGIN:DAYLIGHT
DTSTART:20230326T030000
RDATE:20231029T020000
TZOFFSETFROM:+0100
TZOFFSETTO:+0200
TZNAME:Europe/Paris CEST
END:DAYLIGHT
BEGIN:DAYLIGHT
DTSTART:20240331T030000
RDATE:20241027T020000
TZOFFSETFROM:+0100
TZOFFSETTO:+0200
TZNAME:Europe/Paris CEST
END:DAYLIGHT
BEGIN:DAYLIGHT
DTSTART:20250330T030000
RDATE:20251026T020000
TZOFFSETFROM:+0100
TZOFFSETTO:+0200
TZNAME:Europe/Paris CEST
END:DAYLIGHT
BEGIN:DAYLIGHT
DTSTART:20260329T030000
RDATE:20261025T020000
TZOFFSETFROM:+0100
TZOFFSETTO:+0200
TZNAME:Europe/Paris CEST
END:DAYLIGHT
END:VTIMEZONE
BEGIN:VEVENT
UID:70bc0789cae66adca527803f0c1e04c9
CATEGORIES:Opens et Promos (alpin)
CREATED:20151110T133952
SUMMARY:PROMO  U8 à U16     CombiRace de la commune du Bonhomme
URL;VALUE=URI:https://skivosges.net/agenda/a-venir/detailevenement/566/-/promo-u8-a-u16-c
 ombirace-de-la-commune-du-bonhomme?tmpl=component
DESCRIPTION:<strong>PROMO  U8 à U16     CombiRace de la commune du Bonhomme</strong><br
  /><br />Lieu : LAC BLANC<br />Piste : Stade<br />Organisateur : SKI CLUB L
 E BONHOMME <small>(14251 SKI CLUB LE BONHOMME)</small><br />Email : <!-- Ce
 tte adresse électronique est protégée contre les robots spammeurs. --><span
  class="cloaked_email ep_ee2b42cb"><span data-ep-a="chri&#115;t" data-ep-b=
 ".&#102;&#114;"><span data-ep-b="&#111;&#114;a&#110;g&#101;" data-ep-a="&#1
 05;a&#110;&#46;&#99;&#104;"><span data-ep-a="&#97;&#102;&#105;&#111;&#108;a
 " data-ep-b="vi&#99;hc&#64;"></span></span></span></span><script>RegularLab
 s.EmailProtector.unCloak("ep_ee2b42cb");</script><br />Telecopie : 06897938
 39<br /><br />Pour les LIC Loisirs : par mail à <!-- Cette adresse électron
 ique est protégée contre les robots spammeurs. --><span class="cloaked_emai
 l ep_f05f397d"><span data-ep-a="&#99;h&#114;i&#115;&#116;" data-ep-b="&#46;
 fr"><span data-ep-a="&#105;&#97;&#110;.ch" data-ep-b="&#111;&#114;&#97;&#11
 0;&#103;e"><span data-ep-a="&#97;&#102;&#105;&#111;&#108;&#97;" data-ep-b="
 v&#105;&#99;&#104;&#99;&#64;"></span></span></span></span><script>RegularLa
 bs.EmailProtector.unCloak("ep_f05f397d");</script>.  Merci de nous faire pa
 rvenir un fichier Excel avec N° de Lic, Nom, Prénom,Sexe, Année de Naissanc
 e, Club<br>Pour les Non-Licenciés : par mail à <!-- Cette adresse électroni
 que est protégée contre les robots spammeurs. --><span class="cloaked_email
  ep_77816408"><span data-ep-a="&#99;&#104;r&#105;&#115;t" data-ep-b=".f&#11
 4;"><span data-ep-a="i&#97;&#110;&#46;&#99;&#104;" data-ep-b="o&#114;&#97;&
 #110;&#103;e"><span data-ep-a="a&#102;&#105;ol&#97;" data-ep-b="&#118;i&#99
 ;hc&#64;"></span></span></span></span><script>RegularLabs.EmailProtector.un
 Cloak("ep_77816408");</script>. Pour participer, ces derniers devront achet
 er un ticket course (assurance) de 15€ auprès de l´organisateur et fournir 
 un certificat médical de non contre indication de la pratique du ski alpin.
 <br /><br />Inscriptions closes, tirage des dossards en cours<ul type="disc
 "><li>AMVM0801  Slalom <nobr>U8/U10</nobr> Garçons<br />&nbsp;&nbsp;PROMO  
 U8 à U16     CombiRace de la commune du Bonhomme</li><li>AMVM0802  Slalom <
 nobr>U12 a U16</nobr> Garçons<br />&nbsp;&nbsp;PROMO  U8 à U16     CombiRac
 e de la commune du Bonhomme</li><li>AMVF0801  Slalom <nobr>U8/U10</nobr> Fi
 lles<br />&nbsp;&nbsp;PROMO  U8 à U16     CombiRace de la commune du Bonhom
 me</li><li>AMVF0802  Slalom <nobr>U12 a U16</nobr> Filles<br />&nbsp;&nbsp;
 PROMO  U8 à U16     CombiRace de la commune du Bonhomme</li></ul> <a href="
 https://skivosges.net/agenda/a-venir/detailevenement/566/-/promo-u8-a-u16-c
 ombirace-de-la-commune-du-bonhomme?tmpl=component">Cet évènement a été impo
 rté depuis :https://skivosges.net/agenda/a-venir/detailevenement/566/-/prom
 o-u8-a-u16-combirace-de-la-commune-du-bonhomme?tmpl=component</a>DTSTAMP:20260424T074012
DTSTART;TZID=Europe/Paris:20160312T080000
DTEND;TZID=Europe/Paris:20160312T170000
SEQUENCE:0
TRANSP:OPAQUE
END:VEVENT
END:VCALENDAR