BEGIN:VCALENDAR
VERSION:2.0
PRODID:-//jEvents 2.0 for Joomla//EN
CALSCALE:GREGORIAN
METHOD:PUBLISH
BEGIN:VTIMEZONE
TZID:Europe/Paris
BEGIN:STANDARD
DTSTART:20150319T080000
RDATE:20150329T030000
TZOFFSETFROM:+0200
TZOFFSETTO:+0100
TZNAME:Europe/Paris CET
END:STANDARD
BEGIN:STANDARD
DTSTART:20151025T020000
RDATE:20160327T030000
TZOFFSETFROM:+0200
TZOFFSETTO:+0100
TZNAME:Europe/Paris CET
END:STANDARD
BEGIN:STANDARD
DTSTART:20161030T020000
RDATE:20170326T030000
TZOFFSETFROM:+0200
TZOFFSETTO:+0100
TZNAME:Europe/Paris CET
END:STANDARD
BEGIN:STANDARD
DTSTART:20171029T020000
RDATE:20180325T030000
TZOFFSETFROM:+0200
TZOFFSETTO:+0100
TZNAME:Europe/Paris CET
END:STANDARD
BEGIN:STANDARD
DTSTART:20181028T020000
RDATE:20190331T030000
TZOFFSETFROM:+0200
TZOFFSETTO:+0100
TZNAME:Europe/Paris CET
END:STANDARD
BEGIN:STANDARD
DTSTART:20191027T020000
RDATE:20200329T030000
TZOFFSETFROM:+0200
TZOFFSETTO:+0100
TZNAME:Europe/Paris CET
END:STANDARD
BEGIN:STANDARD
DTSTART:20201025T020000
RDATE:20210328T030000
TZOFFSETFROM:+0200
TZOFFSETTO:+0100
TZNAME:Europe/Paris CET
END:STANDARD
BEGIN:STANDARD
DTSTART:20211031T020000
RDATE:20220327T030000
TZOFFSETFROM:+0200
TZOFFSETTO:+0100
TZNAME:Europe/Paris CET
END:STANDARD
BEGIN:STANDARD
DTSTART:20221030T020000
RDATE:20230326T030000
TZOFFSETFROM:+0200
TZOFFSETTO:+0100
TZNAME:Europe/Paris CET
END:STANDARD
BEGIN:STANDARD
DTSTART:20231029T020000
RDATE:20240331T030000
TZOFFSETFROM:+0200
TZOFFSETTO:+0100
TZNAME:Europe/Paris CET
END:STANDARD
BEGIN:STANDARD
DTSTART:20241027T020000
RDATE:20250330T030000
TZOFFSETFROM:+0200
TZOFFSETTO:+0100
TZNAME:Europe/Paris CET
END:STANDARD
BEGIN:STANDARD
DTSTART:20251026T020000
RDATE:20260329T030000
TZOFFSETFROM:+0200
TZOFFSETTO:+0100
TZNAME:Europe/Paris CET
END:STANDARD
BEGIN:STANDARD
DTSTART:20261025T020000
RDATE:20270328T030000
TZOFFSETFROM:+0200
TZOFFSETTO:+0100
TZNAME:Europe/Paris CET
END:STANDARD
BEGIN:DAYLIGHT
DTSTART:20150329T030000
RDATE:20151025T020000
TZOFFSETFROM:+0100
TZOFFSETTO:+0200
TZNAME:Europe/Paris CEST
END:DAYLIGHT
BEGIN:DAYLIGHT
DTSTART:20160327T030000
RDATE:20161030T020000
TZOFFSETFROM:+0100
TZOFFSETTO:+0200
TZNAME:Europe/Paris CEST
END:DAYLIGHT
BEGIN:DAYLIGHT
DTSTART:20170326T030000
RDATE:20171029T020000
TZOFFSETFROM:+0100
TZOFFSETTO:+0200
TZNAME:Europe/Paris CEST
END:DAYLIGHT
BEGIN:DAYLIGHT
DTSTART:20180325T030000
RDATE:20181028T020000
TZOFFSETFROM:+0100
TZOFFSETTO:+0200
TZNAME:Europe/Paris CEST
END:DAYLIGHT
BEGIN:DAYLIGHT
DTSTART:20190331T030000
RDATE:20191027T020000
TZOFFSETFROM:+0100
TZOFFSETTO:+0200
TZNAME:Europe/Paris CEST
END:DAYLIGHT
BEGIN:DAYLIGHT
DTSTART:20200329T030000
RDATE:20201025T020000
TZOFFSETFROM:+0100
TZOFFSETTO:+0200
TZNAME:Europe/Paris CEST
END:DAYLIGHT
BEGIN:DAYLIGHT
DTSTART:20210328T030000
RDATE:20211031T020000
TZOFFSETFROM:+0100
TZOFFSETTO:+0200
TZNAME:Europe/Paris CEST
END:DAYLIGHT
BEGIN:DAYLIGHT
DTSTART:20220327T030000
RDATE:20221030T020000
TZOFFSETFROM:+0100
TZOFFSETTO:+0200
TZNAME:Europe/Paris CEST
END:DAYLIGHT
BEGIN:DAYLIGHT
DTSTART:20230326T030000
RDATE:20231029T020000
TZOFFSETFROM:+0100
TZOFFSETTO:+0200
TZNAME:Europe/Paris CEST
END:DAYLIGHT
BEGIN:DAYLIGHT
DTSTART:20240331T030000
RDATE:20241027T020000
TZOFFSETFROM:+0100
TZOFFSETTO:+0200
TZNAME:Europe/Paris CEST
END:DAYLIGHT
BEGIN:DAYLIGHT
DTSTART:20250330T030000
RDATE:20251026T020000
TZOFFSETFROM:+0100
TZOFFSETTO:+0200
TZNAME:Europe/Paris CEST
END:DAYLIGHT
BEGIN:DAYLIGHT
DTSTART:20260329T030000
RDATE:20261025T020000
TZOFFSETFROM:+0100
TZOFFSETTO:+0200
TZNAME:Europe/Paris CEST
END:DAYLIGHT
END:VTIMEZONE
BEGIN:VEVENT
UID:5b9a9f539f09577c45c2839ae8b226c2
CATEGORIES:Circuit Massif Jeunes (alpin)
CREATED:20151110T133952
SUMMARY:GPJ     U12 et U14
URL;VALUE=URI:https://skivosges.net/agenda/a-venir/detailevenement/576/-/gpj-u12-et-u14?t
 mpl=component
DESCRIPTION:GPJ     U12 et U14 \n(Grand Prix Jeunes)\n\nLieu : GERARDMER\nOrganisateur 
 : GERARDMER SKI ALPIN (14089 GERARDMER SKI ALPIN)\nEmail : RegularLabs.Emai
 lProtector.unCloak("ep_966472e4");\nTelecopie : 03 29 60 98 04\nTelecopie :
  03 29 60 98 04\n\nDEPART 10H00 EN SLALOM\n\nInscriptions closes, les liste
 s de départ sont visualisables sur ce site\n - AMVM0891  Slalom (Coupe de B
 ronze) U12/U14 Garçons\n  GPJ     U12 et U14\n - AMVF0891  Slalom (Coupe de
  Bronze) U12/U14 Filles\n  GPJ     U12 et U14 Cet évènement a été importé d
 epuis :https://skivosges.net/agenda/a-venir/detailevenement/576/-/gpj-u12-e
 t-u14?tmpl=component
X-ALT-DESC;FMTTYPE=text/html:<strong>GPJ     U12 et U14</strong> <br /><i>(Grand Prix Jeunes)</i><br /><
 br />Lieu : GERARDMER<br />Organisateur : GERARDMER SKI ALPIN <small>(14089
  GERARDMER SKI ALPIN)</small><br />Email : <!-- Cette adresse électronique 
 est protégée contre les robots spammeurs. --><span class="cloaked_email ep_
 966472e4"><span data-ep-b="&#114;" data-ep-a="&#97;sgsk"><span data-ep-a="&
 #105;&#46;&#103;er" data-ep-b="&#110;&#103;e&#46;&#102;"><span data-ep-a="a
 &#114;&#100;me" data-ep-b="&#114;&#64;o&#114;&#97;"></span></span></span></
 span><script>RegularLabs.EmailProtector.unCloak("ep_966472e4");</script><br
  />Telecopie : 03 29 60 98 04<br />Telecopie : 03 29 60 98 04<br /><br />DE
 PART 10H00 EN SLALOM<br /><br />Inscriptions closes, les listes de départ s
 ont visualisables sur ce site<ul type="disc"><li>AMVM0891  Slalom <nobr><i>
 (Coupe de Bronze)</i></nobr> <nobr>U12/U14</nobr> Garçons<br />&nbsp;&nbsp;
 GPJ     U12 et U14</li><li>AMVF0891  Slalom <nobr><i>(Coupe de Bronze)</i><
 /nobr> <nobr>U12/U14</nobr> Filles<br />&nbsp;&nbsp;GPJ     U12 et U14</li>
 </ul> <a href="https://skivosges.net/agenda/a-venir/detailevenement/576/-/g
 pj-u12-et-u14?tmpl=component">Cet évènement a été importé depuis :https://s
 kivosges.net/agenda/a-venir/detailevenement/576/-/gpj-u12-et-u14?tmpl=compo
 nent</a>DTSTAMP:20260424T073909
DTSTART;TZID=Europe/Paris:20160319T080000
DTEND;TZID=Europe/Paris:20160319T170000
SEQUENCE:0
TRANSP:OPAQUE
END:VEVENT
END:VCALENDAR