BEGIN:VCALENDAR
VERSION:2.0
PRODID:-//jEvents 2.0 for Joomla//EN
CALSCALE:GREGORIAN
METHOD:PUBLISH
BEGIN:VTIMEZONE
TZID:Europe/Paris
BEGIN:STANDARD
DTSTART:20150325T080000
RDATE:20150329T030000
TZOFFSETFROM:+0200
TZOFFSETTO:+0100
TZNAME:Europe/Paris CET
END:STANDARD
BEGIN:STANDARD
DTSTART:20151025T020000
RDATE:20160327T030000
TZOFFSETFROM:+0200
TZOFFSETTO:+0100
TZNAME:Europe/Paris CET
END:STANDARD
BEGIN:STANDARD
DTSTART:20161030T020000
RDATE:20170326T030000
TZOFFSETFROM:+0200
TZOFFSETTO:+0100
TZNAME:Europe/Paris CET
END:STANDARD
BEGIN:STANDARD
DTSTART:20171029T020000
RDATE:20180325T030000
TZOFFSETFROM:+0200
TZOFFSETTO:+0100
TZNAME:Europe/Paris CET
END:STANDARD
BEGIN:STANDARD
DTSTART:20181028T020000
RDATE:20190331T030000
TZOFFSETFROM:+0200
TZOFFSETTO:+0100
TZNAME:Europe/Paris CET
END:STANDARD
BEGIN:STANDARD
DTSTART:20191027T020000
RDATE:20200329T030000
TZOFFSETFROM:+0200
TZOFFSETTO:+0100
TZNAME:Europe/Paris CET
END:STANDARD
BEGIN:STANDARD
DTSTART:20201025T020000
RDATE:20210328T030000
TZOFFSETFROM:+0200
TZOFFSETTO:+0100
TZNAME:Europe/Paris CET
END:STANDARD
BEGIN:STANDARD
DTSTART:20211031T020000
RDATE:20220327T030000
TZOFFSETFROM:+0200
TZOFFSETTO:+0100
TZNAME:Europe/Paris CET
END:STANDARD
BEGIN:STANDARD
DTSTART:20221030T020000
RDATE:20230326T030000
TZOFFSETFROM:+0200
TZOFFSETTO:+0100
TZNAME:Europe/Paris CET
END:STANDARD
BEGIN:STANDARD
DTSTART:20231029T020000
RDATE:20240331T030000
TZOFFSETFROM:+0200
TZOFFSETTO:+0100
TZNAME:Europe/Paris CET
END:STANDARD
BEGIN:STANDARD
DTSTART:20241027T020000
RDATE:20250330T030000
TZOFFSETFROM:+0200
TZOFFSETTO:+0100
TZNAME:Europe/Paris CET
END:STANDARD
BEGIN:STANDARD
DTSTART:20251026T020000
RDATE:20260329T030000
TZOFFSETFROM:+0200
TZOFFSETTO:+0100
TZNAME:Europe/Paris CET
END:STANDARD
BEGIN:STANDARD
DTSTART:20261025T020000
RDATE:20270328T030000
TZOFFSETFROM:+0200
TZOFFSETTO:+0100
TZNAME:Europe/Paris CET
END:STANDARD
BEGIN:DAYLIGHT
DTSTART:20150329T030000
RDATE:20151025T020000
TZOFFSETFROM:+0100
TZOFFSETTO:+0200
TZNAME:Europe/Paris CEST
END:DAYLIGHT
BEGIN:DAYLIGHT
DTSTART:20160327T030000
RDATE:20161030T020000
TZOFFSETFROM:+0100
TZOFFSETTO:+0200
TZNAME:Europe/Paris CEST
END:DAYLIGHT
BEGIN:DAYLIGHT
DTSTART:20170326T030000
RDATE:20171029T020000
TZOFFSETFROM:+0100
TZOFFSETTO:+0200
TZNAME:Europe/Paris CEST
END:DAYLIGHT
BEGIN:DAYLIGHT
DTSTART:20180325T030000
RDATE:20181028T020000
TZOFFSETFROM:+0100
TZOFFSETTO:+0200
TZNAME:Europe/Paris CEST
END:DAYLIGHT
BEGIN:DAYLIGHT
DTSTART:20190331T030000
RDATE:20191027T020000
TZOFFSETFROM:+0100
TZOFFSETTO:+0200
TZNAME:Europe/Paris CEST
END:DAYLIGHT
BEGIN:DAYLIGHT
DTSTART:20200329T030000
RDATE:20201025T020000
TZOFFSETFROM:+0100
TZOFFSETTO:+0200
TZNAME:Europe/Paris CEST
END:DAYLIGHT
BEGIN:DAYLIGHT
DTSTART:20210328T030000
RDATE:20211031T020000
TZOFFSETFROM:+0100
TZOFFSETTO:+0200
TZNAME:Europe/Paris CEST
END:DAYLIGHT
BEGIN:DAYLIGHT
DTSTART:20220327T030000
RDATE:20221030T020000
TZOFFSETFROM:+0100
TZOFFSETTO:+0200
TZNAME:Europe/Paris CEST
END:DAYLIGHT
BEGIN:DAYLIGHT
DTSTART:20230326T030000
RDATE:20231029T020000
TZOFFSETFROM:+0100
TZOFFSETTO:+0200
TZNAME:Europe/Paris CEST
END:DAYLIGHT
BEGIN:DAYLIGHT
DTSTART:20240331T030000
RDATE:20241027T020000
TZOFFSETFROM:+0100
TZOFFSETTO:+0200
TZNAME:Europe/Paris CEST
END:DAYLIGHT
BEGIN:DAYLIGHT
DTSTART:20250330T030000
RDATE:20251026T020000
TZOFFSETFROM:+0100
TZOFFSETTO:+0200
TZNAME:Europe/Paris CEST
END:DAYLIGHT
BEGIN:DAYLIGHT
DTSTART:20260329T030000
RDATE:20261025T020000
TZOFFSETFROM:+0100
TZOFFSETTO:+0200
TZNAME:Europe/Paris CEST
END:DAYLIGHT
END:VTIMEZONE
BEGIN:VEVENT
UID:c5fe10f8382c7eecf7d3e331dd078f28
CATEGORIES:Opens et Promos (alpin)
CREATED:20151110T133952
SUMMARY:OPEN  U16 à Masters  31 èmes Journées françaises de Mellau  Slalom
URL;VALUE=URI:https://skivosges.net/agenda/a-venir/detailevenement/583/-/open-u16-a-maste
 rs-31-emes-journees-francaises-de-mellau-slalom?tmpl=component
DESCRIPTION:OPEN  U16 à Masters  31 èmes Journées françaises de Mellau  Slalom\n\nLieu 
 : MELLAU\nPiste : ROSSTELLE\nOrganisateur : ALSACE SKI PLUS COLMAR (14434 A
 LSACE SKI PLUS COLMAR)\nEmail : RegularLabs.EmailProtector.unCloak("ep_67f1
 75a6");\nTelecopie : 06 14 02 59 53\n\nPour les 31ème Journées Françaises d
 e Mellau\n1 seule inscription pour les 4 courses HetD\nsur skivosges.net \n
 Responsable inscriptions Jean Marie Vonthron\nRegularLabs.EmailProtector.un
 Cloak("ep_61d0f9bc"); / 06 14 02 59 53 \n\nInscriptions en cours sur ce sit
 e\n  Piste:Mellau (AUT)\n - AMVM0951  Slalom U16 a Masters Hommes\n  OPEN  
 U16 à Masters  31 èmes Journées françaises de Mellau  Slalom\n  Piste:Mella
 u (AUT)\n - AMVF0951  Slalom U16 a Masters Dames\n  OPEN  U16 à Masters  31
  èmes Journées françaises de Mellau  Slalom Cet évènement a été importé dep
 uis :https://skivosges.net/agenda/a-venir/detailevenement/583/-/open-u16-a-
 masters-31-emes-journees-francaises-de-mellau-slalom?tmpl=component
X-ALT-DESC;FMTTYPE=text/html:<strong>OPEN  U16 à Masters  31 èmes Journées françaises de Mellau  Slalom<
 /strong><br /><br />Lieu : MELLAU<br />Piste : ROSSTELLE<br />Organisateur 
 : ALSACE SKI PLUS COLMAR <small>(14434 ALSACE SKI PLUS COLMAR)</small><br /
 >Email : <!-- Cette adresse électronique est protégée contre les robots spa
 mmeurs. --><span class="cloaked_email ep_67f175a6"><span data-ep-a="&#118;&
 #116;&#110;" data-ep-b=""><span data-ep-b="&#102;&#114;" data-ep-a="&#64;&#
 119;&#97;"><span data-ep-b="o&#111;&#46;" data-ep-a="na&#100;"></span></spa
 n></span></span><script>RegularLabs.EmailProtector.unCloak("ep_67f175a6");<
 /script><br />Telecopie : 06 14 02 59 53<br /><br />Pour les 31ème Journées
  Françaises de Mellau<br>1 seule inscription pour les 4 courses HetD<br>sur
  skivosges.net <br>Responsable inscriptions Jean Marie Vonthron<br><!-- Cet
 te adresse électronique est protégée contre les robots spammeurs. --><span 
 class="cloaked_email ep_61d0f9bc"><span data-ep-a="&#118;tn" data-ep-b=""><
 span data-ep-b="&#102;r" data-ep-a="&#64;wa"><span data-ep-b="&#111;&#111;.
 " data-ep-a="&#110;ad"></span></span></span></span><script>RegularLabs.Emai
 lProtector.unCloak("ep_61d0f9bc");</script> / 06 14 02 59 53 <br /><br />In
 scriptions en cours sur ce site<ul type="disc"><br />&nbsp;&nbsp;Piste:Mell
 au (AUT)<li>AMVM0951  Slalom <nobr>U16 a Masters</nobr> Hommes<br />&nbsp;&
 nbsp;OPEN  U16 à Masters  31 èmes Journées françaises de Mellau  Slalom</li
 ><br />&nbsp;&nbsp;Piste:Mellau (AUT)<li>AMVF0951  Slalom <nobr>U16 a Maste
 rs</nobr> Dames<br />&nbsp;&nbsp;OPEN  U16 à Masters  31 èmes Journées fran
 çaises de Mellau  Slalom</li></ul> <a href="https://skivosges.net/agenda/a-
 venir/detailevenement/583/-/open-u16-a-masters-31-emes-journees-francaises-
 de-mellau-slalom?tmpl=component">Cet évènement a été importé depuis :https:
 //skivosges.net/agenda/a-venir/detailevenement/583/-/open-u16-a-masters-31-
 emes-journees-francaises-de-mellau-slalom?tmpl=component</a>DTSTAMP:20260424T073919
DTSTART;TZID=Europe/Paris:20160325T080000
DTEND;TZID=Europe/Paris:20160325T170000
SEQUENCE:0
TRANSP:OPAQUE
END:VEVENT
END:VCALENDAR