BEGIN:VCALENDAR
VERSION:2.0
PRODID:-//jEvents 2.0 for Joomla//EN
CALSCALE:GREGORIAN
METHOD:PUBLISH
BEGIN:VTIMEZONE
TZID:Europe/Paris
BEGIN:STANDARD
DTSTART:20150327T070000
RDATE:20150329T030000
TZOFFSETFROM:+0200
TZOFFSETTO:+0100
TZNAME:Europe/Paris CET
END:STANDARD
BEGIN:STANDARD
DTSTART:20151025T020000
RDATE:20160327T030000
TZOFFSETFROM:+0200
TZOFFSETTO:+0100
TZNAME:Europe/Paris CET
END:STANDARD
BEGIN:STANDARD
DTSTART:20161030T020000
RDATE:20170326T030000
TZOFFSETFROM:+0200
TZOFFSETTO:+0100
TZNAME:Europe/Paris CET
END:STANDARD
BEGIN:STANDARD
DTSTART:20171029T020000
RDATE:20180325T030000
TZOFFSETFROM:+0200
TZOFFSETTO:+0100
TZNAME:Europe/Paris CET
END:STANDARD
BEGIN:STANDARD
DTSTART:20181028T020000
RDATE:20190331T030000
TZOFFSETFROM:+0200
TZOFFSETTO:+0100
TZNAME:Europe/Paris CET
END:STANDARD
BEGIN:STANDARD
DTSTART:20191027T020000
RDATE:20200329T030000
TZOFFSETFROM:+0200
TZOFFSETTO:+0100
TZNAME:Europe/Paris CET
END:STANDARD
BEGIN:STANDARD
DTSTART:20201025T020000
RDATE:20210328T030000
TZOFFSETFROM:+0200
TZOFFSETTO:+0100
TZNAME:Europe/Paris CET
END:STANDARD
BEGIN:STANDARD
DTSTART:20211031T020000
RDATE:20220327T030000
TZOFFSETFROM:+0200
TZOFFSETTO:+0100
TZNAME:Europe/Paris CET
END:STANDARD
BEGIN:STANDARD
DTSTART:20221030T020000
RDATE:20230326T030000
TZOFFSETFROM:+0200
TZOFFSETTO:+0100
TZNAME:Europe/Paris CET
END:STANDARD
BEGIN:STANDARD
DTSTART:20231029T020000
RDATE:20240331T030000
TZOFFSETFROM:+0200
TZOFFSETTO:+0100
TZNAME:Europe/Paris CET
END:STANDARD
BEGIN:STANDARD
DTSTART:20241027T020000
RDATE:20250330T030000
TZOFFSETFROM:+0200
TZOFFSETTO:+0100
TZNAME:Europe/Paris CET
END:STANDARD
BEGIN:STANDARD
DTSTART:20251026T020000
RDATE:20260329T030000
TZOFFSETFROM:+0200
TZOFFSETTO:+0100
TZNAME:Europe/Paris CET
END:STANDARD
BEGIN:STANDARD
DTSTART:20261025T020000
RDATE:20270328T030000
TZOFFSETFROM:+0200
TZOFFSETTO:+0100
TZNAME:Europe/Paris CET
END:STANDARD
BEGIN:DAYLIGHT
DTSTART:20150329T030000
RDATE:20151025T020000
TZOFFSETFROM:+0100
TZOFFSETTO:+0200
TZNAME:Europe/Paris CEST
END:DAYLIGHT
BEGIN:DAYLIGHT
DTSTART:20160327T030000
RDATE:20161030T020000
TZOFFSETFROM:+0100
TZOFFSETTO:+0200
TZNAME:Europe/Paris CEST
END:DAYLIGHT
BEGIN:DAYLIGHT
DTSTART:20170326T030000
RDATE:20171029T020000
TZOFFSETFROM:+0100
TZOFFSETTO:+0200
TZNAME:Europe/Paris CEST
END:DAYLIGHT
BEGIN:DAYLIGHT
DTSTART:20180325T030000
RDATE:20181028T020000
TZOFFSETFROM:+0100
TZOFFSETTO:+0200
TZNAME:Europe/Paris CEST
END:DAYLIGHT
BEGIN:DAYLIGHT
DTSTART:20190331T030000
RDATE:20191027T020000
TZOFFSETFROM:+0100
TZOFFSETTO:+0200
TZNAME:Europe/Paris CEST
END:DAYLIGHT
BEGIN:DAYLIGHT
DTSTART:20200329T030000
RDATE:20201025T020000
TZOFFSETFROM:+0100
TZOFFSETTO:+0200
TZNAME:Europe/Paris CEST
END:DAYLIGHT
BEGIN:DAYLIGHT
DTSTART:20210328T030000
RDATE:20211031T020000
TZOFFSETFROM:+0100
TZOFFSETTO:+0200
TZNAME:Europe/Paris CEST
END:DAYLIGHT
BEGIN:DAYLIGHT
DTSTART:20220327T030000
RDATE:20221030T020000
TZOFFSETFROM:+0100
TZOFFSETTO:+0200
TZNAME:Europe/Paris CEST
END:DAYLIGHT
BEGIN:DAYLIGHT
DTSTART:20230326T030000
RDATE:20231029T020000
TZOFFSETFROM:+0100
TZOFFSETTO:+0200
TZNAME:Europe/Paris CEST
END:DAYLIGHT
BEGIN:DAYLIGHT
DTSTART:20240331T030000
RDATE:20241027T020000
TZOFFSETFROM:+0100
TZOFFSETTO:+0200
TZNAME:Europe/Paris CEST
END:DAYLIGHT
BEGIN:DAYLIGHT
DTSTART:20250330T030000
RDATE:20251026T020000
TZOFFSETFROM:+0100
TZOFFSETTO:+0200
TZNAME:Europe/Paris CEST
END:DAYLIGHT
BEGIN:DAYLIGHT
DTSTART:20260329T030000
RDATE:20261025T020000
TZOFFSETFROM:+0100
TZOFFSETTO:+0200
TZNAME:Europe/Paris CEST
END:DAYLIGHT
END:VTIMEZONE
BEGIN:VEVENT
UID:1edf4952464c6a71723d3afe39ae31d3
CATEGORIES:Compétition Ski de Fond
CREATED:20151110T133952
SUMMARY:Finale Crédit Mutuel Grand Prix des Commercants C M n° 8 BigMat n° 8
URL;VALUE=URI:https://skivosges.net/agenda/a-venir/detailevenement/589/-/finale-credit-mu
 tuel-grand-prix-des-commercants-c-m-n-8-bigmat-n-8?tmpl=component
DESCRIPTION:Finale Crédit Mutuel Grand Prix des Commercants C M n° 8 BigMat n° 8\nOrgan
 isateur : S.C MARKSTEIN RANSPACH (14053 S.C MARKSTEIN RANSPACH)\n - FMVF024
 1  Mass Start (Depart ligne) U14 (Minime) Filles\n  Finale Crédit Mutuel Gr
 and Prix des Commercants C M n° 8 BigMat n° 8\n - FMVF0242  Mass Start (Dep
 art ligne) U16 (Cadet) Filles\n  Finale Crédit Mutuel Grand Prix des Commer
 cants C M n° 8 BigMat n° 8\n - FMVF0243  Mass Start (Depart ligne) Dames\n 
  Finale Crédit Mutuel Grand Prix des Commercants C M n° 8 BigMat n° 8\n - F
 MVF0244  Mass Start (Depart ligne) Senior Dames\n  Finale Crédit Mutuel Gra
 nd Prix des Commercants C M n° 8 BigMat n° 8\n - FMVM0241  Mass Start (Depa
 rt ligne) U14 (Minime) Garçons\n  Finale Crédit Mutuel Grand Prix des Comme
 rcants C M n° 8 BigMat n° 8\n - FMVM0242  Mass Start (Depart ligne) U16 (Ca
 det) Garçons\n  Finale Crédit Mutuel Grand Prix des Commercants C M n° 8 Bi
 gMat n° 8\n - FMVM0243  Mass Start (Depart ligne) Hommes\n  Finale Crédit M
 utuel Grand Prix des Commercants C M n° 8 BigMat n° 8\n - FMVM0244  Mass St
 art (Depart ligne) Senior Hommes\n  Finale Crédit Mutuel Grand Prix des Com
 mercants C M n° 8 BigMat n° 8 Cet évènement a été importé depuis :https://s
 kivosges.net/agenda/a-venir/detailevenement/589/-/finale-credit-mutuel-gran
 d-prix-des-commercants-c-m-n-8-bigmat-n-8?tmpl=component (https://skivosges
 .net/agenda/a-venir/detailevenement/589/-/finale-credit-mutuel-grand-prix-d
 es-commercants-c-m-n-8-bigmat-n-8?tmpl=component)
X-ALT-DESC;FMTTYPE=text/html:<strong>Finale Crédit Mutuel Grand Prix des Commercants C M n° 8 BigMat n° 
 8</strong><br />Organisateur : S.C MARKSTEIN RANSPACH <small>(14053 S.C MAR
 KSTEIN RANSPACH)</small><ul type="disc"><li>FMVF0241  Mass Start (Depart li
 gne) <nobr>U14 (Minime)</nobr> Filles<br />&nbsp;&nbsp;Finale Crédit Mutuel
  Grand Prix des Commercants C M n° 8 BigMat n° 8</li><li>FMVF0242  Mass Sta
 rt (Depart ligne) <nobr>U16 (Cadet)</nobr> Filles<br />&nbsp;&nbsp;Finale C
 rédit Mutuel Grand Prix des Commercants C M n° 8 BigMat n° 8</li><li>FMVF02
 43  Mass Start (Depart ligne) Dames<br />&nbsp;&nbsp;Finale Crédit Mutuel G
 rand Prix des Commercants C M n° 8 BigMat n° 8</li><li>FMVF0244  Mass Start
  (Depart ligne) <nobr>Senior</nobr> Dames<br />&nbsp;&nbsp;Finale Crédit Mu
 tuel Grand Prix des Commercants C M n° 8 BigMat n° 8</li><li>FMVM0241  Mass
  Start (Depart ligne) <nobr>U14 (Minime)</nobr> Garçons<br />&nbsp;&nbsp;Fi
 nale Crédit Mutuel Grand Prix des Commercants C M n° 8 BigMat n° 8</li><li>
 FMVM0242  Mass Start (Depart ligne) <nobr>U16 (Cadet)</nobr> Garçons<br />&
 nbsp;&nbsp;Finale Crédit Mutuel Grand Prix des Commercants C M n° 8 BigMat 
 n° 8</li><li>FMVM0243  Mass Start (Depart ligne) Hommes<br />&nbsp;&nbsp;Fi
 nale Crédit Mutuel Grand Prix des Commercants C M n° 8 BigMat n° 8</li><li>
 FMVM0244  Mass Start (Depart ligne) <nobr>Senior</nobr> Hommes<br />&nbsp;&
 nbsp;Finale Crédit Mutuel Grand Prix des Commercants C M n° 8 BigMat n° 8</
 li></ul> <a href="https://skivosges.net/agenda/a-venir/detailevenement/589/
 -/finale-credit-mutuel-grand-prix-des-commercants-c-m-n-8-bigmat-n-8?tmpl=c
 omponent">Cet évènement a été importé depuis :https://skivosges.net/agenda/
 a-venir/detailevenement/589/-/finale-credit-mutuel-grand-prix-des-commercan
 ts-c-m-n-8-bigmat-n-8?tmpl=component</a>DTSTAMP:20260424T073934
DTSTART;TZID=Europe/Paris:20160327T080000
DTEND;TZID=Europe/Paris:20160327T170000
SEQUENCE:0
TRANSP:OPAQUE
END:VEVENT
END:VCALENDAR