BEGIN:VCALENDAR
VERSION:2.0
PRODID:-//jEvents 2.0 for Joomla//EN
CALSCALE:GREGORIAN
METHOD:PUBLISH
BEGIN:VTIMEZONE
TZID:Europe/Paris
BEGIN:STANDARD
DTSTART:20150328T070000
RDATE:20150329T030000
TZOFFSETFROM:+0200
TZOFFSETTO:+0100
TZNAME:Europe/Paris CET
END:STANDARD
BEGIN:STANDARD
DTSTART:20151025T020000
RDATE:20160327T030000
TZOFFSETFROM:+0200
TZOFFSETTO:+0100
TZNAME:Europe/Paris CET
END:STANDARD
BEGIN:STANDARD
DTSTART:20161030T020000
RDATE:20170326T030000
TZOFFSETFROM:+0200
TZOFFSETTO:+0100
TZNAME:Europe/Paris CET
END:STANDARD
BEGIN:STANDARD
DTSTART:20171029T020000
RDATE:20180325T030000
TZOFFSETFROM:+0200
TZOFFSETTO:+0100
TZNAME:Europe/Paris CET
END:STANDARD
BEGIN:STANDARD
DTSTART:20181028T020000
RDATE:20190331T030000
TZOFFSETFROM:+0200
TZOFFSETTO:+0100
TZNAME:Europe/Paris CET
END:STANDARD
BEGIN:STANDARD
DTSTART:20191027T020000
RDATE:20200329T030000
TZOFFSETFROM:+0200
TZOFFSETTO:+0100
TZNAME:Europe/Paris CET
END:STANDARD
BEGIN:STANDARD
DTSTART:20201025T020000
RDATE:20210328T030000
TZOFFSETFROM:+0200
TZOFFSETTO:+0100
TZNAME:Europe/Paris CET
END:STANDARD
BEGIN:STANDARD
DTSTART:20211031T020000
RDATE:20220327T030000
TZOFFSETFROM:+0200
TZOFFSETTO:+0100
TZNAME:Europe/Paris CET
END:STANDARD
BEGIN:STANDARD
DTSTART:20221030T020000
RDATE:20230326T030000
TZOFFSETFROM:+0200
TZOFFSETTO:+0100
TZNAME:Europe/Paris CET
END:STANDARD
BEGIN:STANDARD
DTSTART:20231029T020000
RDATE:20240331T030000
TZOFFSETFROM:+0200
TZOFFSETTO:+0100
TZNAME:Europe/Paris CET
END:STANDARD
BEGIN:STANDARD
DTSTART:20241027T020000
RDATE:20250330T030000
TZOFFSETFROM:+0200
TZOFFSETTO:+0100
TZNAME:Europe/Paris CET
END:STANDARD
BEGIN:STANDARD
DTSTART:20251026T020000
RDATE:20260329T030000
TZOFFSETFROM:+0200
TZOFFSETTO:+0100
TZNAME:Europe/Paris CET
END:STANDARD
BEGIN:STANDARD
DTSTART:20261025T020000
RDATE:20270328T030000
TZOFFSETFROM:+0200
TZOFFSETTO:+0100
TZNAME:Europe/Paris CET
END:STANDARD
BEGIN:DAYLIGHT
DTSTART:20150329T030000
RDATE:20151025T020000
TZOFFSETFROM:+0100
TZOFFSETTO:+0200
TZNAME:Europe/Paris CEST
END:DAYLIGHT
BEGIN:DAYLIGHT
DTSTART:20160327T030000
RDATE:20161030T020000
TZOFFSETFROM:+0100
TZOFFSETTO:+0200
TZNAME:Europe/Paris CEST
END:DAYLIGHT
BEGIN:DAYLIGHT
DTSTART:20170326T030000
RDATE:20171029T020000
TZOFFSETFROM:+0100
TZOFFSETTO:+0200
TZNAME:Europe/Paris CEST
END:DAYLIGHT
BEGIN:DAYLIGHT
DTSTART:20180325T030000
RDATE:20181028T020000
TZOFFSETFROM:+0100
TZOFFSETTO:+0200
TZNAME:Europe/Paris CEST
END:DAYLIGHT
BEGIN:DAYLIGHT
DTSTART:20190331T030000
RDATE:20191027T020000
TZOFFSETFROM:+0100
TZOFFSETTO:+0200
TZNAME:Europe/Paris CEST
END:DAYLIGHT
BEGIN:DAYLIGHT
DTSTART:20200329T030000
RDATE:20201025T020000
TZOFFSETFROM:+0100
TZOFFSETTO:+0200
TZNAME:Europe/Paris CEST
END:DAYLIGHT
BEGIN:DAYLIGHT
DTSTART:20210328T030000
RDATE:20211031T020000
TZOFFSETFROM:+0100
TZOFFSETTO:+0200
TZNAME:Europe/Paris CEST
END:DAYLIGHT
BEGIN:DAYLIGHT
DTSTART:20220327T030000
RDATE:20221030T020000
TZOFFSETFROM:+0100
TZOFFSETTO:+0200
TZNAME:Europe/Paris CEST
END:DAYLIGHT
BEGIN:DAYLIGHT
DTSTART:20230326T030000
RDATE:20231029T020000
TZOFFSETFROM:+0100
TZOFFSETTO:+0200
TZNAME:Europe/Paris CEST
END:DAYLIGHT
BEGIN:DAYLIGHT
DTSTART:20240331T030000
RDATE:20241027T020000
TZOFFSETFROM:+0100
TZOFFSETTO:+0200
TZNAME:Europe/Paris CEST
END:DAYLIGHT
BEGIN:DAYLIGHT
DTSTART:20250330T030000
RDATE:20251026T020000
TZOFFSETFROM:+0100
TZOFFSETTO:+0200
TZNAME:Europe/Paris CEST
END:DAYLIGHT
BEGIN:DAYLIGHT
DTSTART:20260329T030000
RDATE:20261025T020000
TZOFFSETFROM:+0100
TZOFFSETTO:+0200
TZNAME:Europe/Paris CEST
END:DAYLIGHT
END:VTIMEZONE
BEGIN:VEVENT
UID:5d44c5ef9f694abfdf29139226243caf
CATEGORIES:Opens et Promos (alpin)
CREATED:20151110T133952
SUMMARY:OPEN  U16 à Masters  31 èmes Journées françaises de Mellau  Slalom
URL;VALUE=URI:https://skivosges.net/agenda/a-venir/detailevenement/590/-/open-u16-a-maste
 rs-31-emes-journees-francaises-de-mellau-slalom?tmpl=component
DESCRIPTION:OPEN  U16 à Masters  31 èmes Journées françaises de Mellau  Slalom\nOrganis
 ateur : ALSACE SKI PLUS COLMAR (14434 ALSACE SKI PLUS COLMAR)\nEmail : Regu
 larLabs.EmailProtector.unCloak("ep_0ae03631");\nTelecopie : 03 89 27 22 34\
 n  Piste:Mellau (AUT)\n - AMVM1001  Slalom U16 a Masters Hommes\n  OPEN  U1
 6 à Masters  31 èmes Journées françaises de Mellau  Slalom\n  Piste:Mellau 
 (AUT)\n - AMVF1001  Slalom U16 a Masters Dames\n  OPEN  U16 à Masters  31 è
 mes Journées françaises de Mellau  Slalom Cet évènement a été importé depui
 s :https://skivosges.net/agenda/a-venir/detailevenement/590/-/open-u16-a-ma
 sters-31-emes-journees-francaises-de-mellau-slalom?tmpl=component
X-ALT-DESC;FMTTYPE=text/html:<strong>OPEN  U16 à Masters  31 èmes Journées françaises de Mellau  Slalom<
 /strong><br />Organisateur : ALSACE SKI PLUS COLMAR <small>(14434 ALSACE SK
 I PLUS COLMAR)</small><br />Email : <!-- Cette adresse électronique est pro
 tégée contre les robots spammeurs. --><span class="cloaked_email ep_0ae0363
 1"><span data-ep-a="&#118;&#116;n" data-ep-b=""><span data-ep-b="&#102;r" d
 ata-ep-a="&#64;w&#97;"><span data-ep-b="&#111;o&#46;" data-ep-a="&#110;ad">
 </span></span></span></span><script>RegularLabs.EmailProtector.unCloak("ep_
 0ae03631");</script><br />Telecopie : 03 89 27 22 34<ul type="disc"><br />&
 nbsp;&nbsp;Piste:Mellau (AUT)<li>AMVM1001  Slalom <nobr>U16 a Masters</nobr
 > Hommes<br />&nbsp;&nbsp;OPEN  U16 à Masters  31 èmes Journées françaises 
 de Mellau  Slalom</li><br />&nbsp;&nbsp;Piste:Mellau (AUT)<li>AMVF1001  Sla
 lom <nobr>U16 a Masters</nobr> Dames<br />&nbsp;&nbsp;OPEN  U16 à Masters  
 31 èmes Journées françaises de Mellau  Slalom</li></ul> <a href="https://sk
 ivosges.net/agenda/a-venir/detailevenement/590/-/open-u16-a-masters-31-emes
 -journees-francaises-de-mellau-slalom?tmpl=component">Cet évènement a été i
 mporté depuis :https://skivosges.net/agenda/a-venir/detailevenement/590/-/o
 pen-u16-a-masters-31-emes-journees-francaises-de-mellau-slalom?tmpl=compone
 nt</a>DTSTAMP:20260424T073933
DTSTART;TZID=Europe/Paris:20160328T080000
DTEND;TZID=Europe/Paris:20160328T170000
SEQUENCE:0
TRANSP:OPAQUE
END:VEVENT
END:VCALENDAR