BEGIN:VCALENDAR
VERSION:2.0
PRODID:-//jEvents 2.0 for Joomla//EN
CALSCALE:GREGORIAN
METHOD:PUBLISH
BEGIN:VTIMEZONE
TZID:Europe/Paris
BEGIN:STANDARD
DTSTART:20150305T080000
RDATE:20150329T030000
TZOFFSETFROM:+0200
TZOFFSETTO:+0100
TZNAME:Europe/Paris CET
END:STANDARD
BEGIN:STANDARD
DTSTART:20151025T020000
RDATE:20160327T030000
TZOFFSETFROM:+0200
TZOFFSETTO:+0100
TZNAME:Europe/Paris CET
END:STANDARD
BEGIN:STANDARD
DTSTART:20161030T020000
RDATE:20170326T030000
TZOFFSETFROM:+0200
TZOFFSETTO:+0100
TZNAME:Europe/Paris CET
END:STANDARD
BEGIN:STANDARD
DTSTART:20171029T020000
RDATE:20180325T030000
TZOFFSETFROM:+0200
TZOFFSETTO:+0100
TZNAME:Europe/Paris CET
END:STANDARD
BEGIN:STANDARD
DTSTART:20181028T020000
RDATE:20190331T030000
TZOFFSETFROM:+0200
TZOFFSETTO:+0100
TZNAME:Europe/Paris CET
END:STANDARD
BEGIN:STANDARD
DTSTART:20191027T020000
RDATE:20200329T030000
TZOFFSETFROM:+0200
TZOFFSETTO:+0100
TZNAME:Europe/Paris CET
END:STANDARD
BEGIN:STANDARD
DTSTART:20201025T020000
RDATE:20210328T030000
TZOFFSETFROM:+0200
TZOFFSETTO:+0100
TZNAME:Europe/Paris CET
END:STANDARD
BEGIN:STANDARD
DTSTART:20211031T020000
RDATE:20220327T030000
TZOFFSETFROM:+0200
TZOFFSETTO:+0100
TZNAME:Europe/Paris CET
END:STANDARD
BEGIN:STANDARD
DTSTART:20221030T020000
RDATE:20230326T030000
TZOFFSETFROM:+0200
TZOFFSETTO:+0100
TZNAME:Europe/Paris CET
END:STANDARD
BEGIN:STANDARD
DTSTART:20231029T020000
RDATE:20240331T030000
TZOFFSETFROM:+0200
TZOFFSETTO:+0100
TZNAME:Europe/Paris CET
END:STANDARD
BEGIN:STANDARD
DTSTART:20241027T020000
RDATE:20250330T030000
TZOFFSETFROM:+0200
TZOFFSETTO:+0100
TZNAME:Europe/Paris CET
END:STANDARD
BEGIN:STANDARD
DTSTART:20251026T020000
RDATE:20260329T030000
TZOFFSETFROM:+0200
TZOFFSETTO:+0100
TZNAME:Europe/Paris CET
END:STANDARD
BEGIN:STANDARD
DTSTART:20261025T020000
RDATE:20270328T030000
TZOFFSETFROM:+0200
TZOFFSETTO:+0100
TZNAME:Europe/Paris CET
END:STANDARD
BEGIN:DAYLIGHT
DTSTART:20150329T030000
RDATE:20151025T020000
TZOFFSETFROM:+0100
TZOFFSETTO:+0200
TZNAME:Europe/Paris CEST
END:DAYLIGHT
BEGIN:DAYLIGHT
DTSTART:20160327T030000
RDATE:20161030T020000
TZOFFSETFROM:+0100
TZOFFSETTO:+0200
TZNAME:Europe/Paris CEST
END:DAYLIGHT
BEGIN:DAYLIGHT
DTSTART:20170326T030000
RDATE:20171029T020000
TZOFFSETFROM:+0100
TZOFFSETTO:+0200
TZNAME:Europe/Paris CEST
END:DAYLIGHT
BEGIN:DAYLIGHT
DTSTART:20180325T030000
RDATE:20181028T020000
TZOFFSETFROM:+0100
TZOFFSETTO:+0200
TZNAME:Europe/Paris CEST
END:DAYLIGHT
BEGIN:DAYLIGHT
DTSTART:20190331T030000
RDATE:20191027T020000
TZOFFSETFROM:+0100
TZOFFSETTO:+0200
TZNAME:Europe/Paris CEST
END:DAYLIGHT
BEGIN:DAYLIGHT
DTSTART:20200329T030000
RDATE:20201025T020000
TZOFFSETFROM:+0100
TZOFFSETTO:+0200
TZNAME:Europe/Paris CEST
END:DAYLIGHT
BEGIN:DAYLIGHT
DTSTART:20210328T030000
RDATE:20211031T020000
TZOFFSETFROM:+0100
TZOFFSETTO:+0200
TZNAME:Europe/Paris CEST
END:DAYLIGHT
BEGIN:DAYLIGHT
DTSTART:20220327T030000
RDATE:20221030T020000
TZOFFSETFROM:+0100
TZOFFSETTO:+0200
TZNAME:Europe/Paris CEST
END:DAYLIGHT
BEGIN:DAYLIGHT
DTSTART:20230326T030000
RDATE:20231029T020000
TZOFFSETFROM:+0100
TZOFFSETTO:+0200
TZNAME:Europe/Paris CEST
END:DAYLIGHT
BEGIN:DAYLIGHT
DTSTART:20240331T030000
RDATE:20241027T020000
TZOFFSETFROM:+0100
TZOFFSETTO:+0200
TZNAME:Europe/Paris CEST
END:DAYLIGHT
BEGIN:DAYLIGHT
DTSTART:20250330T030000
RDATE:20251026T020000
TZOFFSETFROM:+0100
TZOFFSETTO:+0200
TZNAME:Europe/Paris CEST
END:DAYLIGHT
BEGIN:DAYLIGHT
DTSTART:20260329T030000
RDATE:20261025T020000
TZOFFSETFROM:+0100
TZOFFSETTO:+0200
TZNAME:Europe/Paris CEST
END:DAYLIGHT
END:VTIMEZONE
BEGIN:VEVENT
UID:85f569bfda43914195c3f91c8b4b3b60
CATEGORIES:Compétition Ski de Fond
CREATED:20160107T174704
SUMMARY:Grand Prix EDF Centrale de Fessenheim BigMat Atomic U16
URL;VALUE=URI:https://skivosges.net/agenda/a-venir/detailevenement/600/-/grand-prix-edf-c
 entrale-de-fessenheim-bigmat-atomic-u16?tmpl=component
DESCRIPTION:Grand Prix EDF Centrale de Fessenheim BigMat Atomic U16\n\nLieu : MARKSTEIN
 \nPiste : Nordique Parc\nOrganisateur : S.C MARKSTEIN RANSPACH (14053 S.C M
 ARKSTEIN RANSPACH)\nTelecopie : 0608618549\n\n1er départ à 15h00.\nLa cours
 e se passe au nordique parc\n\n\nInscriptions closes, tirage des dossards e
 n cours\n - FMVF0071  Depart Individuel U16 (Cadet) Filles\n  Grand Prix ED
 F Centrale de Fessenheim BigMat Atomic U16\n - FMVF0072  Depart Individuel 
 U16/U18 (Cadet/Jeune) Dames\n  Grand Prix EDF Centrale de Fessenheim BigMat
  Atomic U16\n - FMVF0073  Depart Individuel Senior Dames\n  Grand Prix EDF 
 Centrale de Fessenheim BigMat Atomic U16\n - FMVM0071  Depart Individuel U1
 6 (Cadet) Garçons\n  Grand Prix EDF Centrale de Fessenheim BigMat Atomic U1
 6\n - FMVM0072  Depart Individuel U16/U18 (Cadet/Jeune) Hommes\n  Grand Pri
 x EDF Centrale de Fessenheim BigMat Atomic U16\n - FMVM0073  Depart Individ
 uel Senior Hommes\n  Grand Prix EDF Centrale de Fessenheim BigMat Atomic U1
 6 Cet évènement a été importé depuis :https://skivosges.net/agenda/a-venir/
 detailevenement/600/-/grand-prix-edf-centrale-de-fessenheim-bigmat-atomic-u
 16?tmpl=component
X-ALT-DESC;FMTTYPE=text/html:<strong>Grand Prix EDF Centrale de Fessenheim BigMat Atomic U16</strong><br
  /><br />Lieu : MARKSTEIN<br />Piste : Nordique Parc<br />Organisateur : S.
 C MARKSTEIN RANSPACH <small>(14053 S.C MARKSTEIN RANSPACH)</small><br />Tel
 ecopie : 0608618549<br /><br />1er départ à 15h00.<br>La course se passe au
  nordique parc<br><br /><br />Inscriptions closes, tirage des dossards en c
 ours<ul type="disc"><li>FMVF0071  Depart Individuel <nobr>U16 (Cadet)</nobr
 > Filles<br />&nbsp;&nbsp;Grand Prix EDF Centrale de Fessenheim BigMat Atom
 ic U16</li><li>FMVF0072  Depart Individuel <nobr>U16/U18 (Cadet/Jeune)</nob
 r> Dames<br />&nbsp;&nbsp;Grand Prix EDF Centrale de Fessenheim BigMat Atom
 ic U16</li><li>FMVF0073  Depart Individuel <nobr>Senior</nobr> Dames<br />&
 nbsp;&nbsp;Grand Prix EDF Centrale de Fessenheim BigMat Atomic U16</li><li>
 FMVM0071  Depart Individuel <nobr>U16 (Cadet)</nobr> Garçons<br />&nbsp;&nb
 sp;Grand Prix EDF Centrale de Fessenheim BigMat Atomic U16</li><li>FMVM0072
   Depart Individuel <nobr>U16/U18 (Cadet/Jeune)</nobr> Hommes<br />&nbsp;&n
 bsp;Grand Prix EDF Centrale de Fessenheim BigMat Atomic U16</li><li>FMVM007
 3  Depart Individuel <nobr>Senior</nobr> Hommes<br />&nbsp;&nbsp;Grand Prix
  EDF Centrale de Fessenheim BigMat Atomic U16</li></ul> <a href="https://sk
 ivosges.net/agenda/a-venir/detailevenement/600/-/grand-prix-edf-centrale-de
 -fessenheim-bigmat-atomic-u16?tmpl=component">Cet évènement a été importé d
 epuis :https://skivosges.net/agenda/a-venir/detailevenement/600/-/grand-pri
 x-edf-centrale-de-fessenheim-bigmat-atomic-u16?tmpl=component</a>DTSTAMP:20260424T083700
DTSTART;TZID=Europe/Paris:20160305T080000
DTEND;TZID=Europe/Paris:20160305T170000
SEQUENCE:0
TRANSP:OPAQUE
END:VEVENT
END:VCALENDAR