BEGIN:VCALENDAR
VERSION:2.0
PRODID:-//jEvents 2.0 for Joomla//EN
CALSCALE:GREGORIAN
METHOD:PUBLISH
BEGIN:VTIMEZONE
TZID:Europe/Paris
BEGIN:STANDARD
DTSTART:20150305T080000
RDATE:20150329T030000
TZOFFSETFROM:+0200
TZOFFSETTO:+0100
TZNAME:Europe/Paris CET
END:STANDARD
BEGIN:STANDARD
DTSTART:20151025T020000
RDATE:20160327T030000
TZOFFSETFROM:+0200
TZOFFSETTO:+0100
TZNAME:Europe/Paris CET
END:STANDARD
BEGIN:STANDARD
DTSTART:20161030T020000
RDATE:20170326T030000
TZOFFSETFROM:+0200
TZOFFSETTO:+0100
TZNAME:Europe/Paris CET
END:STANDARD
BEGIN:STANDARD
DTSTART:20171029T020000
RDATE:20180325T030000
TZOFFSETFROM:+0200
TZOFFSETTO:+0100
TZNAME:Europe/Paris CET
END:STANDARD
BEGIN:STANDARD
DTSTART:20181028T020000
RDATE:20190331T030000
TZOFFSETFROM:+0200
TZOFFSETTO:+0100
TZNAME:Europe/Paris CET
END:STANDARD
BEGIN:STANDARD
DTSTART:20191027T020000
RDATE:20200329T030000
TZOFFSETFROM:+0200
TZOFFSETTO:+0100
TZNAME:Europe/Paris CET
END:STANDARD
BEGIN:STANDARD
DTSTART:20201025T020000
RDATE:20210328T030000
TZOFFSETFROM:+0200
TZOFFSETTO:+0100
TZNAME:Europe/Paris CET
END:STANDARD
BEGIN:STANDARD
DTSTART:20211031T020000
RDATE:20220327T030000
TZOFFSETFROM:+0200
TZOFFSETTO:+0100
TZNAME:Europe/Paris CET
END:STANDARD
BEGIN:STANDARD
DTSTART:20221030T020000
RDATE:20230326T030000
TZOFFSETFROM:+0200
TZOFFSETTO:+0100
TZNAME:Europe/Paris CET
END:STANDARD
BEGIN:STANDARD
DTSTART:20231029T020000
RDATE:20240331T030000
TZOFFSETFROM:+0200
TZOFFSETTO:+0100
TZNAME:Europe/Paris CET
END:STANDARD
BEGIN:STANDARD
DTSTART:20241027T020000
RDATE:20250330T030000
TZOFFSETFROM:+0200
TZOFFSETTO:+0100
TZNAME:Europe/Paris CET
END:STANDARD
BEGIN:STANDARD
DTSTART:20251026T020000
RDATE:20260329T030000
TZOFFSETFROM:+0200
TZOFFSETTO:+0100
TZNAME:Europe/Paris CET
END:STANDARD
BEGIN:STANDARD
DTSTART:20261025T020000
RDATE:20270328T030000
TZOFFSETFROM:+0200
TZOFFSETTO:+0100
TZNAME:Europe/Paris CET
END:STANDARD
BEGIN:DAYLIGHT
DTSTART:20150329T030000
RDATE:20151025T020000
TZOFFSETFROM:+0100
TZOFFSETTO:+0200
TZNAME:Europe/Paris CEST
END:DAYLIGHT
BEGIN:DAYLIGHT
DTSTART:20160327T030000
RDATE:20161030T020000
TZOFFSETFROM:+0100
TZOFFSETTO:+0200
TZNAME:Europe/Paris CEST
END:DAYLIGHT
BEGIN:DAYLIGHT
DTSTART:20170326T030000
RDATE:20171029T020000
TZOFFSETFROM:+0100
TZOFFSETTO:+0200
TZNAME:Europe/Paris CEST
END:DAYLIGHT
BEGIN:DAYLIGHT
DTSTART:20180325T030000
RDATE:20181028T020000
TZOFFSETFROM:+0100
TZOFFSETTO:+0200
TZNAME:Europe/Paris CEST
END:DAYLIGHT
BEGIN:DAYLIGHT
DTSTART:20190331T030000
RDATE:20191027T020000
TZOFFSETFROM:+0100
TZOFFSETTO:+0200
TZNAME:Europe/Paris CEST
END:DAYLIGHT
BEGIN:DAYLIGHT
DTSTART:20200329T030000
RDATE:20201025T020000
TZOFFSETFROM:+0100
TZOFFSETTO:+0200
TZNAME:Europe/Paris CEST
END:DAYLIGHT
BEGIN:DAYLIGHT
DTSTART:20210328T030000
RDATE:20211031T020000
TZOFFSETFROM:+0100
TZOFFSETTO:+0200
TZNAME:Europe/Paris CEST
END:DAYLIGHT
BEGIN:DAYLIGHT
DTSTART:20220327T030000
RDATE:20221030T020000
TZOFFSETFROM:+0100
TZOFFSETTO:+0200
TZNAME:Europe/Paris CEST
END:DAYLIGHT
BEGIN:DAYLIGHT
DTSTART:20230326T030000
RDATE:20231029T020000
TZOFFSETFROM:+0100
TZOFFSETTO:+0200
TZNAME:Europe/Paris CEST
END:DAYLIGHT
BEGIN:DAYLIGHT
DTSTART:20240331T030000
RDATE:20241027T020000
TZOFFSETFROM:+0100
TZOFFSETTO:+0200
TZNAME:Europe/Paris CEST
END:DAYLIGHT
BEGIN:DAYLIGHT
DTSTART:20250330T030000
RDATE:20251026T020000
TZOFFSETFROM:+0100
TZOFFSETTO:+0200
TZNAME:Europe/Paris CEST
END:DAYLIGHT
BEGIN:DAYLIGHT
DTSTART:20260329T030000
RDATE:20261025T020000
TZOFFSETFROM:+0100
TZOFFSETTO:+0200
TZNAME:Europe/Paris CEST
END:DAYLIGHT
END:VTIMEZONE
BEGIN:VEVENT
UID:67e02e46e1766eeb082ca37ac96d03de
CATEGORIES:Circuit Alsace Jeunes (alpin)
CREATED:20160302T191142
SUMMARY:CAJ  U8 à U10 / U12 à U14    Mémorial Olivier Kling
URL;VALUE=URI:https://skivosges.net/agenda/a-venir/detailevenement/619/-/caj-u8-a-u10-u12
 -a-u14-memorial-olivier-kling?tmpl=component
DESCRIPTION:CAJ  U8 à U10 / U12 à U14    Mémorial Olivier Kling \n(Coupe d'Alsace Jeune
 s)\n\nLieu : LE TANET\nOrganisateur : SKIEURS DU TANET (14199 SKIEURS DU TA
 NET)\nTelecopie : 0603812468\n\nInscriptions closes, tirage des dossards en
  cours\n - AMVM0471  Slalom Geant (Micro Coupe) U8/U10 Garçons\n  CAJ  U8 à
  U10 / U12 à U14    Mémorial Olivier Kling\n - AMVM0472  Slalom Geant (Coup
 e de Bronze) U12/U14 Garçons\n  CAJ  U8 à U10 / U12 à U14    Mémorial Olivi
 er Kling\n - AMVF0471  Slalom Geant (Micro Coupe) U8/U10 Filles\n  CAJ  U8 
 à U10 / U12 à U14    Mémorial Olivier Kling\n - AMVF0472  Slalom Geant (Cou
 pe de Bronze) U12/U14 Filles\n  CAJ  U8 à U10 / U12 à U14    Mémorial Olivi
 er Kling Cet évènement a été importé depuis :https://skivosges.net/agenda/a
 -venir/detailevenement/619/-/caj-u8-a-u10-u12-a-u14-memorial-olivier-kling?
 tmpl=component
X-ALT-DESC;FMTTYPE=text/html:<strong>CAJ  U8 à U10 / U12 à U14    Mémorial Olivier Kling</strong> <br />
 <i>(Coupe d'Alsace Jeunes)</i><br /><br />Lieu : LE TANET<br />Organisateur
  : SKIEURS DU TANET <small>(14199 SKIEURS DU TANET)</small><br />Telecopie 
 : 0603812468<br /><br />Inscriptions closes, tirage des dossards en cours<u
 l type="disc"><li>AMVM0471  Slalom Geant <nobr><i>(Micro Coupe)</i></nobr> 
 <nobr>U8/U10</nobr> Garçons<br />&nbsp;&nbsp;CAJ  U8 à U10 / U12 à U14    M
 émorial Olivier Kling</li><li>AMVM0472  Slalom Geant <nobr><i>(Coupe de Bro
 nze)</i></nobr> <nobr>U12/U14</nobr> Garçons<br />&nbsp;&nbsp;CAJ  U8 à U10
  / U12 à U14    Mémorial Olivier Kling</li><li>AMVF0471  Slalom Geant <nobr
 ><i>(Micro Coupe)</i></nobr> <nobr>U8/U10</nobr> Filles<br />&nbsp;&nbsp;CA
 J  U8 à U10 / U12 à U14    Mémorial Olivier Kling</li><li>AMVF0472  Slalom 
 Geant <nobr><i>(Coupe de Bronze)</i></nobr> <nobr>U12/U14</nobr> Filles<br 
 />&nbsp;&nbsp;CAJ  U8 à U10 / U12 à U14    Mémorial Olivier Kling</li></ul>
  <a href="https://skivosges.net/agenda/a-venir/detailevenement/619/-/caj-u8
 -a-u10-u12-a-u14-memorial-olivier-kling?tmpl=component">Cet évènement a été
  importé depuis :https://skivosges.net/agenda/a-venir/detailevenement/619/-
 /caj-u8-a-u10-u12-a-u14-memorial-olivier-kling?tmpl=component</a>DTSTAMP:20260424T083654
DTSTART;TZID=Europe/Paris:20160305T080000
DTEND;TZID=Europe/Paris:20160305T170000
SEQUENCE:0
TRANSP:OPAQUE
END:VEVENT
END:VCALENDAR