BEGIN:VCALENDAR
VERSION:2.0
PRODID:-//jEvents 2.0 for Joomla//EN
CALSCALE:GREGORIAN
METHOD:PUBLISH
BEGIN:VTIMEZONE
TZID:Europe/Paris
BEGIN:STANDARD
DTSTART:20150306T080000
RDATE:20150329T030000
TZOFFSETFROM:+0200
TZOFFSETTO:+0100
TZNAME:Europe/Paris CET
END:STANDARD
BEGIN:STANDARD
DTSTART:20151025T020000
RDATE:20160327T030000
TZOFFSETFROM:+0200
TZOFFSETTO:+0100
TZNAME:Europe/Paris CET
END:STANDARD
BEGIN:STANDARD
DTSTART:20161030T020000
RDATE:20170326T030000
TZOFFSETFROM:+0200
TZOFFSETTO:+0100
TZNAME:Europe/Paris CET
END:STANDARD
BEGIN:STANDARD
DTSTART:20171029T020000
RDATE:20180325T030000
TZOFFSETFROM:+0200
TZOFFSETTO:+0100
TZNAME:Europe/Paris CET
END:STANDARD
BEGIN:STANDARD
DTSTART:20181028T020000
RDATE:20190331T030000
TZOFFSETFROM:+0200
TZOFFSETTO:+0100
TZNAME:Europe/Paris CET
END:STANDARD
BEGIN:STANDARD
DTSTART:20191027T020000
RDATE:20200329T030000
TZOFFSETFROM:+0200
TZOFFSETTO:+0100
TZNAME:Europe/Paris CET
END:STANDARD
BEGIN:STANDARD
DTSTART:20201025T020000
RDATE:20210328T030000
TZOFFSETFROM:+0200
TZOFFSETTO:+0100
TZNAME:Europe/Paris CET
END:STANDARD
BEGIN:STANDARD
DTSTART:20211031T020000
RDATE:20220327T030000
TZOFFSETFROM:+0200
TZOFFSETTO:+0100
TZNAME:Europe/Paris CET
END:STANDARD
BEGIN:STANDARD
DTSTART:20221030T020000
RDATE:20230326T030000
TZOFFSETFROM:+0200
TZOFFSETTO:+0100
TZNAME:Europe/Paris CET
END:STANDARD
BEGIN:STANDARD
DTSTART:20231029T020000
RDATE:20240331T030000
TZOFFSETFROM:+0200
TZOFFSETTO:+0100
TZNAME:Europe/Paris CET
END:STANDARD
BEGIN:STANDARD
DTSTART:20241027T020000
RDATE:20250330T030000
TZOFFSETFROM:+0200
TZOFFSETTO:+0100
TZNAME:Europe/Paris CET
END:STANDARD
BEGIN:STANDARD
DTSTART:20251026T020000
RDATE:20260329T030000
TZOFFSETFROM:+0200
TZOFFSETTO:+0100
TZNAME:Europe/Paris CET
END:STANDARD
BEGIN:STANDARD
DTSTART:20261025T020000
RDATE:20270328T030000
TZOFFSETFROM:+0200
TZOFFSETTO:+0100
TZNAME:Europe/Paris CET
END:STANDARD
BEGIN:DAYLIGHT
DTSTART:20150329T030000
RDATE:20151025T020000
TZOFFSETFROM:+0100
TZOFFSETTO:+0200
TZNAME:Europe/Paris CEST
END:DAYLIGHT
BEGIN:DAYLIGHT
DTSTART:20160327T030000
RDATE:20161030T020000
TZOFFSETFROM:+0100
TZOFFSETTO:+0200
TZNAME:Europe/Paris CEST
END:DAYLIGHT
BEGIN:DAYLIGHT
DTSTART:20170326T030000
RDATE:20171029T020000
TZOFFSETFROM:+0100
TZOFFSETTO:+0200
TZNAME:Europe/Paris CEST
END:DAYLIGHT
BEGIN:DAYLIGHT
DTSTART:20180325T030000
RDATE:20181028T020000
TZOFFSETFROM:+0100
TZOFFSETTO:+0200
TZNAME:Europe/Paris CEST
END:DAYLIGHT
BEGIN:DAYLIGHT
DTSTART:20190331T030000
RDATE:20191027T020000
TZOFFSETFROM:+0100
TZOFFSETTO:+0200
TZNAME:Europe/Paris CEST
END:DAYLIGHT
BEGIN:DAYLIGHT
DTSTART:20200329T030000
RDATE:20201025T020000
TZOFFSETFROM:+0100
TZOFFSETTO:+0200
TZNAME:Europe/Paris CEST
END:DAYLIGHT
BEGIN:DAYLIGHT
DTSTART:20210328T030000
RDATE:20211031T020000
TZOFFSETFROM:+0100
TZOFFSETTO:+0200
TZNAME:Europe/Paris CEST
END:DAYLIGHT
BEGIN:DAYLIGHT
DTSTART:20220327T030000
RDATE:20221030T020000
TZOFFSETFROM:+0100
TZOFFSETTO:+0200
TZNAME:Europe/Paris CEST
END:DAYLIGHT
BEGIN:DAYLIGHT
DTSTART:20230326T030000
RDATE:20231029T020000
TZOFFSETFROM:+0100
TZOFFSETTO:+0200
TZNAME:Europe/Paris CEST
END:DAYLIGHT
BEGIN:DAYLIGHT
DTSTART:20240331T030000
RDATE:20241027T020000
TZOFFSETFROM:+0100
TZOFFSETTO:+0200
TZNAME:Europe/Paris CEST
END:DAYLIGHT
BEGIN:DAYLIGHT
DTSTART:20250330T030000
RDATE:20251026T020000
TZOFFSETFROM:+0100
TZOFFSETTO:+0200
TZNAME:Europe/Paris CEST
END:DAYLIGHT
BEGIN:DAYLIGHT
DTSTART:20260329T030000
RDATE:20261025T020000
TZOFFSETFROM:+0100
TZOFFSETTO:+0200
TZNAME:Europe/Paris CEST
END:DAYLIGHT
END:VTIMEZONE
BEGIN:VEVENT
UID:ec743d9b5085901d906ecb32c0def097
CATEGORIES:Circuit Massif Adultes (alpin)
CREATED:20160302T191143
SUMMARY:GPA   U16 à Masters G. Prix Domaine Welty J-Michel
URL;VALUE=URI:https://skivosges.net/agenda/a-venir/detailevenement/620/-/gpa-u16-a-master
 s-g-prix-domaine-welty-j-michel?tmpl=component
DESCRIPTION:GPA   U16 à Masters G. Prix Domaine Welty J-Michel \n(Grand Prix Adultes)\n
 \nLieu : MARKSTEIN\nOrganisateur : S.C VALLEE DE WESSERLING (14186 S.C VALL
 EE DE WESSERLING)\nTelecopie : 03 89 82 78 08\n\nDépart à 12H30 - Slalom - 
 Distribution dossards au restaurant Wolf à partir de 11H jusqu´à 12H.\nForf
 ait tarif compétiteur caisse au bas de la Fédérale. \n\nInscriptions en cou
 rs sur ce site\n - AMVM0251  Slalom (Courses FFS) U16 a Masters Hommes\n  G
 PA   U16 à Masters G. Prix Domaine Welty J-Michel\n - AMVF0251  Slalom (Cou
 rses FFS) U16 a Masters Dames\n  GPA   U16 à Masters G. Prix Domaine Welty 
 J-Michel Cet évènement a été importé depuis :https://skivosges.net/agenda/a
 -venir/detailevenement/620/-/gpa-u16-a-masters-g-prix-domaine-welty-j-miche
 l?tmpl=component
X-ALT-DESC;FMTTYPE=text/html:<strong>GPA   U16 à Masters G. Prix Domaine Welty J-Michel</strong> <br /><
 i>(Grand Prix Adultes)</i><br /><br />Lieu : MARKSTEIN<br />Organisateur : 
 S.C VALLEE DE WESSERLING <small>(14186 S.C VALLEE DE WESSERLING)</small><br
  />Telecopie : 03 89 82 78 08<br /><br />Départ à 12H30 - Slalom - Distribu
 tion dossards au restaurant Wolf à partir de 11H jusqu´à 12H.<br>Forfait ta
 rif compétiteur caisse au bas de la Fédérale. <br /><br />Inscriptions en c
 ours sur ce site<ul type="disc"><li>AMVM0251  Slalom <nobr><i>(Courses FFS)
 </i></nobr> <nobr>U16 a Masters</nobr> Hommes<br />&nbsp;&nbsp;GPA   U16 à 
 Masters G. Prix Domaine Welty J-Michel</li><li>AMVF0251  Slalom <nobr><i>(C
 ourses FFS)</i></nobr> <nobr>U16 a Masters</nobr> Dames<br />&nbsp;&nbsp;GP
 A   U16 à Masters G. Prix Domaine Welty J-Michel</li></ul> <a href="https:/
 /skivosges.net/agenda/a-venir/detailevenement/620/-/gpa-u16-a-masters-g-pri
 x-domaine-welty-j-michel?tmpl=component">Cet évènement a été importé depuis
  :https://skivosges.net/agenda/a-venir/detailevenement/620/-/gpa-u16-a-mast
 ers-g-prix-domaine-welty-j-michel?tmpl=component</a>DTSTAMP:20260424T073901
DTSTART;TZID=Europe/Paris:20160306T080000
DTEND;TZID=Europe/Paris:20160306T170000
SEQUENCE:0
TRANSP:OPAQUE
END:VEVENT
END:VCALENDAR